| Back to Multiple platform build/check report for BioC 3.11 |
|
This page was generated on 2020-10-17 11:56:07 -0400 (Sat, 17 Oct 2020).
| TO THE DEVELOPERS/MAINTAINERS OF THE basecallQC PACKAGE: Please make sure to use the following settings in order to reproduce any error or warning you see on this page. |
| Package 112/1905 | Hostname | OS / Arch | INSTALL | BUILD | CHECK | BUILD BIN | ||||||
| basecallQC 1.12.0 Thomas Carroll
| malbec2 | Linux (Ubuntu 18.04.4 LTS) / x86_64 | OK | OK | OK | |||||||
| tokay2 | Windows Server 2012 R2 Standard / x64 | OK | OK | OK | [ OK ] | |||||||
| machv2 | macOS 10.14.6 Mojave / x86_64 | OK | OK | OK | OK |
| Package: basecallQC |
| Version: 1.12.0 |
| Command: rm -rf basecallQC.buildbin-libdir && mkdir basecallQC.buildbin-libdir && C:\Users\biocbuild\bbs-3.11-bioc\R\bin\R.exe CMD INSTALL --merge-multiarch --build --library=basecallQC.buildbin-libdir basecallQC_1.12.0.tar.gz |
| StartedAt: 2020-10-17 09:52:44 -0400 (Sat, 17 Oct 2020) |
| EndedAt: 2020-10-17 09:53:40 -0400 (Sat, 17 Oct 2020) |
| EllapsedTime: 56.3 seconds |
| RetCode: 0 |
| Status: OK |
| PackageFile: basecallQC_1.12.0.zip |
| PackageFileSize: 1.147 MiB |
##############################################################################
##############################################################################
###
### Running command:
###
### rm -rf basecallQC.buildbin-libdir && mkdir basecallQC.buildbin-libdir && C:\Users\biocbuild\bbs-3.11-bioc\R\bin\R.exe CMD INSTALL --merge-multiarch --build --library=basecallQC.buildbin-libdir basecallQC_1.12.0.tar.gz
###
##############################################################################
##############################################################################
install for i386
* installing *source* package 'basecallQC' ...
** using staged installation
** R
** inst
** byte-compile and prepare package for lazy loading
** help
*** installing help indices
converting help for package 'basecallQC'
finding HTML links ... done
BCL2FastQparams html
baseCallMetrics html
basecallQC html
createBCLcommand html
createBasemasks html
demultiplexMetrics html
demuxBarplot html
demuxBoxplot html
indexlengths html
interOpsReport html
makeFQTable html
passFilterBar html
passFilterBoxplot html
passFilterTileplot html
readlengths html
reportBCL html
summaryConvStatsTable html
summaryDemuxTable html
validateBCLSheet html
** building package indices
** installing vignettes
** testing if installed package can be loaded from temporary location
** testing if installed package can be loaded from final location
** testing if installed package keeps a record of temporary installation path
install for x64
* installing *source* package 'basecallQC' ...
** testing if installed package can be loaded
* MD5 sums
packaged installation of 'basecallQC' as basecallQC_1.12.0.zip
* DONE (basecallQC)