| Back to Multiple platform build/check report for BioC 3.11 | 
  | 
This page was generated on 2020-01-16 13:31:38 -0500 (Thu, 16 Jan 2020).
| Package 79/1818 | Hostname | OS / Arch | INSTALL | BUILD | CHECK | BUILD BIN | ||||||
| arrayMvout 1.45.0 V. Carey 
  | malbec2 | Linux (Ubuntu 18.04.3 LTS) / x86_64 | OK | OK | OK | |||||||
| tokay2 | Windows Server 2012 R2 Standard / x64 | OK | OK | OK | OK | |||||||
| celaya2 | OS X 10.11.6 El Capitan / x86_64 | OK | OK | OK | [ OK ] | 
| Package: arrayMvout | 
| Version: 1.45.0 | 
| Command: rm -rf arrayMvout.buildbin-libdir && mkdir arrayMvout.buildbin-libdir && /Users/biocbuild/BBS/utils/build-universal.sh arrayMvout_1.45.0.tar.gz /Library/Frameworks/R.framework/Versions/Current/Resources/bin/R arrayMvout.buildbin-libdir | 
| StartedAt: 2020-01-16 10:26:59 -0500 (Thu, 16 Jan 2020) | 
| EndedAt: 2020-01-16 10:28:06 -0500 (Thu, 16 Jan 2020) | 
| EllapsedTime: 67.4 seconds | 
| RetCode: 0 | 
| Status: OK | 
| PackageFile: arrayMvout_1.45.0.tgz | 
| PackageFileSize: 723.9 KiB | 
############################################################################## ############################################################################## ### ### Running command: ### ### rm -rf arrayMvout.buildbin-libdir && mkdir arrayMvout.buildbin-libdir && /Users/biocbuild/BBS/utils/build-universal.sh arrayMvout_1.45.0.tar.gz /Library/Frameworks/R.framework/Versions/Current/Resources/bin/R arrayMvout.buildbin-libdir ### ############################################################################## ############################################################################## >>>>>>> >>>>>>> INSTALLATION WITH 'R CMD INSTALL --preclean --no-multiarch --library=arrayMvout.buildbin-libdir arrayMvout_1.45.0.tar.gz' >>>>>>> * installing *source* package ‘arrayMvout’ ... ** using staged installation ** R ** data ** inst ** byte-compile and prepare package for lazy loading No methods found in package ‘RSQLite’ for request: ‘dbListFields’ when loading ‘lumi’ ** help *** installing help indices ** building package indices ** installing vignettes ** testing if installed package can be loaded from temporary location No methods found in package ‘RSQLite’ for request: ‘dbListFields’ when loading ‘lumi’ ** testing if installed package can be loaded from final location No methods found in package ‘RSQLite’ for request: ‘dbListFields’ when loading ‘lumi’ ** testing if installed package keeps a record of temporary installation path * DONE (arrayMvout)