| Back to Multiple platform build/check report for BioC 3.11 |
|
This page was generated on 2020-10-17 11:56:05 -0400 (Sat, 17 Oct 2020).
| TO THE DEVELOPERS/MAINTAINERS OF THE apComplex PACKAGE: Please make sure to use the following settings in order to reproduce any error or warning you see on this page. |
| Package 74/1905 | Hostname | OS / Arch | INSTALL | BUILD | CHECK | BUILD BIN | ||||||
| apComplex 2.54.0 Denise Scholtens
| malbec2 | Linux (Ubuntu 18.04.4 LTS) / x86_64 | OK | OK | OK | |||||||
| tokay2 | Windows Server 2012 R2 Standard / x64 | [ OK ] | OK | OK | OK | |||||||
| machv2 | macOS 10.14.6 Mojave / x86_64 | OK | OK | OK | OK |
| Package: apComplex |
| Version: 2.54.0 |
| Command: C:\cygwin\bin\curl.exe -O https://malbec2.bioconductor.org/BBS/3.11/bioc/src/contrib/apComplex_2.54.0.tar.gz && rm -rf apComplex.buildbin-libdir && mkdir apComplex.buildbin-libdir && C:\Users\biocbuild\bbs-3.11-bioc\R\bin\R.exe CMD INSTALL --merge-multiarch --build --library=apComplex.buildbin-libdir apComplex_2.54.0.tar.gz && C:\Users\biocbuild\bbs-3.11-bioc\R\bin\R.exe CMD INSTALL apComplex_2.54.0.zip && rm apComplex_2.54.0.tar.gz apComplex_2.54.0.zip |
| StartedAt: 2020-10-16 18:12:23 -0400 (Fri, 16 Oct 2020) |
| EndedAt: 2020-10-16 18:13:01 -0400 (Fri, 16 Oct 2020) |
| EllapsedTime: 38.4 seconds |
| RetCode: 0 |
| Status: OK |
##############################################################################
##############################################################################
###
### Running command:
###
### C:\cygwin\bin\curl.exe -O https://malbec2.bioconductor.org/BBS/3.11/bioc/src/contrib/apComplex_2.54.0.tar.gz && rm -rf apComplex.buildbin-libdir && mkdir apComplex.buildbin-libdir && C:\Users\biocbuild\bbs-3.11-bioc\R\bin\R.exe CMD INSTALL --merge-multiarch --build --library=apComplex.buildbin-libdir apComplex_2.54.0.tar.gz && C:\Users\biocbuild\bbs-3.11-bioc\R\bin\R.exe CMD INSTALL apComplex_2.54.0.zip && rm apComplex_2.54.0.tar.gz apComplex_2.54.0.zip
###
##############################################################################
##############################################################################
% Total % Received % Xferd Average Speed Time Time Time Current
Dload Upload Total Spent Left Speed
0 0 0 0 0 0 0 0 --:--:-- --:--:-- --:--:-- 0
100 471k 100 471k 0 0 7172k 0 --:--:-- --:--:-- --:--:-- 7992k
install for i386
* installing *source* package 'apComplex' ...
** using staged installation
** R
** data
** byte-compile and prepare package for lazy loading
** help
*** installing help indices
converting help for package 'apComplex'
finding HTML links ... done
FilteredEstimates html
HMSPCI html
Krogan html
LCjoin html
MBMEcHMSPCI html
MBMEcKrogan html
MBMEcTAP html
TAP html
apEX html
bhmaxSubgraph html
findComplexes html
gavinBP2006 html
kroganBPMat2006 html
mergeComplexes html
plotComplex html
sortComplexes html
yNameTAP html
yTAP html
** building package indices
** installing vignettes
** testing if installed package can be loaded from temporary location
** testing if installed package can be loaded from final location
** testing if installed package keeps a record of temporary installation path
install for x64
* installing *source* package 'apComplex' ...
** testing if installed package can be loaded
* MD5 sums
packaged installation of 'apComplex' as apComplex_2.54.0.zip
* DONE (apComplex)
* installing to library 'C:/Users/biocbuild/bbs-3.11-bioc/R/library'
package 'apComplex' successfully unpacked and MD5 sums checked