| Back to Multiple platform build/check report for BioC 3.11 |
|
This page was generated on 2020-10-17 11:56:03 -0400 (Sat, 17 Oct 2020).
| TO THE DEVELOPERS/MAINTAINERS OF THE agilp PACKAGE: Please make sure to use the following settings in order to reproduce any error or warning you see on this page. |
| Package 38/1905 | Hostname | OS / Arch | INSTALL | BUILD | CHECK | BUILD BIN | ||||||
| agilp 3.20.0 Benny Chain
| malbec2 | Linux (Ubuntu 18.04.4 LTS) / x86_64 | OK | OK | OK | |||||||
| tokay2 | Windows Server 2012 R2 Standard / x64 | OK | OK | OK | [ OK ] | |||||||
| machv2 | macOS 10.14.6 Mojave / x86_64 | OK | OK | OK | OK |
| Package: agilp |
| Version: 3.20.0 |
| Command: rm -rf agilp.buildbin-libdir && mkdir agilp.buildbin-libdir && C:\Users\biocbuild\bbs-3.11-bioc\R\bin\R.exe CMD INSTALL --merge-multiarch --build --library=agilp.buildbin-libdir agilp_3.20.0.tar.gz |
| StartedAt: 2020-10-17 09:47:23 -0400 (Sat, 17 Oct 2020) |
| EndedAt: 2020-10-17 09:48:01 -0400 (Sat, 17 Oct 2020) |
| EllapsedTime: 37.6 seconds |
| RetCode: 0 |
| Status: OK |
| PackageFile: agilp_3.20.0.zip |
| PackageFileSize: 463.7 KiB |
##############################################################################
##############################################################################
###
### Running command:
###
### rm -rf agilp.buildbin-libdir && mkdir agilp.buildbin-libdir && C:\Users\biocbuild\bbs-3.11-bioc\R\bin\R.exe CMD INSTALL --merge-multiarch --build --library=agilp.buildbin-libdir agilp_3.20.0.tar.gz
###
##############################################################################
##############################################################################
install for i386
* installing *source* package 'agilp' ...
** using staged installation
** R
** inst
** byte-compile and prepare package for lazy loading
** help
*** installing help indices
converting help for package 'agilp'
finding HTML links ... done
AALoess html
AAProcess html
Baseline html
Equaliser html
IDswop html
Loader html
filenamex html
** building package indices
** installing vignettes
** testing if installed package can be loaded from temporary location
** testing if installed package can be loaded from final location
** testing if installed package keeps a record of temporary installation path
install for x64
* installing *source* package 'agilp' ...
** testing if installed package can be loaded
* MD5 sums
packaged installation of 'agilp' as agilp_3.20.0.zip
* DONE (agilp)