| Back to Multiple platform build/check report for BioC 3.11 | 
 | 
This page was generated on 2020-10-17 11:56:02 -0400 (Sat, 17 Oct 2020).
| TO THE DEVELOPERS/MAINTAINERS OF THE a4 PACKAGE: Please make sure to use the following settings in order to reproduce any error or warning you see on this page. | 
| Package 1/1905 | Hostname | OS / Arch | INSTALL | BUILD | CHECK | BUILD BIN | ||||||
| a4 1.36.0 Tobias Verbeke 
 | malbec2 | Linux (Ubuntu 18.04.4 LTS) / x86_64 | OK | OK | WARNINGS |  | ||||||
| tokay2 | Windows Server 2012 R2 Standard / x64 | OK | OK | WARNINGS | [ OK ] |  | ||||||
| machv2 | macOS 10.14.6 Mojave / x86_64 | OK | OK | WARNINGS | OK |  | 
| Package: a4 | 
| Version: 1.36.0 | 
| Command: rm -rf a4.buildbin-libdir && mkdir a4.buildbin-libdir && C:\Users\biocbuild\bbs-3.11-bioc\R\bin\R.exe CMD INSTALL --merge-multiarch --build --library=a4.buildbin-libdir a4_1.36.0.tar.gz | 
| StartedAt: 2020-10-17 09:44:40 -0400 (Sat, 17 Oct 2020) | 
| EndedAt: 2020-10-17 09:45:33 -0400 (Sat, 17 Oct 2020) | 
| EllapsedTime: 53.5 seconds | 
| RetCode: 0 | 
| Status: OK | 
| PackageFile: a4_1.36.0.zip | 
| PackageFileSize: 1.055 MiB | 
############################################################################## ############################################################################## ### ### Running command: ### ### rm -rf a4.buildbin-libdir && mkdir a4.buildbin-libdir && C:\Users\biocbuild\bbs-3.11-bioc\R\bin\R.exe CMD INSTALL --merge-multiarch --build --library=a4.buildbin-libdir a4_1.36.0.tar.gz ### ############################################################################## ############################################################################## install for i386 * installing *source* package 'a4' ... ** using staged installation ** R ** inst ** byte-compile and prepare package for lazy loading Warning message: Package 'KEGG.db' is deprecated and will be removed from Bioconductor version 3.12 ** help No man pages found in package 'a4' *** installing help indices ** building package indices ** installing vignettes ** testing if installed package can be loaded from temporary location Warning: Package 'KEGG.db' is deprecated and will be removed from Bioconductor version 3.12 ** testing if installed package can be loaded from final location Warning: Package 'KEGG.db' is deprecated and will be removed from Bioconductor version 3.12 ** testing if installed package keeps a record of temporary installation path install for x64 * installing *source* package 'a4' ... ** testing if installed package can be loaded Warning: Package 'KEGG.db' is deprecated and will be removed from Bioconductor version 3.12 * MD5 sums packaged installation of 'a4' as a4_1.36.0.zip * DONE (a4)