| Back to Multiple platform build/check report for BioC 3.11 | 
 | 
This page was generated on 2020-10-17 11:59:49 -0400 (Sat, 17 Oct 2020).
| TO THE DEVELOPERS/MAINTAINERS OF THE Trendy PACKAGE: Please make sure to use the following settings in order to reproduce any error or warning you see on this page. | 
| Package 1832/1905 | Hostname | OS / Arch | INSTALL | BUILD | CHECK | BUILD BIN | ||||||
| Trendy 1.10.0 Rhonda Bacher 
 | malbec2 | Linux (Ubuntu 18.04.4 LTS) / x86_64 | OK | OK | OK |  | ||||||
| tokay2 | Windows Server 2012 R2 Standard / x64 | OK | OK | OK | NA | |||||||
| machv2 | macOS 10.14.6 Mojave / x86_64 | OK | OK | OK | [ OK ] |  | 
| Package: Trendy | 
| Version: 1.10.0 | 
| Command: rm -rf Trendy.buildbin-libdir && mkdir Trendy.buildbin-libdir && /Users/biocbuild/BBS/utils/build-universal.sh Trendy_1.10.0.tar.gz /Library/Frameworks/R.framework/Versions/Current/Resources/bin/R Trendy.buildbin-libdir | 
| StartedAt: 2020-10-17 08:08:33 -0400 (Sat, 17 Oct 2020) | 
| EndedAt: 2020-10-17 08:09:02 -0400 (Sat, 17 Oct 2020) | 
| EllapsedTime: 28.9 seconds | 
| RetCode: 0 | 
| Status: OK | 
| PackageFile: Trendy_1.10.0.tgz | 
| PackageFileSize: 737.7 KiB | 
############################################################################## ############################################################################## ### ### Running command: ### ### rm -rf Trendy.buildbin-libdir && mkdir Trendy.buildbin-libdir && /Users/biocbuild/BBS/utils/build-universal.sh Trendy_1.10.0.tar.gz /Library/Frameworks/R.framework/Versions/Current/Resources/bin/R Trendy.buildbin-libdir ### ############################################################################## ############################################################################## >>>>>>> >>>>>>> INSTALLATION WITH 'R CMD INSTALL --preclean --no-multiarch --library=Trendy.buildbin-libdir Trendy_1.10.0.tar.gz' >>>>>>> * installing *source* package ‘Trendy’ ... ** using staged installation ** R ** data *** moving datasets to lazyload DB ** inst ** byte-compile and prepare package for lazy loading ** help *** installing help indices ** building package indices ** installing vignettes ** testing if installed package can be loaded from temporary location ** testing if installed package can be loaded from final location ** testing if installed package keeps a record of temporary installation path * DONE (Trendy)