Back to Multiple platform build/check report for BioC 3.11
ABCDEFGHIJKLMNOPQRS[T]UVWXYZ

BUILD BIN report for TTMap on tokay2

This page was generated on 2020-10-16 11:59:06 -0400 (Fri, 16 Oct 2020).

TO THE DEVELOPERS/MAINTAINERS OF THE TTMap PACKAGE: Please make sure to use the following settings in order to reproduce any error or warning you see on this page.
Package 1845/1905HostnameOS / ArchINSTALLBUILDCHECKBUILD BIN
TTMap 1.10.0
Rachel Jeitziner
Snapshot Date: 2020-10-15 14:40:03 -0400 (Thu, 15 Oct 2020)
URL: https://git.bioconductor.org/packages/TTMap
Branch: RELEASE_3_11
Last Commit: b7b99f6
Last Changed Date: 2020-04-27 15:13:36 -0400 (Mon, 27 Apr 2020)
malbec2 Linux (Ubuntu 18.04.4 LTS) / x86_64  OK  OK  OK UNNEEDED, same version exists in internal repository
tokay2 Windows Server 2012 R2 Standard / x64  OK  OK  OK [ OK ]UNNEEDED, same version exists in internal repository
machv2 macOS 10.14.6 Mojave / x86_64  OK  OK  WARNINGS  OK UNNEEDED, same version exists in internal repository

Summary

Package: TTMap
Version: 1.10.0
Command: rm -rf TTMap.buildbin-libdir && mkdir TTMap.buildbin-libdir && C:\Users\biocbuild\bbs-3.11-bioc\R\bin\R.exe CMD INSTALL --merge-multiarch --build --library=TTMap.buildbin-libdir TTMap_1.10.0.tar.gz
StartedAt: 2020-10-16 11:31:58 -0400 (Fri, 16 Oct 2020)
EndedAt: 2020-10-16 11:32:53 -0400 (Fri, 16 Oct 2020)
EllapsedTime: 55.2 seconds
RetCode: 0
Status:  OK  
PackageFile: TTMap_1.10.0.zip
PackageFileSize: 1.402 MiB

Command output

##############################################################################
##############################################################################
###
### Running command:
###
###   rm -rf TTMap.buildbin-libdir && mkdir TTMap.buildbin-libdir && C:\Users\biocbuild\bbs-3.11-bioc\R\bin\R.exe CMD INSTALL --merge-multiarch --build --library=TTMap.buildbin-libdir TTMap_1.10.0.tar.gz
###
##############################################################################
##############################################################################



install for i386

* installing *source* package 'TTMap' ...
** using staged installation
** R
** inst
** byte-compile and prepare package for lazy loading
** help
*** installing help indices
  converting help for package 'TTMap'
    finding HTML links ... done
    TTMap-package                           html  
    calcul_e                                html  
    control_adjustment                      html  
    generate_correlation                    html  
    hyperrectangle_deviation_assessment     html  
    make_matrices-methods                   html  
    make_matrices                           html  
    finding level-2 HTML links ... done

    ttmap                                   html  
    ttmap_sgn_genes                         html  
    write_pcl                               html  
** building package indices
** installing vignettes
** testing if installed package can be loaded from temporary location
** testing if installed package can be loaded from final location
** testing if installed package keeps a record of temporary installation path

install for x64

* installing *source* package 'TTMap' ...
** testing if installed package can be loaded
* MD5 sums
packaged installation of 'TTMap' as TTMap_1.10.0.zip
* DONE (TTMap)