| Back to Multiple platform build/check report for BioC 3.11 |
|
This page was generated on 2020-10-17 11:57:51 -0400 (Sat, 17 Oct 2020).
| TO THE DEVELOPERS/MAINTAINERS OF THE SpectralTAD PACKAGE: Please make sure to use the following settings in order to reproduce any error or warning you see on this page. |
| Package 1708/1905 | Hostname | OS / Arch | INSTALL | BUILD | CHECK | BUILD BIN | ||||||
| SpectralTAD 1.4.0 Kellen Cresswell
| malbec2 | Linux (Ubuntu 18.04.4 LTS) / x86_64 | ERROR | ERROR | skipped | |||||||
| tokay2 | Windows Server 2012 R2 Standard / x64 | [ ERROR ] | ERROR | skipped | skipped | |||||||
| machv2 | macOS 10.14.6 Mojave / x86_64 | ERROR | ERROR | skipped | skipped |
| Package: SpectralTAD |
| Version: 1.4.0 |
| Command: C:\cygwin\bin\curl.exe -O https://malbec2.bioconductor.org/BBS/3.11/bioc/src/contrib/SpectralTAD_1.4.0.tar.gz && rm -rf SpectralTAD.buildbin-libdir && mkdir SpectralTAD.buildbin-libdir && C:\Users\biocbuild\bbs-3.11-bioc\R\bin\R.exe CMD INSTALL --merge-multiarch --build --library=SpectralTAD.buildbin-libdir SpectralTAD_1.4.0.tar.gz && C:\Users\biocbuild\bbs-3.11-bioc\R\bin\R.exe CMD INSTALL SpectralTAD_1.4.0.zip && rm SpectralTAD_1.4.0.tar.gz SpectralTAD_1.4.0.zip |
| StartedAt: 2020-10-16 19:44:43 -0400 (Fri, 16 Oct 2020) |
| EndedAt: 2020-10-16 19:44:44 -0400 (Fri, 16 Oct 2020) |
| EllapsedTime: 1.6 seconds |
| RetCode: 1 |
| Status: ERROR |
##############################################################################
##############################################################################
###
### Running command:
###
### C:\cygwin\bin\curl.exe -O https://malbec2.bioconductor.org/BBS/3.11/bioc/src/contrib/SpectralTAD_1.4.0.tar.gz && rm -rf SpectralTAD.buildbin-libdir && mkdir SpectralTAD.buildbin-libdir && C:\Users\biocbuild\bbs-3.11-bioc\R\bin\R.exe CMD INSTALL --merge-multiarch --build --library=SpectralTAD.buildbin-libdir SpectralTAD_1.4.0.tar.gz && C:\Users\biocbuild\bbs-3.11-bioc\R\bin\R.exe CMD INSTALL SpectralTAD_1.4.0.zip && rm SpectralTAD_1.4.0.tar.gz SpectralTAD_1.4.0.zip
###
##############################################################################
##############################################################################
% Total % Received % Xferd Average Speed Time Time Time Current
Dload Upload Total Spent Left Speed
0 0 0 0 0 0 0 0 --:--:-- --:--:-- --:--:-- 0
0 1261k 0 0 0 0 0 0 --:--:-- --:--:-- --:--:-- 0
100 1261k 100 1261k 0 0 4272k 0 --:--:-- --:--:-- --:--:-- 4348k
install for i386
ERROR: dependency 'PRIMME' is not available for package 'SpectralTAD'
* removing 'C:/Users/biocbuild/bbs-3.11-bioc/meat/SpectralTAD.buildbin-libdir/SpectralTAD'