| Back to Multiple platform build/check report for BioC 3.11 |
|
This page was generated on 2020-10-17 11:59:38 -0400 (Sat, 17 Oct 2020).
| TO THE DEVELOPERS/MAINTAINERS OF THE SimFFPE PACKAGE: Please make sure to use the following settings in order to reproduce any error or warning you see on this page. |
| Package 1665/1905 | Hostname | OS / Arch | INSTALL | BUILD | CHECK | BUILD BIN | ||||||
| SimFFPE 1.0.0 Lanying Wei
| malbec2 | Linux (Ubuntu 18.04.4 LTS) / x86_64 | OK | OK | OK | |||||||
| tokay2 | Windows Server 2012 R2 Standard / x64 | OK | OK | WARNINGS | NA | |||||||
| machv2 | macOS 10.14.6 Mojave / x86_64 | OK | OK | OK | [ OK ] |
| Package: SimFFPE |
| Version: 1.0.0 |
| Command: rm -rf SimFFPE.buildbin-libdir && mkdir SimFFPE.buildbin-libdir && /Users/biocbuild/BBS/utils/build-universal.sh SimFFPE_1.0.0.tar.gz /Library/Frameworks/R.framework/Versions/Current/Resources/bin/R SimFFPE.buildbin-libdir |
| StartedAt: 2020-10-17 08:00:07 -0400 (Sat, 17 Oct 2020) |
| EndedAt: 2020-10-17 08:00:45 -0400 (Sat, 17 Oct 2020) |
| EllapsedTime: 37.0 seconds |
| RetCode: 0 |
| Status: OK |
| PackageFile: SimFFPE_1.0.0.tgz |
| PackageFileSize: 799.6 KiB |
############################################################################## ############################################################################## ### ### Running command: ### ### rm -rf SimFFPE.buildbin-libdir && mkdir SimFFPE.buildbin-libdir && /Users/biocbuild/BBS/utils/build-universal.sh SimFFPE_1.0.0.tar.gz /Library/Frameworks/R.framework/Versions/Current/Resources/bin/R SimFFPE.buildbin-libdir ### ############################################################################## ############################################################################## >>>>>>> >>>>>>> INSTALLATION WITH 'R CMD INSTALL --preclean --no-multiarch --library=SimFFPE.buildbin-libdir SimFFPE_1.0.0.tar.gz' >>>>>>> * installing *source* package ‘SimFFPE’ ... ** using staged installation ** R ** inst ** byte-compile and prepare package for lazy loading ** help *** installing help indices ** building package indices ** installing vignettes ** testing if installed package can be loaded from temporary location ** testing if installed package can be loaded from final location ** testing if installed package keeps a record of temporary installation path * DONE (SimFFPE)