| Back to Multiple platform build/check report for BioC 3.11 |
|
This page was generated on 2020-10-17 11:57:48 -0400 (Sat, 17 Oct 2020).
| TO THE DEVELOPERS/MAINTAINERS OF THE SigCheck PACKAGE: Please make sure to use the following settings in order to reproduce any error or warning you see on this page. |
| Package 1650/1905 | Hostname | OS / Arch | INSTALL | BUILD | CHECK | BUILD BIN | ||||||
| SigCheck 2.20.0 Rory Stark
| malbec2 | Linux (Ubuntu 18.04.4 LTS) / x86_64 | OK | OK | OK | |||||||
| tokay2 | Windows Server 2012 R2 Standard / x64 | OK | OK | [ OK ] | NA | |||||||
| machv2 | macOS 10.14.6 Mojave / x86_64 | OK | OK | OK | OK |
| Package: SigCheck |
| Version: 2.20.0 |
| Command: C:\Users\biocbuild\bbs-3.11-bioc\R\bin\R.exe CMD check --force-multiarch --install=check:SigCheck.install-out.txt --library=C:\Users\biocbuild\bbs-3.11-bioc\R\library --no-vignettes --timings SigCheck_2.20.0.tar.gz |
| StartedAt: 2020-10-17 08:17:02 -0400 (Sat, 17 Oct 2020) |
| EndedAt: 2020-10-17 08:28:22 -0400 (Sat, 17 Oct 2020) |
| EllapsedTime: 679.8 seconds |
| RetCode: 0 |
| Status: OK |
| CheckDir: SigCheck.Rcheck |
| Warnings: 0 |
##############################################################################
##############################################################################
###
### Running command:
###
### C:\Users\biocbuild\bbs-3.11-bioc\R\bin\R.exe CMD check --force-multiarch --install=check:SigCheck.install-out.txt --library=C:\Users\biocbuild\bbs-3.11-bioc\R\library --no-vignettes --timings SigCheck_2.20.0.tar.gz
###
##############################################################################
##############################################################################
* using log directory 'C:/Users/biocbuild/bbs-3.11-bioc/meat/SigCheck.Rcheck'
* using R version 4.0.3 (2020-10-10)
* using platform: x86_64-w64-mingw32 (64-bit)
* using session charset: ISO8859-1
* using option '--no-vignettes'
* checking for file 'SigCheck/DESCRIPTION' ... OK
* checking extension type ... Package
* this is package 'SigCheck' version '2.20.0'
* checking package namespace information ... OK
* checking package dependencies ... OK
* checking if this is a source package ... OK
* checking if there is a namespace ... OK
* checking for hidden files and directories ... OK
* checking for portable file names ... OK
* checking whether package 'SigCheck' can be installed ... OK
* checking installed package size ... OK
* checking package directory ... OK
* checking 'build' directory ... OK
* checking DESCRIPTION meta-information ... OK
* checking top-level files ... OK
* checking for left-over files ... OK
* checking index information ... OK
* checking package subdirectories ... OK
* checking R files for non-ASCII characters ... OK
* checking R files for syntax errors ... OK
* loading checks for arch 'i386'
** checking whether the package can be loaded ... OK
** checking whether the package can be loaded with stated dependencies ... OK
** checking whether the package can be unloaded cleanly ... OK
** checking whether the namespace can be loaded with stated dependencies ... OK
** checking whether the namespace can be unloaded cleanly ... OK
* loading checks for arch 'x64'
** checking whether the package can be loaded ... OK
** checking whether the package can be loaded with stated dependencies ... OK
** checking whether the package can be unloaded cleanly ... OK
** checking whether the namespace can be loaded with stated dependencies ... OK
** checking whether the namespace can be unloaded cleanly ... OK
* checking dependencies in R code ... OK
* checking S3 generic/method consistency ... OK
* checking replacement functions ... OK
* checking foreign function calls ... OK
* checking R code for possible problems ... NOTE
sigCheckKnown: no visible binding for global variable 'knownSignatures'
Undefined global functions or variables:
knownSignatures
* checking Rd files ... OK
* checking Rd metadata ... OK
* checking Rd cross-references ... OK
* checking for missing documentation entries ... OK
* checking for code/documentation mismatches ... OK
* checking Rd \usage sections ... OK
* checking Rd contents ... OK
* checking for unstated dependencies in examples ... OK
* checking contents of 'data' directory ... OK
* checking data for non-ASCII characters ... OK
* checking data for ASCII and uncompressed saves ... OK
* checking files in 'vignettes' ... OK
* checking examples ...
** running examples for arch 'i386' ... OK
Examples with CPU (user + system) or elapsed time > 5s
user system elapsed
sigCheckAll 104.20 7.22 111.42
sigCheckKnown 49.89 3.59 53.48
sigCheckPlot 14.69 1.17 15.86
sigCheck 12.08 1.44 14.63
sigCheckPermuted 12.03 1.03 13.07
sigCheckRandom 9.97 0.70 10.67
** running examples for arch 'x64' ... OK
Examples with CPU (user + system) or elapsed time > 5s
user system elapsed
sigCheckAll 121.08 7.06 128.14
sigCheckKnown 57.11 3.36 60.47
sigCheck 16.89 0.99 17.88
sigCheckPermuted 14.87 1.12 16.00
sigCheckPlot 13.30 1.03 14.32
sigCheckRandom 8.70 0.69 9.39
* checking for unstated dependencies in vignettes ... OK
* checking package vignettes in 'inst/doc' ... OK
* checking running R code from vignettes ... SKIPPED
* checking re-building of vignette outputs ... SKIPPED
* checking PDF version of manual ... OK
* DONE
Status: 1 NOTE
See
'C:/Users/biocbuild/bbs-3.11-bioc/meat/SigCheck.Rcheck/00check.log'
for details.
SigCheck.Rcheck/00install.out
##############################################################################
##############################################################################
###
### Running command:
###
### C:\cygwin\bin\curl.exe -O https://malbec2.bioconductor.org/BBS/3.11/bioc/src/contrib/SigCheck_2.20.0.tar.gz && rm -rf SigCheck.buildbin-libdir && mkdir SigCheck.buildbin-libdir && C:\Users\biocbuild\bbs-3.11-bioc\R\bin\R.exe CMD INSTALL --merge-multiarch --build --library=SigCheck.buildbin-libdir SigCheck_2.20.0.tar.gz && C:\Users\biocbuild\bbs-3.11-bioc\R\bin\R.exe CMD INSTALL SigCheck_2.20.0.zip && rm SigCheck_2.20.0.tar.gz SigCheck_2.20.0.zip
###
##############################################################################
##############################################################################
% Total % Received % Xferd Average Speed Time Time Time Current
Dload Upload Total Spent Left Speed
0 0 0 0 0 0 0 0 --:--:-- --:--:-- --:--:-- 0
100 110k 100 110k 0 0 1356k 0 --:--:-- --:--:-- --:--:-- 1492k
install for i386
* installing *source* package 'SigCheck' ...
** using staged installation
** R
** data
** inst
** byte-compile and prepare package for lazy loading
Creating a new generic function for 'signature' in package 'SigCheck'
** help
*** installing help indices
converting help for package 'SigCheck'
finding HTML links ... done
SigCheck-package html
finding level-2 HTML links ... done
SigCheckObject-class html
classifyResults html
knownSignatures html
nkiResults html
sigCheck html
sigCheckAll html
sigCheckKnown html
sigCheckPermuted html
sigCheckPlot html
sigCheckRandom html
** building package indices
** installing vignettes
** testing if installed package can be loaded from temporary location
** testing if installed package can be loaded from final location
** testing if installed package keeps a record of temporary installation path
install for x64
* installing *source* package 'SigCheck' ...
** testing if installed package can be loaded
* MD5 sums
packaged installation of 'SigCheck' as SigCheck_2.20.0.zip
* DONE (SigCheck)
* installing to library 'C:/Users/biocbuild/bbs-3.11-bioc/R/library'
package 'SigCheck' successfully unpacked and MD5 sums checked
|
SigCheck.Rcheck/examples_i386/SigCheck-Ex.timings
|
SigCheck.Rcheck/examples_x64/SigCheck-Ex.timings
|