| Back to Multiple platform build/check report for BioC 3.11 |
|
This page was generated on 2020-10-17 11:55:47 -0400 (Sat, 17 Oct 2020).
| TO THE DEVELOPERS/MAINTAINERS OF THE SLGI PACKAGE: Please make sure to use the following settings in order to reproduce any error or warning you see on this page. |
| Package 1681/1905 | Hostname | OS / Arch | INSTALL | BUILD | CHECK | BUILD BIN | ||||||
| SLGI 1.48.0 Nolwenn Le Meur
| malbec2 | Linux (Ubuntu 18.04.4 LTS) / x86_64 | OK | OK | [ OK ] | |||||||
| tokay2 | Windows Server 2012 R2 Standard / x64 | OK | OK | OK | NA | |||||||
| machv2 | macOS 10.14.6 Mojave / x86_64 | OK | OK | OK | OK |
| Package: SLGI |
| Version: 1.48.0 |
| Command: /home/biocbuild/bbs-3.11-bioc/R/bin/R CMD check --install=check:SLGI.install-out.txt --library=/home/biocbuild/bbs-3.11-bioc/R/library --no-vignettes --timings SLGI_1.48.0.tar.gz |
| StartedAt: 2020-10-17 05:36:16 -0400 (Sat, 17 Oct 2020) |
| EndedAt: 2020-10-17 05:39:42 -0400 (Sat, 17 Oct 2020) |
| EllapsedTime: 205.9 seconds |
| RetCode: 0 |
| Status: OK |
| CheckDir: SLGI.Rcheck |
| Warnings: 0 |
##############################################################################
##############################################################################
###
### Running command:
###
### /home/biocbuild/bbs-3.11-bioc/R/bin/R CMD check --install=check:SLGI.install-out.txt --library=/home/biocbuild/bbs-3.11-bioc/R/library --no-vignettes --timings SLGI_1.48.0.tar.gz
###
##############################################################################
##############################################################################
* using log directory ‘/home/biocbuild/bbs-3.11-bioc/meat/SLGI.Rcheck’
* using R version 4.0.3 (2020-10-10)
* using platform: x86_64-pc-linux-gnu (64-bit)
* using session charset: UTF-8
* using option ‘--no-vignettes’
* checking for file ‘SLGI/DESCRIPTION’ ... OK
* this is package ‘SLGI’ version ‘1.48.0’
* checking package namespace information ... OK
* checking package dependencies ... OK
* checking if this is a source package ... OK
* checking if there is a namespace ... OK
* checking for hidden files and directories ... OK
* checking for portable file names ... OK
* checking for sufficient/correct file permissions ... OK
* checking whether package ‘SLGI’ can be installed ... OK
* checking installed package size ... NOTE
installed size is 15.9Mb
sub-directories of 1Mb or more:
data 4.2Mb
extdata 11.3Mb
* checking package directory ... OK
* checking ‘build’ directory ... OK
* checking DESCRIPTION meta-information ... NOTE
Malformed Description field: should contain one or more complete sentences.
Packages listed in more than one of Depends, Imports, Suggests, Enhances:
‘ScISI’ ‘lattice’ ‘GO.db’
A package should be listed in only one of these fields.
* checking top-level files ... OK
* checking for left-over files ... OK
* checking index information ... OK
* checking package subdirectories ... OK
* checking R files for non-ASCII characters ... OK
* checking R files for syntax errors ... OK
* checking whether the package can be loaded ... OK
* checking whether the package can be loaded with stated dependencies ... OK
* checking whether the package can be unloaded cleanly ... OK
* checking whether the namespace can be loaded with stated dependencies ... OK
* checking whether the namespace can be unloaded cleanly ... OK
* checking dependencies in R code ... NOTE
'library' or 'require' call to ‘GO.db’ in package code.
Please use :: or requireNamespace() instead.
See section 'Suggested packages' in the 'Writing R Extensions' manual.
* checking S3 generic/method consistency ... OK
* checking replacement functions ... OK
* checking foreign function calls ... OK
* checking R code for possible problems ... OK
* checking Rd files ... OK
* checking Rd metadata ... OK
* checking Rd cross-references ... OK
* checking for missing documentation entries ... OK
* checking for code/documentation mismatches ... OK
* checking Rd \usage sections ... OK
* checking Rd contents ... OK
* checking for unstated dependencies in examples ... OK
* checking contents of ‘data’ directory ... OK
* checking data for non-ASCII characters ... OK
* checking data for ASCII and uncompressed saves ... OK
* checking files in ‘vignettes’ ... OK
* checking examples ... OK
Examples with CPU (user + system) or elapsed time > 5s
user system elapsed
iSummary 17.905 0.128 18.045
plot 7.950 0.016 7.968
compare 7.738 0.020 7.758
siResult-class 6.773 0.019 6.792
modelSLGI 5.813 0.015 5.829
* checking for unstated dependencies in vignettes ... OK
* checking package vignettes in ‘inst/doc’ ... OK
* checking running R code from vignettes ... SKIPPED
* checking re-building of vignette outputs ... SKIPPED
* checking PDF version of manual ... OK
* DONE
Status: 3 NOTEs
See
‘/home/biocbuild/bbs-3.11-bioc/meat/SLGI.Rcheck/00check.log’
for details.
SLGI.Rcheck/00install.out
############################################################################## ############################################################################## ### ### Running command: ### ### /home/biocbuild/bbs-3.11-bioc/R/bin/R CMD INSTALL SLGI ### ############################################################################## ############################################################################## * installing to library ‘/home/biocbuild/bbs-3.11-bioc/R/library’ * installing *source* package ‘SLGI’ ... ** using staged installation ** R ** data ** inst ** byte-compile and prepare package for lazy loading No methods found in package ‘Biobase’ for request: ‘listlen’ when loading ‘RpsiXML’ No methods found in package ‘annotate’ for requests: ‘pubmed’, ‘buildPubMedAbst’ when loading ‘RpsiXML’ No methods found in package ‘BiocGenerics’ for request: ‘plot’ when loading ‘SLGI’ ** help *** installing help indices ** building package indices ** installing vignettes ** testing if installed package can be loaded from temporary location No methods found in package ‘Biobase’ for request: ‘listlen’ when loading ‘RpsiXML’ No methods found in package ‘annotate’ for requests: ‘pubmed’, ‘buildPubMedAbst’ when loading ‘RpsiXML’ No methods found in package ‘BiocGenerics’ for request: ‘plot’ when loading ‘SLGI’ ** testing if installed package can be loaded from final location No methods found in package ‘Biobase’ for request: ‘listlen’ when loading ‘RpsiXML’ No methods found in package ‘annotate’ for requests: ‘pubmed’, ‘buildPubMedAbst’ when loading ‘RpsiXML’ No methods found in package ‘BiocGenerics’ for request: ‘plot’ when loading ‘SLGI’ ** testing if installed package keeps a record of temporary installation path * DONE (SLGI)
SLGI.Rcheck/SLGI-Ex.timings
| name | user | system | elapsed | |
| Atong | 0.023 | 0.007 | 0.031 | |
| AtongFnDomain | 2.656 | 0.072 | 2.728 | |
| AtongPair | 0.581 | 0.008 | 0.589 | |
| SDL | 0.004 | 0.000 | 0.004 | |
| SGA | 0.002 | 0.004 | 0.006 | |
| SGD.SL | 0.099 | 0.012 | 0.112 | |
| TFmat | 0.060 | 0.004 | 0.064 | |
| byComplex | 0.209 | 0.004 | 0.213 | |
| comemberIn | 0.482 | 0.036 | 0.518 | |
| compare | 7.738 | 0.020 | 7.758 | |
| congruence | 0.002 | 0.000 | 0.002 | |
| createSquareMatrix | 0.048 | 0.004 | 0.052 | |
| domainDist | 2.316 | 0.032 | 2.348 | |
| essglist | 0.004 | 0.004 | 0.008 | |
| getInteraction | 0.002 | 0.000 | 0.001 | |
| getSharedDomains | 0.013 | 0.000 | 0.013 | |
| getSharedInteraction | 0.001 | 0.000 | 0.001 | |
| getTestedPairs | 0.008 | 0.000 | 0.009 | |
| getUniquePairs | 0.008 | 0.004 | 0.012 | |
| gi2005 | 0.039 | 0.004 | 0.042 | |
| gi2007 | 0.106 | 0.008 | 0.114 | |
| gi2Interactome | 0.000 | 0.000 | 0.001 | |
| hyperG | 0.005 | 0.000 | 0.005 | |
| iSummary | 17.905 | 0.128 | 18.045 | |
| modelSLGI | 5.813 | 0.015 | 5.829 | |
| normInteraction | 3.785 | 0.016 | 3.801 | |
| plot | 7.950 | 0.016 | 7.968 | |
| seqMatcherAlign | 0.001 | 0.000 | 0.000 | |
| sharedBy | 2.633 | 0.039 | 2.673 | |
| sharedInt | 0.002 | 0.001 | 0.002 | |
| siResult-class | 6.773 | 0.019 | 6.792 | |
| test2Interact | 0.002 | 0.001 | 0.002 | |
| topInteraction | 2.794 | 0.012 | 2.806 | |
| twoWayTable | 3.624 | 0.035 | 3.661 | |
| withinComplex | 0.246 | 0.011 | 0.258 | |