| Back to Multiple platform build/check report for BioC 3.11 | 
 | 
This page was generated on 2020-10-17 11:59:39 -0400 (Sat, 17 Oct 2020).
| TO THE DEVELOPERS/MAINTAINERS OF THE SISPA PACKAGE: Please make sure to use the following settings in order to reproduce any error or warning you see on this page. | 
| Package 1676/1905 | Hostname | OS / Arch | INSTALL | BUILD | CHECK | BUILD BIN | ||||||
| SISPA 1.18.0 Bhakti Dwivedi 
 | malbec2 | Linux (Ubuntu 18.04.4 LTS) / x86_64 | OK | OK | WARNINGS |  | ||||||
| tokay2 | Windows Server 2012 R2 Standard / x64 | OK | OK | WARNINGS | NA | |||||||
| machv2 | macOS 10.14.6 Mojave / x86_64 | OK | OK | WARNINGS | [ OK ] |  | 
| Package: SISPA | 
| Version: 1.18.0 | 
| Command: rm -rf SISPA.buildbin-libdir && mkdir SISPA.buildbin-libdir && /Users/biocbuild/BBS/utils/build-universal.sh SISPA_1.18.0.tar.gz /Library/Frameworks/R.framework/Versions/Current/Resources/bin/R SISPA.buildbin-libdir | 
| StartedAt: 2020-10-17 08:00:36 -0400 (Sat, 17 Oct 2020) | 
| EndedAt: 2020-10-17 08:01:07 -0400 (Sat, 17 Oct 2020) | 
| EllapsedTime: 31.3 seconds | 
| RetCode: 0 | 
| Status: OK | 
| PackageFile: SISPA_1.18.0.tgz | 
| PackageFileSize: 80.61 KiB | 
############################################################################## ############################################################################## ### ### Running command: ### ### rm -rf SISPA.buildbin-libdir && mkdir SISPA.buildbin-libdir && /Users/biocbuild/BBS/utils/build-universal.sh SISPA_1.18.0.tar.gz /Library/Frameworks/R.framework/Versions/Current/Resources/bin/R SISPA.buildbin-libdir ### ############################################################################## ############################################################################## >>>>>>> >>>>>>> INSTALLATION WITH 'R CMD INSTALL --preclean --no-multiarch --library=SISPA.buildbin-libdir SISPA_1.18.0.tar.gz' >>>>>>> * installing *source* package ‘SISPA’ ... ** using staged installation ** R ** data *** moving datasets to lazyload DB ** byte-compile and prepare package for lazy loading ** help *** installing help indices ** building package indices ** installing vignettes ** testing if installed package can be loaded from temporary location ** testing if installed package can be loaded from final location ** testing if installed package keeps a record of temporary installation path * DONE (SISPA)