| Back to Multiple platform build/check report for BioC 3.11 | 
 | 
This page was generated on 2020-10-17 11:59:21 -0400 (Sat, 17 Oct 2020).
| TO THE DEVELOPERS/MAINTAINERS OF THE RchyOptimyx PACKAGE: Please make sure to use the following settings in order to reproduce any error or warning you see on this page. | 
| Package 1433/1905 | Hostname | OS / Arch | INSTALL | BUILD | CHECK | BUILD BIN | ||||||
| RchyOptimyx 2.28.0 Adrin Jalali 
 | malbec2 | Linux (Ubuntu 18.04.4 LTS) / x86_64 | OK | OK | OK |  | ||||||
| tokay2 | Windows Server 2012 R2 Standard / x64 | OK | OK | OK | OK |  | ||||||
| machv2 | macOS 10.14.6 Mojave / x86_64 | OK | OK | WARNINGS | [ OK ] |  | 
| Package: RchyOptimyx | 
| Version: 2.28.0 | 
| Command: rm -rf RchyOptimyx.buildbin-libdir && mkdir RchyOptimyx.buildbin-libdir && /Users/biocbuild/BBS/utils/build-universal.sh RchyOptimyx_2.28.0.tar.gz /Library/Frameworks/R.framework/Versions/Current/Resources/bin/R RchyOptimyx.buildbin-libdir | 
| StartedAt: 2020-10-17 07:46:54 -0400 (Sat, 17 Oct 2020) | 
| EndedAt: 2020-10-17 07:47:20 -0400 (Sat, 17 Oct 2020) | 
| EllapsedTime: 25.9 seconds | 
| RetCode: 0 | 
| Status: OK | 
| PackageFile: RchyOptimyx_2.28.0.tgz | 
| PackageFileSize: 784.1 KiB | 
##############################################################################
##############################################################################
###
### Running command:
###
###   rm -rf RchyOptimyx.buildbin-libdir && mkdir RchyOptimyx.buildbin-libdir && /Users/biocbuild/BBS/utils/build-universal.sh RchyOptimyx_2.28.0.tar.gz /Library/Frameworks/R.framework/Versions/Current/Resources/bin/R RchyOptimyx.buildbin-libdir
###
##############################################################################
##############################################################################
>>>>>>> 
>>>>>>> INSTALLATION WITH 'R CMD INSTALL --preclean --no-multiarch --library=RchyOptimyx.buildbin-libdir RchyOptimyx_2.28.0.tar.gz'
>>>>>>> 
* installing *source* package ‘RchyOptimyx’ ...
** using staged installation
** libs
clang++ -mmacosx-version-min=10.13 -std=gnu++11 -I"/Library/Frameworks/R.framework/Resources/include" -DNDEBUG   -I/usr/local/include   -fPIC  -Wall -g -O2  -c RchyOptimyx.cpp -o RchyOptimyx.o
In file included from RchyOptimyx.cpp:13:
./graehl/graph.h:75:8: warning: explicitly assigning value of variable of type 'int' to itself [-Wself-assign]
  pred = pred;                  // dummy statement to avoid warnings
  ~~~~ ^ ~~~~
In file included from RchyOptimyx.cpp:13:
In file included from ./graehl/graph.h:279:
./graehl/kbest.h:37:9: warning: explicitly assigning value of variable of type 'size_t' (aka 'unsigned long') to itself [-Wself-assign]
                dummy = dummy;
                ~~~~~ ^ ~~~~~
2 warnings generated.
clang++ -mmacosx-version-min=10.13 -std=gnu++11 -I"/Library/Frameworks/R.framework/Resources/include" -DNDEBUG   -I/usr/local/include   -fPIC  -Wall -g -O2  -c dataRead.cpp -o dataRead.o
clang++ -mmacosx-version-min=10.13 -std=gnu++11 -I"/Library/Frameworks/R.framework/Resources/include" -DNDEBUG   -I/usr/local/include   -fPIC  -Wall -g -O2  -c mystring.cpp -o mystring.o
clang++ -mmacosx-version-min=10.13 -std=gnu++11 -I"/Library/Frameworks/R.framework/Resources/include" -DNDEBUG   -I/usr/local/include   -fPIC  -Wall -g -O2  -c numberGenerator.cpp -o numberGenerator.o
clang++ -mmacosx-version-min=10.13 -std=gnu++11 -dynamiclib -Wl,-headerpad_max_install_names -undefined dynamic_lookup -single_module -multiply_defined suppress -L/Library/Frameworks/R.framework/Resources/lib -L/usr/local/lib -o RchyOptimyx.so RchyOptimyx.o dataRead.o mystring.o numberGenerator.o -F/Library/Frameworks/R.framework/.. -framework R -Wl,-framework -Wl,CoreFoundation
installing to /Users/biocbuild/bbs-3.11-bioc/meat/RchyOptimyx.buildbin-libdir/00LOCK-RchyOptimyx/00new/RchyOptimyx/libs
** R
** data
** inst
** byte-compile and prepare package for lazy loading
Creating a new generic function for ‘merge’ in package ‘RchyOptimyx’
** help
*** installing help indices
** building package indices
** installing vignettes
** testing if installed package can be loaded from temporary location
** checking absolute paths in shared objects and dynamic libraries
** testing if installed package can be loaded from final location
** testing if installed package keeps a record of temporary installation path
* DONE (RchyOptimyx)
>>>>>>> 
>>>>>>> FIXING LINKS FOR RchyOptimyx.buildbin-libdir/RchyOptimyx/libs/RchyOptimyx.so
>>>>>>> 
install_name_tool -change "/usr/local/lib/libgcc_s.1.dylib" "/Library/Frameworks/R.framework/Versions/4.0/Resources/lib/libgcc_s.1.dylib" "RchyOptimyx.buildbin-libdir/RchyOptimyx/libs/RchyOptimyx.so"
install_name_tool -change "/usr/local/lib/libgfortran.5.dylib" "/Library/Frameworks/R.framework/Versions/4.0/Resources/lib/libgfortran.5.dylib" "RchyOptimyx.buildbin-libdir/RchyOptimyx/libs/RchyOptimyx.so"
install_name_tool -change "/usr/local/lib/libquadmath.0.dylib" "/Library/Frameworks/R.framework/Versions/4.0/Resources/lib/libquadmath.0.dylib" "RchyOptimyx.buildbin-libdir/RchyOptimyx/libs/RchyOptimyx.so"