| Back to Multiple platform build/check report for BioC 3.11 | 
  | 
This page was generated on 2020-10-17 11:59:21 -0400 (Sat, 17 Oct 2020).
| TO THE DEVELOPERS/MAINTAINERS OF THE Rbowtie2 PACKAGE: Please make sure to use the following settings in order to reproduce any error or warning you see on this page. | 
| Package 1426/1905 | Hostname | OS / Arch | INSTALL | BUILD | CHECK | BUILD BIN | ||||||
| Rbowtie2 1.10.1 Zheng Wei 
  | malbec2 | Linux (Ubuntu 18.04.4 LTS) / x86_64 | OK | OK | WARNINGS | |||||||
| tokay2 | Windows Server 2012 R2 Standard / x64 | OK | OK | OK | OK | |||||||
| machv2 | macOS 10.14.6 Mojave / x86_64 | OK | OK | [ OK ] | OK | 
| Package: Rbowtie2 | 
| Version: 1.10.1 | 
| Command: /Library/Frameworks/R.framework/Versions/Current/Resources/bin/R CMD check --install=check:Rbowtie2.install-out.txt --library=/Library/Frameworks/R.framework/Versions/Current/Resources/library --no-vignettes --timings Rbowtie2_1.10.1.tar.gz | 
| StartedAt: 2020-10-17 04:22:39 -0400 (Sat, 17 Oct 2020) | 
| EndedAt: 2020-10-17 04:23:06 -0400 (Sat, 17 Oct 2020) | 
| EllapsedTime: 26.9 seconds | 
| RetCode: 0 | 
| Status: OK | 
| CheckDir: Rbowtie2.Rcheck | 
| Warnings: 0 | 
############################################################################## ############################################################################## ### ### Running command: ### ### /Library/Frameworks/R.framework/Versions/Current/Resources/bin/R CMD check --install=check:Rbowtie2.install-out.txt --library=/Library/Frameworks/R.framework/Versions/Current/Resources/library --no-vignettes --timings Rbowtie2_1.10.1.tar.gz ### ############################################################################## ############################################################################## * using log directory ‘/Users/biocbuild/bbs-3.11-bioc/meat/Rbowtie2.Rcheck’ * using R version 4.0.3 (2020-10-10) * using platform: x86_64-apple-darwin17.0 (64-bit) * using session charset: UTF-8 * using option ‘--no-vignettes’ * checking for file ‘Rbowtie2/DESCRIPTION’ ... OK * checking extension type ... Package * this is package ‘Rbowtie2’ version ‘1.10.1’ * checking package namespace information ... OK * checking package dependencies ... OK * checking if this is a source package ... OK * checking if there is a namespace ... OK * checking for hidden files and directories ... NOTE Found the following hidden files and directories: .BBSoptions These were most likely included in error. See section ‘Package structure’ in the ‘Writing R Extensions’ manual. * checking for portable file names ... OK * checking for sufficient/correct file permissions ... OK * checking whether package ‘Rbowtie2’ can be installed ... OK * checking installed package size ... OK * checking package directory ... OK * checking ‘build’ directory ... OK * checking DESCRIPTION meta-information ... OK * checking top-level files ... OK * checking for left-over files ... OK * checking index information ... OK * checking package subdirectories ... OK * checking R files for non-ASCII characters ... OK * checking R files for syntax errors ... OK * checking whether the package can be loaded ... OK * checking whether the package can be loaded with stated dependencies ... OK * checking whether the package can be unloaded cleanly ... OK * checking whether the namespace can be loaded with stated dependencies ... OK * checking whether the namespace can be unloaded cleanly ... OK * checking dependencies in R code ... OK * checking S3 generic/method consistency ... OK * checking replacement functions ... OK * checking foreign function calls ... OK * checking R code for possible problems ... OK * checking Rd files ... OK * checking Rd metadata ... OK * checking Rd cross-references ... OK * checking for missing documentation entries ... OK * checking for code/documentation mismatches ... OK * checking Rd \usage sections ... OK * checking Rd contents ... OK * checking for unstated dependencies in examples ... OK * checking line endings in C/C++/Fortran sources/headers ... OK * checking line endings in Makefiles ... OK * checking for GNU extensions in Makefiles ... OK * checking for portable use of $(BLAS_LIBS) and $(LAPACK_LIBS) ... OK * checking use of PKG_*FLAGS in Makefiles ... OK * checking include directives in Makefiles ... OK * checking compiled code ... NOTE Note: information on .o files is not available * checking files in ‘vignettes’ ... OK * checking examples ... OK * checking for unstated dependencies in vignettes ... OK * checking package vignettes in ‘inst/doc’ ... OK * checking running R code from vignettes ... SKIPPED * checking re-building of vignette outputs ... SKIPPED * checking PDF version of manual ... OK * DONE Status: 2 NOTEs See ‘/Users/biocbuild/bbs-3.11-bioc/meat/Rbowtie2.Rcheck/00check.log’ for details.
Rbowtie2.Rcheck/00install.out
##############################################################################
##############################################################################
###
### Running command:
###
###   /Library/Frameworks/R.framework/Versions/Current/Resources/bin/R CMD INSTALL Rbowtie2
###
##############################################################################
##############################################################################
* installing to library ‘/Library/Frameworks/R.framework/Versions/4.0/Resources/library’
* installing *source* package ‘Rbowtie2’ ...
** using staged installation
** libs
** arch - 
mkdir -p ../inst
(cd	adapterremoval && (make CXX="g++ -std=gnu++11" -f Makefile))
g++ -std=gnu++11 -O3 -pthread -DNDEBUG  -c adapterset.cc 
g++ -std=gnu++11 -O3 -pthread -DNDEBUG  -c alignment.cc 
g++ -std=gnu++11 -O3 -pthread -DNDEBUG  -c argparse.cc 
g++ -std=gnu++11 -O3 -pthread -DNDEBUG  -c debug.cc 
g++ -std=gnu++11 -O3 -pthread -DNDEBUG  -c demultiplex.cc 
g++ -std=gnu++11 -O3 -pthread -DNDEBUG  -c fastq.cc 
g++ -std=gnu++11 -O3 -pthread -DNDEBUG  -c fastq_enc.cc 
g++ -std=gnu++11 -O3 -pthread -DNDEBUG  -c fastq_io.cc 
g++ -std=gnu++11 -O3 -pthread -DNDEBUG  -c linereader.cc 
g++ -std=gnu++11 -O3 -pthread -DNDEBUG  -c linereader_joined.cc 
g++ -std=gnu++11 -O3 -pthread -DNDEBUG  -c main_adapter_id.cc 
g++ -std=gnu++11 -O3 -pthread -DNDEBUG  -c main_adapter_rm.cc 
g++ -std=gnu++11 -O3 -pthread -DNDEBUG  -c main_demultiplex.cc 
g++ -std=gnu++11 -O3 -pthread -DNDEBUG  -c scheduler.cc 
g++ -std=gnu++11 -O3 -pthread -DNDEBUG  -c strutils.cc 
g++ -std=gnu++11 -O3 -pthread -DNDEBUG  -c threads.cc 
g++ -std=gnu++11 -O3 -pthread -DNDEBUG  -c timer.cc 
g++ -std=gnu++11 -O3 -pthread -DNDEBUG  -c trimmed_reads.cc 
g++ -std=gnu++11 -O3 -pthread -DNDEBUG  -c userconfig.cc 
g++ -std=gnu++11 -O3 -pthread -DNDEBUG  -c main.cc 
g++ -std=gnu++11 -O3 -pthread -DNDEBUG   -o AdapterRemoval adapterset.o alignment.o argparse.o debug.o demultiplex.o fastq.o fastq_enc.o fastq_io.o linereader.o linereader_joined.o main_adapter_id.o main_adapter_rm.o main_demultiplex.o scheduler.o strutils.o threads.o timer.o trimmed_reads.o userconfig.o main.o
cp AdapterRemoval ../../inst/
(cd bowtie2 && (make CXX="g++" -f Makefile))
g++ -O3 -m64 -msse2 -funroll-loops -g3 -Wall -DCOMPILER_OPTIONS="\"-O3 -m64 -msse2 -funroll-loops -g3 -DPOPCNT_CAPABILITY\"" -DPOPCNT_CAPABILITY -fno-strict-aliasing -DBOWTIE2_VERSION="\"2.3.2\"" -DBUILD_HOST="\"Rbowtie2\"" -DBUILD_TIME="\"2017\"" -DCOMPILER_VERSION="\"C++11\"" -D_LARGEFILE_SOURCE -D_FILE_OFFSET_BITS=64 -D_GNU_SOURCE -DBOWTIE_MM  -DBOWTIE2 -DNDEBUG -I third_party -pthread    -c -o bt2_build.o bt2_build.cpp
g++ -O3 -m64 -msse2 -funroll-loops -g3 -Wall -DCOMPILER_OPTIONS="\"-O3 -m64 -msse2 -funroll-loops -g3 -DPOPCNT_CAPABILITY\"" -DPOPCNT_CAPABILITY -fno-strict-aliasing -DBOWTIE2_VERSION="\"2.3.2\"" -DBUILD_HOST="\"Rbowtie2\"" -DBUILD_TIME="\"2017\"" -DCOMPILER_VERSION="\"C++11\"" -D_LARGEFILE_SOURCE -D_FILE_OFFSET_BITS=64 -D_GNU_SOURCE -DBOWTIE_MM  -DBOWTIE2 -DNDEBUG -I third_party -pthread    -c -o ccnt_lut.o ccnt_lut.cpp
g++ -O3 -m64 -msse2 -funroll-loops -g3 -Wall -DCOMPILER_OPTIONS="\"-O3 -m64 -msse2 -funroll-loops -g3 -DPOPCNT_CAPABILITY\"" -DPOPCNT_CAPABILITY -fno-strict-aliasing -DBOWTIE2_VERSION="\"2.3.2\"" -DBUILD_HOST="\"Rbowtie2\"" -DBUILD_TIME="\"2017\"" -DCOMPILER_VERSION="\"C++11\"" -D_LARGEFILE_SOURCE -D_FILE_OFFSET_BITS=64 -D_GNU_SOURCE -DBOWTIE_MM  -DBOWTIE2 -DNDEBUG -I third_party -pthread    -c -o ref_read.o ref_read.cpp
g++ -O3 -m64 -msse2 -funroll-loops -g3 -Wall -DCOMPILER_OPTIONS="\"-O3 -m64 -msse2 -funroll-loops -g3 -DPOPCNT_CAPABILITY\"" -DPOPCNT_CAPABILITY -fno-strict-aliasing -DBOWTIE2_VERSION="\"2.3.2\"" -DBUILD_HOST="\"Rbowtie2\"" -DBUILD_TIME="\"2017\"" -DCOMPILER_VERSION="\"C++11\"" -D_LARGEFILE_SOURCE -D_FILE_OFFSET_BITS=64 -D_GNU_SOURCE -DBOWTIE_MM  -DBOWTIE2 -DNDEBUG -I third_party -pthread    -c -o alphabet.o alphabet.cpp
g++ -O3 -m64 -msse2 -funroll-loops -g3 -Wall -DCOMPILER_OPTIONS="\"-O3 -m64 -msse2 -funroll-loops -g3 -DPOPCNT_CAPABILITY\"" -DPOPCNT_CAPABILITY -fno-strict-aliasing -DBOWTIE2_VERSION="\"2.3.2\"" -DBUILD_HOST="\"Rbowtie2\"" -DBUILD_TIME="\"2017\"" -DCOMPILER_VERSION="\"C++11\"" -D_LARGEFILE_SOURCE -D_FILE_OFFSET_BITS=64 -D_GNU_SOURCE -DBOWTIE_MM  -DBOWTIE2 -DNDEBUG -I third_party -pthread    -c -o shmem.o shmem.cpp
g++ -O3 -m64 -msse2 -funroll-loops -g3 -Wall -DCOMPILER_OPTIONS="\"-O3 -m64 -msse2 -funroll-loops -g3 -DPOPCNT_CAPABILITY\"" -DPOPCNT_CAPABILITY -fno-strict-aliasing -DBOWTIE2_VERSION="\"2.3.2\"" -DBUILD_HOST="\"Rbowtie2\"" -DBUILD_TIME="\"2017\"" -DCOMPILER_VERSION="\"C++11\"" -D_LARGEFILE_SOURCE -D_FILE_OFFSET_BITS=64 -D_GNU_SOURCE -DBOWTIE_MM  -DBOWTIE2 -DNDEBUG -I third_party -pthread    -c -o edit.o edit.cpp
g++ -O3 -m64 -msse2 -funroll-loops -g3 -Wall -DCOMPILER_OPTIONS="\"-O3 -m64 -msse2 -funroll-loops -g3 -DPOPCNT_CAPABILITY\"" -DPOPCNT_CAPABILITY -fno-strict-aliasing -DBOWTIE2_VERSION="\"2.3.2\"" -DBUILD_HOST="\"Rbowtie2\"" -DBUILD_TIME="\"2017\"" -DCOMPILER_VERSION="\"C++11\"" -D_LARGEFILE_SOURCE -D_FILE_OFFSET_BITS=64 -D_GNU_SOURCE -DBOWTIE_MM  -DBOWTIE2 -DNDEBUG -I third_party -pthread    -c -o bt2_idx.o bt2_idx.cpp
g++ -O3 -m64 -msse2 -funroll-loops -g3 -Wall -DCOMPILER_OPTIONS="\"-O3 -m64 -msse2 -funroll-loops -g3 -DPOPCNT_CAPABILITY\"" -DPOPCNT_CAPABILITY -fno-strict-aliasing -DBOWTIE2_VERSION="\"2.3.2\"" -DBUILD_HOST="\"Rbowtie2\"" -DBUILD_TIME="\"2017\"" -DCOMPILER_VERSION="\"C++11\"" -D_LARGEFILE_SOURCE -D_FILE_OFFSET_BITS=64 -D_GNU_SOURCE -DBOWTIE_MM  -DBOWTIE2 -DNDEBUG -I third_party -pthread    -c -o bt2_io.o bt2_io.cpp
g++ -O3 -m64 -msse2 -funroll-loops -g3 -Wall -DCOMPILER_OPTIONS="\"-O3 -m64 -msse2 -funroll-loops -g3 -DPOPCNT_CAPABILITY\"" -DPOPCNT_CAPABILITY -fno-strict-aliasing -DBOWTIE2_VERSION="\"2.3.2\"" -DBUILD_HOST="\"Rbowtie2\"" -DBUILD_TIME="\"2017\"" -DCOMPILER_VERSION="\"C++11\"" -D_LARGEFILE_SOURCE -D_FILE_OFFSET_BITS=64 -D_GNU_SOURCE -DBOWTIE_MM  -DBOWTIE2 -DNDEBUG -I third_party -pthread    -c -o bt2_util.o bt2_util.cpp
g++ -O3 -m64 -msse2 -funroll-loops -g3 -Wall -DCOMPILER_OPTIONS="\"-O3 -m64 -msse2 -funroll-loops -g3 -DPOPCNT_CAPABILITY\"" -DPOPCNT_CAPABILITY -fno-strict-aliasing -DBOWTIE2_VERSION="\"2.3.2\"" -DBUILD_HOST="\"Rbowtie2\"" -DBUILD_TIME="\"2017\"" -DCOMPILER_VERSION="\"C++11\"" -D_LARGEFILE_SOURCE -D_FILE_OFFSET_BITS=64 -D_GNU_SOURCE -DBOWTIE_MM  -DBOWTIE2 -DNDEBUG -I third_party -pthread    -c -o reference.o reference.cpp
g++ -O3 -m64 -msse2 -funroll-loops -g3 -Wall -DCOMPILER_OPTIONS="\"-O3 -m64 -msse2 -funroll-loops -g3 -DPOPCNT_CAPABILITY\"" -DPOPCNT_CAPABILITY -fno-strict-aliasing -DBOWTIE2_VERSION="\"2.3.2\"" -DBUILD_HOST="\"Rbowtie2\"" -DBUILD_TIME="\"2017\"" -DCOMPILER_VERSION="\"C++11\"" -D_LARGEFILE_SOURCE -D_FILE_OFFSET_BITS=64 -D_GNU_SOURCE -DBOWTIE_MM  -DBOWTIE2 -DNDEBUG -I third_party -pthread    -c -o ds.o ds.cpp
g++ -O3 -m64 -msse2 -funroll-loops -g3 -Wall -DCOMPILER_OPTIONS="\"-O3 -m64 -msse2 -funroll-loops -g3 -DPOPCNT_CAPABILITY\"" -DPOPCNT_CAPABILITY -fno-strict-aliasing -DBOWTIE2_VERSION="\"2.3.2\"" -DBUILD_HOST="\"Rbowtie2\"" -DBUILD_TIME="\"2017\"" -DCOMPILER_VERSION="\"C++11\"" -D_LARGEFILE_SOURCE -D_FILE_OFFSET_BITS=64 -D_GNU_SOURCE -DBOWTIE_MM  -DBOWTIE2 -DNDEBUG -I third_party -pthread    -c -o multikey_qsort.o multikey_qsort.cpp
g++ -O3 -m64 -msse2 -funroll-loops -g3 -Wall -DCOMPILER_OPTIONS="\"-O3 -m64 -msse2 -funroll-loops -g3 -DPOPCNT_CAPABILITY\"" -DPOPCNT_CAPABILITY -fno-strict-aliasing -DBOWTIE2_VERSION="\"2.3.2\"" -DBUILD_HOST="\"Rbowtie2\"" -DBUILD_TIME="\"2017\"" -DCOMPILER_VERSION="\"C++11\"" -D_LARGEFILE_SOURCE -D_FILE_OFFSET_BITS=64 -D_GNU_SOURCE -DBOWTIE_MM  -DBOWTIE2 -DNDEBUG -I third_party -pthread    -c -o limit.o limit.cpp
g++ -O3 -m64 -msse2 -funroll-loops -g3 -Wall -DCOMPILER_OPTIONS="\"-O3 -m64 -msse2 -funroll-loops -g3 -DPOPCNT_CAPABILITY\"" -DPOPCNT_CAPABILITY -fno-strict-aliasing -DBOWTIE2_VERSION="\"2.3.2\"" -DBUILD_HOST="\"Rbowtie2\"" -DBUILD_TIME="\"2017\"" -DCOMPILER_VERSION="\"C++11\"" -D_LARGEFILE_SOURCE -D_FILE_OFFSET_BITS=64 -D_GNU_SOURCE -DBOWTIE_MM  -DBOWTIE2 -DNDEBUG -I third_party -pthread    -c -o random_source.o random_source.cpp
g++ -O3 -m64 -msse2 -funroll-loops -g3 -Wall -DCOMPILER_OPTIONS="\"-O3 -m64 -msse2 -funroll-loops -g3 -DPOPCNT_CAPABILITY\"" -DPOPCNT_CAPABILITY -fno-strict-aliasing -DBOWTIE2_VERSION="\"2.3.2\"" -DBUILD_HOST="\"Rbowtie2\"" -DBUILD_TIME="\"2017\"" -DCOMPILER_VERSION="\"C++11\"" -D_LARGEFILE_SOURCE -D_FILE_OFFSET_BITS=64 -D_GNU_SOURCE -DBOWTIE_MM  -DBOWTIE2 -DNDEBUG -I third_party -pthread    -c -o tinythread.o tinythread.cpp
g++ -O3 -m64 -msse2 -funroll-loops -g3 -Wall -DCOMPILER_OPTIONS="\"-O3 -m64 -msse2 -funroll-loops -g3 -DPOPCNT_CAPABILITY\"" -DPOPCNT_CAPABILITY -fno-strict-aliasing -DBOWTIE2_VERSION="\"2.3.2\"" -DBUILD_HOST="\"Rbowtie2\"" -DBUILD_TIME="\"2017\"" -DCOMPILER_VERSION="\"C++11\"" -D_LARGEFILE_SOURCE -D_FILE_OFFSET_BITS=64 -D_GNU_SOURCE -DBOWTIE_MM  -DBOWTIE2 -DNDEBUG -I third_party -pthread    -c -o bowtie_build_main.o bowtie_build_main.cpp
g++ -O3 -m64 -msse2 -funroll-loops -g3 -Wall -DCOMPILER_OPTIONS="\"-O3 -m64 -msse2 -funroll-loops -g3 -DPOPCNT_CAPABILITY\"" -DPOPCNT_CAPABILITY -fno-strict-aliasing -DBOWTIE2_VERSION="\"2.3.2\"" -DBUILD_HOST="\"Rbowtie2\"" -DBUILD_TIME="\"2017\"" -DCOMPILER_VERSION="\"C++11\"" -D_LARGEFILE_SOURCE -D_FILE_OFFSET_BITS=64 -D_GNU_SOURCE -DBOWTIE_MM  -DBOWTIE2 -DNDEBUG -I third_party -pthread    -c -o diff_sample.o diff_sample.cpp
g++ -O3 -m64 -msse2 -funroll-loops -g3 -Wall -DCOMPILER_OPTIONS="\"-O3 -m64 -msse2 -funroll-loops -g3 -DPOPCNT_CAPABILITY\"" -DPOPCNT_CAPABILITY -fno-strict-aliasing -DBOWTIE2_VERSION="\"2.3.2\"" -DBUILD_HOST="\"Rbowtie2\"" -DBUILD_TIME="\"2017\"" -DCOMPILER_VERSION="\"C++11\"" -D_LARGEFILE_SOURCE -D_FILE_OFFSET_BITS=64 -D_GNU_SOURCE -DBOWTIE_MM  -DBOWTIE2 -DNDEBUG -I third_party -pthread   -o bowtie2-build-s bt2_build.o ccnt_lut.o ref_read.o alphabet.o shmem.o edit.o bt2_idx.o bt2_io.o bt2_util.o reference.o ds.o multikey_qsort.o limit.o random_source.o tinythread.o bowtie_build_main.o diff_sample.o
g++ -O3 -m64 -msse2 -funroll-loops -g3 -Wall -DCOMPILER_OPTIONS="\"-O3 -m64 -msse2 -funroll-loops -g3 -DPOPCNT_CAPABILITY\"" -DPOPCNT_CAPABILITY -fno-strict-aliasing -DBOWTIE2_VERSION="\"2.3.2\"" -DBUILD_HOST="\"Rbowtie2\"" -DBUILD_TIME="\"2017\"" -DCOMPILER_VERSION="\"C++11\"" -D_LARGEFILE_SOURCE -D_FILE_OFFSET_BITS=64 -D_GNU_SOURCE -DBOWTIE_MM  -DBOWTIE2 -DNDEBUG -I third_party -pthread    -c -o bt2_search.o bt2_search.cpp
In file included from bt2_search.cpp:21:
In file included from /Library/Developer/CommandLineTools/usr/include/c++/v1/iostream:38:
In file included from /Library/Developer/CommandLineTools/usr/include/c++/v1/ios:216:
In file included from /Library/Developer/CommandLineTools/usr/include/c++/v1/__locale:15:
In file included from /Library/Developer/CommandLineTools/usr/include/c++/v1/string:500:
In file included from /Library/Developer/CommandLineTools/usr/include/c++/v1/string_view:176:
In file included from /Library/Developer/CommandLineTools/usr/include/c++/v1/__string:56:
In file included from /Library/Developer/CommandLineTools/usr/include/c++/v1/algorithm:644:
/Library/Developer/CommandLineTools/usr/include/c++/v1/memory:2096:52: warning: delete called on non-final 'PatternSourcePerThreadFactory' that has virtual functions but non-virtual destructor [-Wdelete-non-virtual-dtor]
    _LIBCPP_INLINE_VISIBILITY ~auto_ptr() throw() {delete __ptr_;}
                                                   ^
bt2_search.cpp:2840:42: note: in instantiation of member function 'std::__1::auto_ptr<PatternSourcePerThreadFactory>::~auto_ptr' requested here
        auto_ptr<PatternSourcePerThreadFactory> patsrcFact(createPatsrcFactory(patsrc, pp, tid));
                                                ^
1 warning generated.
g++ -O3 -m64 -msse2 -funroll-loops -g3 -Wall -DCOMPILER_OPTIONS="\"-O3 -m64 -msse2 -funroll-loops -g3 -DPOPCNT_CAPABILITY\"" -DPOPCNT_CAPABILITY -fno-strict-aliasing -DBOWTIE2_VERSION="\"2.3.2\"" -DBUILD_HOST="\"Rbowtie2\"" -DBUILD_TIME="\"2017\"" -DCOMPILER_VERSION="\"C++11\"" -D_LARGEFILE_SOURCE -D_FILE_OFFSET_BITS=64 -D_GNU_SOURCE -DBOWTIE_MM  -DBOWTIE2 -DNDEBUG -I third_party -pthread    -c -o qual.o qual.cpp
g++ -O3 -m64 -msse2 -funroll-loops -g3 -Wall -DCOMPILER_OPTIONS="\"-O3 -m64 -msse2 -funroll-loops -g3 -DPOPCNT_CAPABILITY\"" -DPOPCNT_CAPABILITY -fno-strict-aliasing -DBOWTIE2_VERSION="\"2.3.2\"" -DBUILD_HOST="\"Rbowtie2\"" -DBUILD_TIME="\"2017\"" -DCOMPILER_VERSION="\"C++11\"" -D_LARGEFILE_SOURCE -D_FILE_OFFSET_BITS=64 -D_GNU_SOURCE -DBOWTIE_MM  -DBOWTIE2 -DNDEBUG -I third_party -pthread    -c -o pat.o pat.cpp
g++ -O3 -m64 -msse2 -funroll-loops -g3 -Wall -DCOMPILER_OPTIONS="\"-O3 -m64 -msse2 -funroll-loops -g3 -DPOPCNT_CAPABILITY\"" -DPOPCNT_CAPABILITY -fno-strict-aliasing -DBOWTIE2_VERSION="\"2.3.2\"" -DBUILD_HOST="\"Rbowtie2\"" -DBUILD_TIME="\"2017\"" -DCOMPILER_VERSION="\"C++11\"" -D_LARGEFILE_SOURCE -D_FILE_OFFSET_BITS=64 -D_GNU_SOURCE -DBOWTIE_MM  -DBOWTIE2 -DNDEBUG -I third_party -pthread    -c -o sam.o sam.cpp
g++ -O3 -m64 -msse2 -funroll-loops -g3 -Wall -DCOMPILER_OPTIONS="\"-O3 -m64 -msse2 -funroll-loops -g3 -DPOPCNT_CAPABILITY\"" -DPOPCNT_CAPABILITY -fno-strict-aliasing -DBOWTIE2_VERSION="\"2.3.2\"" -DBUILD_HOST="\"Rbowtie2\"" -DBUILD_TIME="\"2017\"" -DCOMPILER_VERSION="\"C++11\"" -D_LARGEFILE_SOURCE -D_FILE_OFFSET_BITS=64 -D_GNU_SOURCE -DBOWTIE_MM  -DBOWTIE2 -DNDEBUG -I third_party -pthread    -c -o read_qseq.o read_qseq.cpp
g++ -O3 -m64 -msse2 -funroll-loops -g3 -Wall -DCOMPILER_OPTIONS="\"-O3 -m64 -msse2 -funroll-loops -g3 -DPOPCNT_CAPABILITY\"" -DPOPCNT_CAPABILITY -fno-strict-aliasing -DBOWTIE2_VERSION="\"2.3.2\"" -DBUILD_HOST="\"Rbowtie2\"" -DBUILD_TIME="\"2017\"" -DCOMPILER_VERSION="\"C++11\"" -D_LARGEFILE_SOURCE -D_FILE_OFFSET_BITS=64 -D_GNU_SOURCE -DBOWTIE_MM  -DBOWTIE2 -DNDEBUG -I third_party -pthread    -c -o aligner_seed_policy.o aligner_seed_policy.cpp
g++ -O3 -m64 -msse2 -funroll-loops -g3 -Wall -DCOMPILER_OPTIONS="\"-O3 -m64 -msse2 -funroll-loops -g3 -DPOPCNT_CAPABILITY\"" -DPOPCNT_CAPABILITY -fno-strict-aliasing -DBOWTIE2_VERSION="\"2.3.2\"" -DBUILD_HOST="\"Rbowtie2\"" -DBUILD_TIME="\"2017\"" -DCOMPILER_VERSION="\"C++11\"" -D_LARGEFILE_SOURCE -D_FILE_OFFSET_BITS=64 -D_GNU_SOURCE -DBOWTIE_MM  -DBOWTIE2 -DNDEBUG -I third_party -pthread    -c -o aligner_seed.o aligner_seed.cpp
g++ -O3 -m64 -msse2 -funroll-loops -g3 -Wall -DCOMPILER_OPTIONS="\"-O3 -m64 -msse2 -funroll-loops -g3 -DPOPCNT_CAPABILITY\"" -DPOPCNT_CAPABILITY -fno-strict-aliasing -DBOWTIE2_VERSION="\"2.3.2\"" -DBUILD_HOST="\"Rbowtie2\"" -DBUILD_TIME="\"2017\"" -DCOMPILER_VERSION="\"C++11\"" -D_LARGEFILE_SOURCE -D_FILE_OFFSET_BITS=64 -D_GNU_SOURCE -DBOWTIE_MM  -DBOWTIE2 -DNDEBUG -I third_party -pthread    -c -o aligner_seed2.o aligner_seed2.cpp
g++ -O3 -m64 -msse2 -funroll-loops -g3 -Wall -DCOMPILER_OPTIONS="\"-O3 -m64 -msse2 -funroll-loops -g3 -DPOPCNT_CAPABILITY\"" -DPOPCNT_CAPABILITY -fno-strict-aliasing -DBOWTIE2_VERSION="\"2.3.2\"" -DBUILD_HOST="\"Rbowtie2\"" -DBUILD_TIME="\"2017\"" -DCOMPILER_VERSION="\"C++11\"" -D_LARGEFILE_SOURCE -D_FILE_OFFSET_BITS=64 -D_GNU_SOURCE -DBOWTIE_MM  -DBOWTIE2 -DNDEBUG -I third_party -pthread    -c -o aligner_sw.o aligner_sw.cpp
g++ -O3 -m64 -msse2 -funroll-loops -g3 -Wall -DCOMPILER_OPTIONS="\"-O3 -m64 -msse2 -funroll-loops -g3 -DPOPCNT_CAPABILITY\"" -DPOPCNT_CAPABILITY -fno-strict-aliasing -DBOWTIE2_VERSION="\"2.3.2\"" -DBUILD_HOST="\"Rbowtie2\"" -DBUILD_TIME="\"2017\"" -DCOMPILER_VERSION="\"C++11\"" -D_LARGEFILE_SOURCE -D_FILE_OFFSET_BITS=64 -D_GNU_SOURCE -DBOWTIE_MM  -DBOWTIE2 -DNDEBUG -I third_party -pthread    -c -o aligner_sw_driver.o aligner_sw_driver.cpp
g++ -O3 -m64 -msse2 -funroll-loops -g3 -Wall -DCOMPILER_OPTIONS="\"-O3 -m64 -msse2 -funroll-loops -g3 -DPOPCNT_CAPABILITY\"" -DPOPCNT_CAPABILITY -fno-strict-aliasing -DBOWTIE2_VERSION="\"2.3.2\"" -DBUILD_HOST="\"Rbowtie2\"" -DBUILD_TIME="\"2017\"" -DCOMPILER_VERSION="\"C++11\"" -D_LARGEFILE_SOURCE -D_FILE_OFFSET_BITS=64 -D_GNU_SOURCE -DBOWTIE_MM  -DBOWTIE2 -DNDEBUG -I third_party -pthread    -c -o aligner_cache.o aligner_cache.cpp
g++ -O3 -m64 -msse2 -funroll-loops -g3 -Wall -DCOMPILER_OPTIONS="\"-O3 -m64 -msse2 -funroll-loops -g3 -DPOPCNT_CAPABILITY\"" -DPOPCNT_CAPABILITY -fno-strict-aliasing -DBOWTIE2_VERSION="\"2.3.2\"" -DBUILD_HOST="\"Rbowtie2\"" -DBUILD_TIME="\"2017\"" -DCOMPILER_VERSION="\"C++11\"" -D_LARGEFILE_SOURCE -D_FILE_OFFSET_BITS=64 -D_GNU_SOURCE -DBOWTIE_MM  -DBOWTIE2 -DNDEBUG -I third_party -pthread    -c -o aligner_result.o aligner_result.cpp
g++ -O3 -m64 -msse2 -funroll-loops -g3 -Wall -DCOMPILER_OPTIONS="\"-O3 -m64 -msse2 -funroll-loops -g3 -DPOPCNT_CAPABILITY\"" -DPOPCNT_CAPABILITY -fno-strict-aliasing -DBOWTIE2_VERSION="\"2.3.2\"" -DBUILD_HOST="\"Rbowtie2\"" -DBUILD_TIME="\"2017\"" -DCOMPILER_VERSION="\"C++11\"" -D_LARGEFILE_SOURCE -D_FILE_OFFSET_BITS=64 -D_GNU_SOURCE -DBOWTIE_MM  -DBOWTIE2 -DNDEBUG -I third_party -pthread    -c -o ref_coord.o ref_coord.cpp
g++ -O3 -m64 -msse2 -funroll-loops -g3 -Wall -DCOMPILER_OPTIONS="\"-O3 -m64 -msse2 -funroll-loops -g3 -DPOPCNT_CAPABILITY\"" -DPOPCNT_CAPABILITY -fno-strict-aliasing -DBOWTIE2_VERSION="\"2.3.2\"" -DBUILD_HOST="\"Rbowtie2\"" -DBUILD_TIME="\"2017\"" -DCOMPILER_VERSION="\"C++11\"" -D_LARGEFILE_SOURCE -D_FILE_OFFSET_BITS=64 -D_GNU_SOURCE -DBOWTIE_MM  -DBOWTIE2 -DNDEBUG -I third_party -pthread    -c -o mask.o mask.cpp
g++ -O3 -m64 -msse2 -funroll-loops -g3 -Wall -DCOMPILER_OPTIONS="\"-O3 -m64 -msse2 -funroll-loops -g3 -DPOPCNT_CAPABILITY\"" -DPOPCNT_CAPABILITY -fno-strict-aliasing -DBOWTIE2_VERSION="\"2.3.2\"" -DBUILD_HOST="\"Rbowtie2\"" -DBUILD_TIME="\"2017\"" -DCOMPILER_VERSION="\"C++11\"" -D_LARGEFILE_SOURCE -D_FILE_OFFSET_BITS=64 -D_GNU_SOURCE -DBOWTIE_MM  -DBOWTIE2 -DNDEBUG -I third_party -pthread    -c -o pe.o pe.cpp
g++ -O3 -m64 -msse2 -funroll-loops -g3 -Wall -DCOMPILER_OPTIONS="\"-O3 -m64 -msse2 -funroll-loops -g3 -DPOPCNT_CAPABILITY\"" -DPOPCNT_CAPABILITY -fno-strict-aliasing -DBOWTIE2_VERSION="\"2.3.2\"" -DBUILD_HOST="\"Rbowtie2\"" -DBUILD_TIME="\"2017\"" -DCOMPILER_VERSION="\"C++11\"" -D_LARGEFILE_SOURCE -D_FILE_OFFSET_BITS=64 -D_GNU_SOURCE -DBOWTIE_MM  -DBOWTIE2 -DNDEBUG -I third_party -pthread    -c -o aln_sink.o aln_sink.cpp
g++ -O3 -m64 -msse2 -funroll-loops -g3 -Wall -DCOMPILER_OPTIONS="\"-O3 -m64 -msse2 -funroll-loops -g3 -DPOPCNT_CAPABILITY\"" -DPOPCNT_CAPABILITY -fno-strict-aliasing -DBOWTIE2_VERSION="\"2.3.2\"" -DBUILD_HOST="\"Rbowtie2\"" -DBUILD_TIME="\"2017\"" -DCOMPILER_VERSION="\"C++11\"" -D_LARGEFILE_SOURCE -D_FILE_OFFSET_BITS=64 -D_GNU_SOURCE -DBOWTIE_MM  -DBOWTIE2 -DNDEBUG -I third_party -pthread    -c -o dp_framer.o dp_framer.cpp
g++ -O3 -m64 -msse2 -funroll-loops -g3 -Wall -DCOMPILER_OPTIONS="\"-O3 -m64 -msse2 -funroll-loops -g3 -DPOPCNT_CAPABILITY\"" -DPOPCNT_CAPABILITY -fno-strict-aliasing -DBOWTIE2_VERSION="\"2.3.2\"" -DBUILD_HOST="\"Rbowtie2\"" -DBUILD_TIME="\"2017\"" -DCOMPILER_VERSION="\"C++11\"" -D_LARGEFILE_SOURCE -D_FILE_OFFSET_BITS=64 -D_GNU_SOURCE -DBOWTIE_MM  -DBOWTIE2 -DNDEBUG -I third_party -pthread    -c -o scoring.o scoring.cpp
g++ -O3 -m64 -msse2 -funroll-loops -g3 -Wall -DCOMPILER_OPTIONS="\"-O3 -m64 -msse2 -funroll-loops -g3 -DPOPCNT_CAPABILITY\"" -DPOPCNT_CAPABILITY -fno-strict-aliasing -DBOWTIE2_VERSION="\"2.3.2\"" -DBUILD_HOST="\"Rbowtie2\"" -DBUILD_TIME="\"2017\"" -DCOMPILER_VERSION="\"C++11\"" -D_LARGEFILE_SOURCE -D_FILE_OFFSET_BITS=64 -D_GNU_SOURCE -DBOWTIE_MM  -DBOWTIE2 -DNDEBUG -I third_party -pthread    -c -o presets.o presets.cpp
g++ -O3 -m64 -msse2 -funroll-loops -g3 -Wall -DCOMPILER_OPTIONS="\"-O3 -m64 -msse2 -funroll-loops -g3 -DPOPCNT_CAPABILITY\"" -DPOPCNT_CAPABILITY -fno-strict-aliasing -DBOWTIE2_VERSION="\"2.3.2\"" -DBUILD_HOST="\"Rbowtie2\"" -DBUILD_TIME="\"2017\"" -DCOMPILER_VERSION="\"C++11\"" -D_LARGEFILE_SOURCE -D_FILE_OFFSET_BITS=64 -D_GNU_SOURCE -DBOWTIE_MM  -DBOWTIE2 -DNDEBUG -I third_party -pthread    -c -o unique.o unique.cpp
g++ -O3 -m64 -msse2 -funroll-loops -g3 -Wall -DCOMPILER_OPTIONS="\"-O3 -m64 -msse2 -funroll-loops -g3 -DPOPCNT_CAPABILITY\"" -DPOPCNT_CAPABILITY -fno-strict-aliasing -DBOWTIE2_VERSION="\"2.3.2\"" -DBUILD_HOST="\"Rbowtie2\"" -DBUILD_TIME="\"2017\"" -DCOMPILER_VERSION="\"C++11\"" -D_LARGEFILE_SOURCE -D_FILE_OFFSET_BITS=64 -D_GNU_SOURCE -DBOWTIE_MM  -DBOWTIE2 -DNDEBUG -I third_party -pthread    -c -o simple_func.o simple_func.cpp
g++ -O3 -m64 -msse2 -funroll-loops -g3 -Wall -DCOMPILER_OPTIONS="\"-O3 -m64 -msse2 -funroll-loops -g3 -DPOPCNT_CAPABILITY\"" -DPOPCNT_CAPABILITY -fno-strict-aliasing -DBOWTIE2_VERSION="\"2.3.2\"" -DBUILD_HOST="\"Rbowtie2\"" -DBUILD_TIME="\"2017\"" -DCOMPILER_VERSION="\"C++11\"" -D_LARGEFILE_SOURCE -D_FILE_OFFSET_BITS=64 -D_GNU_SOURCE -DBOWTIE_MM  -DBOWTIE2 -DNDEBUG -I third_party -pthread    -c -o random_util.o random_util.cpp
g++ -O3 -m64 -msse2 -funroll-loops -g3 -Wall -DCOMPILER_OPTIONS="\"-O3 -m64 -msse2 -funroll-loops -g3 -DPOPCNT_CAPABILITY\"" -DPOPCNT_CAPABILITY -fno-strict-aliasing -DBOWTIE2_VERSION="\"2.3.2\"" -DBUILD_HOST="\"Rbowtie2\"" -DBUILD_TIME="\"2017\"" -DCOMPILER_VERSION="\"C++11\"" -D_LARGEFILE_SOURCE -D_FILE_OFFSET_BITS=64 -D_GNU_SOURCE -DBOWTIE_MM  -DBOWTIE2 -DNDEBUG -I third_party -pthread    -c -o aligner_bt.o aligner_bt.cpp
g++ -O3 -m64 -msse2 -funroll-loops -g3 -Wall -DCOMPILER_OPTIONS="\"-O3 -m64 -msse2 -funroll-loops -g3 -DPOPCNT_CAPABILITY\"" -DPOPCNT_CAPABILITY -fno-strict-aliasing -DBOWTIE2_VERSION="\"2.3.2\"" -DBUILD_HOST="\"Rbowtie2\"" -DBUILD_TIME="\"2017\"" -DCOMPILER_VERSION="\"C++11\"" -D_LARGEFILE_SOURCE -D_FILE_OFFSET_BITS=64 -D_GNU_SOURCE -DBOWTIE_MM  -DBOWTIE2 -DNDEBUG -I third_party -pthread    -c -o sse_util.o sse_util.cpp
g++ -O3 -m64 -msse2 -funroll-loops -g3 -Wall -DCOMPILER_OPTIONS="\"-O3 -m64 -msse2 -funroll-loops -g3 -DPOPCNT_CAPABILITY\"" -DPOPCNT_CAPABILITY -fno-strict-aliasing -DBOWTIE2_VERSION="\"2.3.2\"" -DBUILD_HOST="\"Rbowtie2\"" -DBUILD_TIME="\"2017\"" -DCOMPILER_VERSION="\"C++11\"" -D_LARGEFILE_SOURCE -D_FILE_OFFSET_BITS=64 -D_GNU_SOURCE -DBOWTIE_MM  -DBOWTIE2 -DNDEBUG -I third_party -pthread    -c -o aligner_swsse.o aligner_swsse.cpp
g++ -O3 -m64 -msse2 -funroll-loops -g3 -Wall -DCOMPILER_OPTIONS="\"-O3 -m64 -msse2 -funroll-loops -g3 -DPOPCNT_CAPABILITY\"" -DPOPCNT_CAPABILITY -fno-strict-aliasing -DBOWTIE2_VERSION="\"2.3.2\"" -DBUILD_HOST="\"Rbowtie2\"" -DBUILD_TIME="\"2017\"" -DCOMPILER_VERSION="\"C++11\"" -D_LARGEFILE_SOURCE -D_FILE_OFFSET_BITS=64 -D_GNU_SOURCE -DBOWTIE_MM  -DBOWTIE2 -DNDEBUG -I third_party -pthread    -c -o outq.o outq.cpp
g++ -O3 -m64 -msse2 -funroll-loops -g3 -Wall -DCOMPILER_OPTIONS="\"-O3 -m64 -msse2 -funroll-loops -g3 -DPOPCNT_CAPABILITY\"" -DPOPCNT_CAPABILITY -fno-strict-aliasing -DBOWTIE2_VERSION="\"2.3.2\"" -DBUILD_HOST="\"Rbowtie2\"" -DBUILD_TIME="\"2017\"" -DCOMPILER_VERSION="\"C++11\"" -D_LARGEFILE_SOURCE -D_FILE_OFFSET_BITS=64 -D_GNU_SOURCE -DBOWTIE_MM  -DBOWTIE2 -DNDEBUG -I third_party -pthread    -c -o aligner_swsse_loc_i16.o aligner_swsse_loc_i16.cpp
g++ -O3 -m64 -msse2 -funroll-loops -g3 -Wall -DCOMPILER_OPTIONS="\"-O3 -m64 -msse2 -funroll-loops -g3 -DPOPCNT_CAPABILITY\"" -DPOPCNT_CAPABILITY -fno-strict-aliasing -DBOWTIE2_VERSION="\"2.3.2\"" -DBUILD_HOST="\"Rbowtie2\"" -DBUILD_TIME="\"2017\"" -DCOMPILER_VERSION="\"C++11\"" -D_LARGEFILE_SOURCE -D_FILE_OFFSET_BITS=64 -D_GNU_SOURCE -DBOWTIE_MM  -DBOWTIE2 -DNDEBUG -I third_party -pthread    -c -o aligner_swsse_ee_i16.o aligner_swsse_ee_i16.cpp
g++ -O3 -m64 -msse2 -funroll-loops -g3 -Wall -DCOMPILER_OPTIONS="\"-O3 -m64 -msse2 -funroll-loops -g3 -DPOPCNT_CAPABILITY\"" -DPOPCNT_CAPABILITY -fno-strict-aliasing -DBOWTIE2_VERSION="\"2.3.2\"" -DBUILD_HOST="\"Rbowtie2\"" -DBUILD_TIME="\"2017\"" -DCOMPILER_VERSION="\"C++11\"" -D_LARGEFILE_SOURCE -D_FILE_OFFSET_BITS=64 -D_GNU_SOURCE -DBOWTIE_MM  -DBOWTIE2 -DNDEBUG -I third_party -pthread    -c -o aligner_swsse_loc_u8.o aligner_swsse_loc_u8.cpp
g++ -O3 -m64 -msse2 -funroll-loops -g3 -Wall -DCOMPILER_OPTIONS="\"-O3 -m64 -msse2 -funroll-loops -g3 -DPOPCNT_CAPABILITY\"" -DPOPCNT_CAPABILITY -fno-strict-aliasing -DBOWTIE2_VERSION="\"2.3.2\"" -DBUILD_HOST="\"Rbowtie2\"" -DBUILD_TIME="\"2017\"" -DCOMPILER_VERSION="\"C++11\"" -D_LARGEFILE_SOURCE -D_FILE_OFFSET_BITS=64 -D_GNU_SOURCE -DBOWTIE_MM  -DBOWTIE2 -DNDEBUG -I third_party -pthread    -c -o aligner_swsse_ee_u8.o aligner_swsse_ee_u8.cpp
g++ -O3 -m64 -msse2 -funroll-loops -g3 -Wall -DCOMPILER_OPTIONS="\"-O3 -m64 -msse2 -funroll-loops -g3 -DPOPCNT_CAPABILITY\"" -DPOPCNT_CAPABILITY -fno-strict-aliasing -DBOWTIE2_VERSION="\"2.3.2\"" -DBUILD_HOST="\"Rbowtie2\"" -DBUILD_TIME="\"2017\"" -DCOMPILER_VERSION="\"C++11\"" -D_LARGEFILE_SOURCE -D_FILE_OFFSET_BITS=64 -D_GNU_SOURCE -DBOWTIE_MM  -DBOWTIE2 -DNDEBUG -I third_party -pthread    -c -o aligner_driver.o aligner_driver.cpp
g++ -O3 -m64 -msse2 -funroll-loops -g3 -Wall -DCOMPILER_OPTIONS="\"-O3 -m64 -msse2 -funroll-loops -g3 -DPOPCNT_CAPABILITY\"" -DPOPCNT_CAPABILITY -fno-strict-aliasing -DBOWTIE2_VERSION="\"2.3.2\"" -DBUILD_HOST="\"Rbowtie2\"" -DBUILD_TIME="\"2017\"" -DCOMPILER_VERSION="\"C++11\"" -D_LARGEFILE_SOURCE -D_FILE_OFFSET_BITS=64 -D_GNU_SOURCE -DBOWTIE_MM  -DBOWTIE2 -DNDEBUG -I third_party -pthread    -c -o bowtie_main.o bowtie_main.cpp
g++ -O3 -m64 -msse2 -funroll-loops -g3 -Wall -DCOMPILER_OPTIONS="\"-O3 -m64 -msse2 -funroll-loops -g3 -DPOPCNT_CAPABILITY\"" -DPOPCNT_CAPABILITY -fno-strict-aliasing -DBOWTIE2_VERSION="\"2.3.2\"" -DBUILD_HOST="\"Rbowtie2\"" -DBUILD_TIME="\"2017\"" -DCOMPILER_VERSION="\"C++11\"" -D_LARGEFILE_SOURCE -D_FILE_OFFSET_BITS=64 -D_GNU_SOURCE -DBOWTIE_MM  -DBOWTIE2 -DNDEBUG -I third_party -pthread   -o bowtie2-align-s bt2_search.o qual.o pat.o sam.o read_qseq.o aligner_seed_policy.o aligner_seed.o aligner_seed2.o aligner_sw.o aligner_sw_driver.o aligner_cache.o aligner_result.o ref_coord.o mask.o pe.o aln_sink.o dp_framer.o scoring.o presets.o unique.o simple_func.o random_util.o aligner_bt.o sse_util.o aligner_swsse.o outq.o aligner_swsse_loc_i16.o aligner_swsse_ee_i16.o aligner_swsse_loc_u8.o aligner_swsse_ee_u8.o aligner_driver.o ccnt_lut.o ref_read.o alphabet.o shmem.o edit.o bt2_idx.o bt2_io.o bt2_util.o reference.o ds.o multikey_qsort.o limit.o random_source.o tinythread.o bowtie_main.o 
cp bowtie2-align-s ../../inst
cp bowtie2-build-s ../../inst
g++ -shared -fPIC -o Rbowtie2.so  version_info.cpp
installing to /Library/Frameworks/R.framework/Versions/4.0/Resources/library/00LOCK-Rbowtie2/00new/Rbowtie2/libs
** R
** inst
** byte-compile and prepare package for lazy loading
** help
*** installing help indices
** building package indices
** installing vignettes
** testing if installed package can be loaded from temporary location
** checking absolute paths in shared objects and dynamic libraries
** testing if installed package can be loaded from final location
** testing if installed package keeps a record of temporary installation path
* DONE (Rbowtie2)
Rbowtie2.Rcheck/Rbowtie2-Ex.timings
| name | user | system | elapsed | |
| adapterremoval_usage | 0.020 | 0.014 | 0.039 | |
| adapterremoval_version | 0.004 | 0.003 | 0.010 | |
| bowtie2-build | 0.631 | 0.347 | 0.681 | |
| bowtie2 | 0.667 | 0.188 | 0.422 | |
| bowtie2_build_usage | 0.005 | 0.004 | 0.011 | |
| bowtie2_usage | 0.009 | 0.007 | 0.018 | |
| bowtie2_version | 0.006 | 0.005 | 0.011 | |
| identify_adapters | 0.019 | 0.011 | 0.031 | |
| remove_adapters | 0.038 | 0.021 | 0.059 | |