| Back to Multiple platform build/check report for BioC 3.11 |
|
This page was generated on 2020-10-17 11:57:33 -0400 (Sat, 17 Oct 2020).
| TO THE DEVELOPERS/MAINTAINERS OF THE Rariant PACKAGE: Please make sure to use the following settings in order to reproduce any error or warning you see on this page. |
| Package 1419/1905 | Hostname | OS / Arch | INSTALL | BUILD | CHECK | BUILD BIN | ||||||
| Rariant 1.24.0 Julian Gehring
| malbec2 | Linux (Ubuntu 18.04.4 LTS) / x86_64 | ERROR | ERROR | skipped | |||||||
| tokay2 | Windows Server 2012 R2 Standard / x64 | ERROR | [ ERROR ] | skipped | skipped | |||||||
| machv2 | macOS 10.14.6 Mojave / x86_64 | ERROR | ERROR | skipped | skipped |
| Package: Rariant |
| Version: 1.24.0 |
| Command: chmod a+r Rariant -R && C:\Users\biocbuild\bbs-3.11-bioc\R\bin\R.exe CMD build --keep-empty-dirs --no-resave-data Rariant |
| StartedAt: 2020-10-17 00:03:44 -0400 (Sat, 17 Oct 2020) |
| EndedAt: 2020-10-17 00:04:21 -0400 (Sat, 17 Oct 2020) |
| EllapsedTime: 36.4 seconds |
| RetCode: 1 |
| Status: ERROR |
| PackageFile: Rariant_1.24.0.tar.gz |
| PackageFileSize: 5.371 MiB |
##############################################################################
##############################################################################
###
### Running command:
###
### chmod a+r Rariant -R && C:\Users\biocbuild\bbs-3.11-bioc\R\bin\R.exe CMD build --keep-empty-dirs --no-resave-data Rariant
###
##############################################################################
##############################################################################
* checking for file 'Rariant/DESCRIPTION' ... OK
* preparing 'Rariant':
* checking DESCRIPTION meta-information ... OK
* installing the package to build vignettes
-----------------------------------
* installing *source* package 'Rariant' ...
** using staged installation
** R
** inst
** byte-compile and prepare package for lazy loading
Error: object 'rbind_all' is not exported by 'namespace:dplyr'
Execution halted
ERROR: lazy loading failed for package 'Rariant'
* removing 'C:/Users/biocbuild/bbs-3.11-bioc/tmpdir/RtmpMn3oSO/Rinst67829cc14f6/Rariant'
-----------------------------------
ERROR: package installation failed