| Back to Multiple platform build/check report for BioC 3.11 |
|
This page was generated on 2020-10-17 11:57:32 -0400 (Sat, 17 Oct 2020).
| TO THE DEVELOPERS/MAINTAINERS OF THE RandomWalkRestartMH PACKAGE: Please make sure to use the following settings in order to reproduce any error or warning you see on this page. |
| Package 1414/1905 | Hostname | OS / Arch | INSTALL | BUILD | CHECK | BUILD BIN | ||||||
| RandomWalkRestartMH 1.8.0 Alberto Valdeolivas Urbelz
| malbec2 | Linux (Ubuntu 18.04.4 LTS) / x86_64 | OK | OK | OK | |||||||
| tokay2 | Windows Server 2012 R2 Standard / x64 | [ OK ] | OK | OK | OK | |||||||
| machv2 | macOS 10.14.6 Mojave / x86_64 | OK | OK | OK | OK |
| Package: RandomWalkRestartMH |
| Version: 1.8.0 |
| Command: C:\cygwin\bin\curl.exe -O https://malbec2.bioconductor.org/BBS/3.11/bioc/src/contrib/RandomWalkRestartMH_1.8.0.tar.gz && rm -rf RandomWalkRestartMH.buildbin-libdir && mkdir RandomWalkRestartMH.buildbin-libdir && C:\Users\biocbuild\bbs-3.11-bioc\R\bin\R.exe CMD INSTALL --merge-multiarch --build --library=RandomWalkRestartMH.buildbin-libdir RandomWalkRestartMH_1.8.0.tar.gz && C:\Users\biocbuild\bbs-3.11-bioc\R\bin\R.exe CMD INSTALL RandomWalkRestartMH_1.8.0.zip && rm RandomWalkRestartMH_1.8.0.tar.gz RandomWalkRestartMH_1.8.0.zip |
| StartedAt: 2020-10-16 18:10:50 -0400 (Fri, 16 Oct 2020) |
| EndedAt: 2020-10-16 18:11:48 -0400 (Fri, 16 Oct 2020) |
| EllapsedTime: 58.5 seconds |
| RetCode: 0 |
| Status: OK |
##############################################################################
##############################################################################
###
### Running command:
###
### C:\cygwin\bin\curl.exe -O https://malbec2.bioconductor.org/BBS/3.11/bioc/src/contrib/RandomWalkRestartMH_1.8.0.tar.gz && rm -rf RandomWalkRestartMH.buildbin-libdir && mkdir RandomWalkRestartMH.buildbin-libdir && C:\Users\biocbuild\bbs-3.11-bioc\R\bin\R.exe CMD INSTALL --merge-multiarch --build --library=RandomWalkRestartMH.buildbin-libdir RandomWalkRestartMH_1.8.0.tar.gz && C:\Users\biocbuild\bbs-3.11-bioc\R\bin\R.exe CMD INSTALL RandomWalkRestartMH_1.8.0.zip && rm RandomWalkRestartMH_1.8.0.tar.gz RandomWalkRestartMH_1.8.0.zip
###
##############################################################################
##############################################################################
% Total % Received % Xferd Average Speed Time Time Time Current
Dload Upload Total Spent Left Speed
0 0 0 0 0 0 0 0 --:--:-- --:--:-- --:--:-- 0
100 394k 100 394k 0 0 6547k 0 --:--:-- --:--:-- --:--:-- 7305k
install for i386
* installing *source* package 'RandomWalkRestartMH' ...
** using staged installation
** R
** data
*** moving datasets to lazyload DB
** byte-compile and prepare package for lazy loading
** help
*** installing help indices
converting help for package 'RandomWalkRestartMH'
finding HTML links ... done
Disease_Network html
GeneDiseaseRelations html
PPI_Network html
Pathway_Network html
Random.Walk.Restart.Multiplex html
Random.Walk.Restart.MultiplexHet html
compute.adjacency.matrix html
compute.transition.matrix html
create.multiplex html
create.multiplexHet html
create.multiplexHetNetwork.topResults html
create.multiplexNetwork.topResults html
isMultiplex html
isMultiplexHet html
isRWRMH_Results html
isRWRM_Results html
normalize.multiplex.adjacency html
** building package indices
** installing vignettes
** testing if installed package can be loaded from temporary location
** testing if installed package can be loaded from final location
** testing if installed package keeps a record of temporary installation path
install for x64
* installing *source* package 'RandomWalkRestartMH' ...
** testing if installed package can be loaded
* MD5 sums
packaged installation of 'RandomWalkRestartMH' as RandomWalkRestartMH_1.8.0.zip
* DONE (RandomWalkRestartMH)
* installing to library 'C:/Users/biocbuild/bbs-3.11-bioc/R/library'
package 'RandomWalkRestartMH' successfully unpacked and MD5 sums checked