| Back to Multiple platform build/check report for BioC 3.11 | 
  | 
This page was generated on 2020-10-17 11:57:41 -0400 (Sat, 17 Oct 2020).
| TO THE DEVELOPERS/MAINTAINERS OF THE RProtoBufLib PACKAGE: Please make sure to use the following settings in order to reproduce any error or warning you see on this page. | 
| Package 1530/1905 | Hostname | OS / Arch | INSTALL | BUILD | CHECK | BUILD BIN | ||||||
| RProtoBufLib 2.0.0 Mike Jiang 
  | malbec2 | Linux (Ubuntu 18.04.4 LTS) / x86_64 | OK | OK | OK | |||||||
| tokay2 | Windows Server 2012 R2 Standard / x64 | [ OK ] | OK | OK | OK | |||||||
| machv2 | macOS 10.14.6 Mojave / x86_64 | OK | OK | OK | OK | 
| Package: RProtoBufLib | 
| Version: 2.0.0 | 
| Command: C:\cygwin\bin\curl.exe -O https://malbec2.bioconductor.org/BBS/3.11/bioc/src/contrib/RProtoBufLib_2.0.0.tar.gz && rm -rf RProtoBufLib.buildbin-libdir && mkdir RProtoBufLib.buildbin-libdir && C:\Users\biocbuild\bbs-3.11-bioc\R\bin\R.exe CMD INSTALL --merge-multiarch --build --library=RProtoBufLib.buildbin-libdir RProtoBufLib_2.0.0.tar.gz && C:\Users\biocbuild\bbs-3.11-bioc\R\bin\R.exe CMD INSTALL RProtoBufLib_2.0.0.zip && rm RProtoBufLib_2.0.0.tar.gz RProtoBufLib_2.0.0.zip | 
| StartedAt: 2020-10-16 16:46:16 -0400 (Fri, 16 Oct 2020) | 
| EndedAt: 2020-10-16 16:48:07 -0400 (Fri, 16 Oct 2020) | 
| EllapsedTime: 110.9 seconds | 
| RetCode: 0 | 
| Status: OK | 
##############################################################################
##############################################################################
###
### Running command:
###
###   C:\cygwin\bin\curl.exe -O https://malbec2.bioconductor.org/BBS/3.11/bioc/src/contrib/RProtoBufLib_2.0.0.tar.gz && rm -rf RProtoBufLib.buildbin-libdir && mkdir RProtoBufLib.buildbin-libdir && C:\Users\biocbuild\bbs-3.11-bioc\R\bin\R.exe CMD INSTALL --merge-multiarch --build --library=RProtoBufLib.buildbin-libdir RProtoBufLib_2.0.0.tar.gz && C:\Users\biocbuild\bbs-3.11-bioc\R\bin\R.exe CMD INSTALL RProtoBufLib_2.0.0.zip && rm RProtoBufLib_2.0.0.tar.gz RProtoBufLib_2.0.0.zip
###
##############################################################################
##############################################################################
  % Total    % Received % Xferd  Average Speed   Time    Time     Time  Current
                                 Dload  Upload   Total   Spent    Left  Speed
  0     0    0     0    0     0      0      0 --:--:-- --:--:-- --:--:--     0
100 2202k  100 2202k    0     0  21.6M      0 --:--:-- --:--:-- --:--:-- 23.1M
install for i386
* installing *source* package 'RProtoBufLib' ...
** using staged installation
   **********************************************
   WARNING: this package has a configure script
         It probably needs manual configuration
   **********************************************
** libs
mkdir -p "C:/Users/biocbuild/bbs-3.11-bioc/meat/RProtoBufLib.buildbin-libdir/00LOCK-RProtoBufLib/00new/RProtoBufLib/include"
cp -r c:/protobuf/include/google "C:/Users/biocbuild/bbs-3.11-bioc/meat/RProtoBufLib.buildbin-libdir/00LOCK-RProtoBufLib/00new/RProtoBufLib/include"
mkdir -p "C:/Users/biocbuild/bbs-3.11-bioc/meat/RProtoBufLib.buildbin-libdir/00LOCK-RProtoBufLib/00new/RProtoBufLib/lib/i386"
cp  c:/protobuf/lib/i386/libprotobuf-lite.a "C:/Users/biocbuild/bbs-3.11-bioc/meat/RProtoBufLib.buildbin-libdir/00LOCK-RProtoBufLib/00new/RProtoBufLib/lib/i386/libprotobuf-lite.a"
"C:/rtools40/mingw32/bin/"g++ -std=gnu++11  -I"C:/Users/BIOCBU~1/BBS-3~1.11-/R/include" -DNDEBUG     -I"C:/extsoft/include"     -O2 -Wall  -mfpmath=sse -msse2 -mstackrealign -c dummy.cpp -o dummy.o
C:/rtools40/mingw32/bin/g++ -std=gnu++11 -shared -s -static-libgcc -o RProtoBufLib.dll tmp.def dummy.o -LC:/extsoft/lib/i386 -LC:/extsoft/lib -LC:/Users/BIOCBU~1/BBS-3~1.11-/R/bin/i386 -lR
installing to C:/Users/biocbuild/bbs-3.11-bioc/meat/RProtoBufLib.buildbin-libdir/00LOCK-RProtoBufLib/00new/RProtoBufLib/libs/i386
** R
** byte-compile and prepare package for lazy loading
** help
*** installing help indices
  converting help for package 'RProtoBufLib'
    finding HTML links ... done
    LdFlags                                 html  
** building package indices
** installing vignettes
** testing if installed package can be loaded from temporary location
** testing if installed package can be loaded from final location
** testing if installed package keeps a record of temporary installation path
install for x64
* installing *source* package 'RProtoBufLib' ...
   **********************************************
   WARNING: this package has a configure script
         It probably needs manual configuration
   **********************************************
** libs
mkdir -p "C:/Users/biocbuild/bbs-3.11-bioc/meat/RProtoBufLib.buildbin-libdir/RProtoBufLib/include"
cp -r c:/protobuf/include/google "C:/Users/biocbuild/bbs-3.11-bioc/meat/RProtoBufLib.buildbin-libdir/RProtoBufLib/include"
mkdir -p "C:/Users/biocbuild/bbs-3.11-bioc/meat/RProtoBufLib.buildbin-libdir/RProtoBufLib/lib/x64"
cp  c:/protobuf/lib/x64/libprotobuf-lite.a "C:/Users/biocbuild/bbs-3.11-bioc/meat/RProtoBufLib.buildbin-libdir/RProtoBufLib/lib/x64/libprotobuf-lite.a"
"C:/rtools40/mingw64/bin/"g++ -std=gnu++11  -I"C:/Users/BIOCBU~1/BBS-3~1.11-/R/include" -DNDEBUG     -I"C:/extsoft/include"     -O2 -Wall  -mfpmath=sse -msse2 -mstackrealign -c dummy.cpp -o dummy.o
C:/rtools40/mingw64/bin/g++ -std=gnu++11 -shared -s -static-libgcc -o RProtoBufLib.dll tmp.def dummy.o -LC:/extsoft/lib/x64 -LC:/extsoft/lib -LC:/Users/BIOCBU~1/BBS-3~1.11-/R/bin/x64 -lR
installing to C:/Users/biocbuild/bbs-3.11-bioc/meat/RProtoBufLib.buildbin-libdir/RProtoBufLib/libs/x64
** testing if installed package can be loaded
* MD5 sums
packaged installation of 'RProtoBufLib' as RProtoBufLib_2.0.0.zip
* DONE (RProtoBufLib)
* installing to library 'C:/Users/biocbuild/bbs-3.11-bioc/R/library'
package 'RProtoBufLib' successfully unpacked and MD5 sums checked