| Back to Multiple platform build/check report for BioC 3.11 | 
 | 
This page was generated on 2020-10-17 11:59:27 -0400 (Sat, 17 Oct 2020).
| TO THE DEVELOPERS/MAINTAINERS OF THE ROTS PACKAGE: Please make sure to use the following settings in order to reproduce any error or warning you see on this page. | 
| Package 1528/1905 | Hostname | OS / Arch | INSTALL | BUILD | CHECK | BUILD BIN | ||||||
| ROTS 1.16.0 Tomi Suomi 
 | malbec2 | Linux (Ubuntu 18.04.4 LTS) / x86_64 | OK | OK | OK |  | ||||||
| tokay2 | Windows Server 2012 R2 Standard / x64 | OK | OK | OK | OK |  | ||||||
| machv2 | macOS 10.14.6 Mojave / x86_64 | OK | [ OK ] | OK | OK |  | 
| Package: ROTS | 
| Version: 1.16.0 | 
| Command: /Library/Frameworks/R.framework/Versions/Current/Resources/bin/R CMD build --keep-empty-dirs --no-resave-data ROTS | 
| StartedAt: 2020-10-16 20:58:07 -0400 (Fri, 16 Oct 2020) | 
| EndedAt: 2020-10-16 20:58:40 -0400 (Fri, 16 Oct 2020) | 
| EllapsedTime: 33.3 seconds | 
| RetCode: 0 | 
| Status: OK | 
| PackageFile: ROTS_1.16.0.tar.gz | 
| PackageFileSize: 344.6 KiB | 
############################################################################## ############################################################################## ### ### Running command: ### ### /Library/Frameworks/R.framework/Versions/Current/Resources/bin/R CMD build --keep-empty-dirs --no-resave-data ROTS ### ############################################################################## ############################################################################## * checking for file ‘ROTS/DESCRIPTION’ ... OK * preparing ‘ROTS’: * checking DESCRIPTION meta-information ... OK * cleaning src * installing the package to build vignettes * creating vignettes ... OK * cleaning src * checking for LF line-endings in source and make files and shell scripts * checking for empty or unneeded directories * building ‘ROTS_1.16.0.tar.gz’