| Back to Multiple platform build/check report for BioC 3.11 | 
 | 
This page was generated on 2020-10-17 11:57:37 -0400 (Sat, 17 Oct 2020).
| TO THE DEVELOPERS/MAINTAINERS OF THE RGMQL PACKAGE: Please make sure to use the following settings in order to reproduce any error or warning you see on this page. | 
| Package 1475/1905 | Hostname | OS / Arch | INSTALL | BUILD | CHECK | BUILD BIN | ||||||
| RGMQL 1.8.0 Simone Pallotta 
 | malbec2 | Linux (Ubuntu 18.04.4 LTS) / x86_64 | OK | OK | OK |  | ||||||
| tokay2 | Windows Server 2012 R2 Standard / x64 | OK | OK | OK | [ OK ] |  | ||||||
| machv2 | macOS 10.14.6 Mojave / x86_64 | OK | ERROR | skipped | skipped | 
| Package: RGMQL | 
| Version: 1.8.0 | 
| Command: rm -rf RGMQL.buildbin-libdir && mkdir RGMQL.buildbin-libdir && C:\Users\biocbuild\bbs-3.11-bioc\R\bin\R.exe CMD INSTALL --merge-multiarch --build --library=RGMQL.buildbin-libdir RGMQL_1.8.0.tar.gz | 
| StartedAt: 2020-10-17 11:27:38 -0400 (Sat, 17 Oct 2020) | 
| EndedAt: 2020-10-17 11:28:45 -0400 (Sat, 17 Oct 2020) | 
| EllapsedTime: 67.2 seconds | 
| RetCode: 0 | 
| Status: OK | 
| PackageFile: RGMQL_1.8.0.zip | 
| PackageFileSize: 3.685 MiB | 
##############################################################################
##############################################################################
###
### Running command:
###
###   rm -rf RGMQL.buildbin-libdir && mkdir RGMQL.buildbin-libdir && C:\Users\biocbuild\bbs-3.11-bioc\R\bin\R.exe CMD INSTALL --merge-multiarch --build --library=RGMQL.buildbin-libdir RGMQL_1.8.0.tar.gz
###
##############################################################################
##############################################################################
install for i386
* installing *source* package 'RGMQL' ...
** using staged installation
** R
** inst
** byte-compile and prepare package for lazy loading
** help
*** installing help indices
  converting help for package 'RGMQL'
    finding HTML links ... done
    aggr-class                              html  
    aggregate                               html  
    arrange                                 html  
    collect                                 html  
    compile_query                           html  
    condition_eval_func                     html  
    cover-param-class                       html  
    cover                                   html  
    delete_dataset                          html  
    distal-class                            html  
    download_dataset                        html  
    execute                                 html  
    export_gmql                             html  
    extend                                  html  
    filter                                  html  
    filter_and_extract                      html  
    group_by                                html  
    import_gmql                             html  
    init_gmql                               html  
    log_job                                 html  
    login_gmql                              html  
    logout_gmql                             html  
    map                                     html  
    merge                                   html  
    operator-class                          html  
    ordering-class                          html  
    read-function                           html  
    register_gmql                           html  
    remote_processing                       html  
    run_query                               html  
    sample_metadata                         html  
    sample_region                           html  
    save_query                              html  
    select                                  html  
    semijoin                                html  
    setdiff                                 html  
    show_dataset                            html  
    show_jobs_list                          html  
    show_queries_list                       html  
    show_samples_list                       html  
    show_schema                             html  
    stop_gmql                               html  
    stop_job                                html  
    take                                    html  
    union                                   html  
    upload_dataset                          html  
** building package indices
** installing vignettes
** testing if installed package can be loaded from temporary location
** testing if installed package can be loaded from final location
** testing if installed package keeps a record of temporary installation path
install for x64
* installing *source* package 'RGMQL' ...
** testing if installed package can be loaded
* MD5 sums
packaged installation of 'RGMQL' as RGMQL_1.8.0.zip
* DONE (RGMQL)