| Back to Multiple platform build/check report for BioC 3.11 |
|
This page was generated on 2020-10-17 11:57:32 -0400 (Sat, 17 Oct 2020).
| TO THE DEVELOPERS/MAINTAINERS OF THE R4RNA PACKAGE: Please make sure to use the following settings in order to reproduce any error or warning you see on this page. |
| Package 1409/1905 | Hostname | OS / Arch | INSTALL | BUILD | CHECK | BUILD BIN | ||||||
| R4RNA 1.16.0 Daniel Lai
| malbec2 | Linux (Ubuntu 18.04.4 LTS) / x86_64 | OK | OK | OK | |||||||
| tokay2 | Windows Server 2012 R2 Standard / x64 | OK | OK | OK | [ OK ] | |||||||
| machv2 | macOS 10.14.6 Mojave / x86_64 | OK | OK | OK | OK |
| Package: R4RNA |
| Version: 1.16.0 |
| Command: rm -rf R4RNA.buildbin-libdir && mkdir R4RNA.buildbin-libdir && C:\Users\biocbuild\bbs-3.11-bioc\R\bin\R.exe CMD INSTALL --merge-multiarch --build --library=R4RNA.buildbin-libdir R4RNA_1.16.0.tar.gz |
| StartedAt: 2020-10-17 11:23:16 -0400 (Sat, 17 Oct 2020) |
| EndedAt: 2020-10-17 11:23:40 -0400 (Sat, 17 Oct 2020) |
| EllapsedTime: 24.2 seconds |
| RetCode: 0 |
| Status: OK |
| PackageFile: R4RNA_1.16.0.zip |
| PackageFileSize: 1008 KiB |
##############################################################################
##############################################################################
###
### Running command:
###
### rm -rf R4RNA.buildbin-libdir && mkdir R4RNA.buildbin-libdir && C:\Users\biocbuild\bbs-3.11-bioc\R\bin\R.exe CMD INSTALL --merge-multiarch --build --library=R4RNA.buildbin-libdir R4RNA_1.16.0.tar.gz
###
##############################################################################
##############################################################################
install for i386
* installing *source* package 'R4RNA' ...
** using staged installation
** R
** data
** inst
** byte-compile and prepare package for lazy loading
** help
*** installing help indices
converting help for package 'R4RNA'
finding HTML links ... done
R4RNA-package html
alignmentStatistics html
as.helix html
basepairFrequency html
blankPlot html
colourHelices html
expandCollapseHelix html
helix html
logicalHelix html
logseq html
plotCovariance html
plotHelix html
readStructure html
structureMismatchScore html
unknottedGroups html
viennaToHelix html
writeHelix html
** building package indices
** installing vignettes
** testing if installed package can be loaded from temporary location
** testing if installed package can be loaded from final location
** testing if installed package keeps a record of temporary installation path
install for x64
* installing *source* package 'R4RNA' ...
** testing if installed package can be loaded
* MD5 sums
packaged installation of 'R4RNA' as R4RNA_1.16.0.zip
* DONE (R4RNA)