| Back to Multiple platform build/check report for BioC 3.11 | 
 | 
This page was generated on 2020-10-17 11:57:31 -0400 (Sat, 17 Oct 2020).
| TO THE DEVELOPERS/MAINTAINERS OF THE QDNAseq PACKAGE: Please make sure to use the following settings in order to reproduce any error or warning you see on this page. | 
| Package 1388/1905 | Hostname | OS / Arch | INSTALL | BUILD | CHECK | BUILD BIN | ||||||
| QDNAseq 1.24.0 Daoud Sie 
 | malbec2 | Linux (Ubuntu 18.04.4 LTS) / x86_64 | OK | OK | OK |  | ||||||
| tokay2 | Windows Server 2012 R2 Standard / x64 | OK | OK | WARNINGS | [ OK ] |  | ||||||
| machv2 | macOS 10.14.6 Mojave / x86_64 | OK | OK | OK | OK |  | 
| Package: QDNAseq | 
| Version: 1.24.0 | 
| Command: rm -rf QDNAseq.buildbin-libdir && mkdir QDNAseq.buildbin-libdir && C:\Users\biocbuild\bbs-3.11-bioc\R\bin\R.exe CMD INSTALL --merge-multiarch --build --library=QDNAseq.buildbin-libdir QDNAseq_1.24.0.tar.gz | 
| StartedAt: 2020-10-17 11:21:59 -0400 (Sat, 17 Oct 2020) | 
| EndedAt: 2020-10-17 11:22:56 -0400 (Sat, 17 Oct 2020) | 
| EllapsedTime: 56.8 seconds | 
| RetCode: 0 | 
| Status: OK | 
| PackageFile: QDNAseq_1.24.0.zip | 
| PackageFileSize: 1.411 MiB | 
##############################################################################
##############################################################################
###
### Running command:
###
###   rm -rf QDNAseq.buildbin-libdir && mkdir QDNAseq.buildbin-libdir && C:\Users\biocbuild\bbs-3.11-bioc\R\bin\R.exe CMD INSTALL --merge-multiarch --build --library=QDNAseq.buildbin-libdir QDNAseq_1.24.0.tar.gz
###
##############################################################################
##############################################################################
install for i386
* installing *source* package 'QDNAseq' ...
** using staged installation
** R
** data
** inst
** byte-compile and prepare package for lazy loading
** help
*** installing help indices
  converting help for package 'QDNAseq'
    finding HTML links ... done
    LGG150                                  html  
    QDNAseq-defunct                         html  
    QDNAseq-package                         html  
    QDNAseqCopyNumbers                      html  
    QDNAseqReadCounts                       html  
    QDNAseqSignals                          html  
    addPhenodata                            html  
    applyFilters                            html  
Rd warning: C:/Users/biocbuild/bbs-3.11-bioc/tmpdir/RtmpwhKKJz/R.INSTALL2c881a462f6f/QDNAseq/man/applyFilters.Rd:31: file link 'madDiff' in package 'matrixStats' does not exist and so has been treated as a topic
    binReadCounts                           html  
Rd warning: C:/Users/biocbuild/bbs-3.11-bioc/tmpdir/RtmpwhKKJz/R.INSTALL2c881a462f6f/QDNAseq/man/binReadCounts.Rd:29: file link 'AnnotatedDataFrame' in package 'Biobase' does not exist and so has been treated as a topic
    callBins                                html  
    compareToReference                      html  
    correctBins                             html  
    createBins                              html  
    estimateCorrection                      html  
Rd warning: C:/Users/biocbuild/bbs-3.11-bioc/tmpdir/RtmpwhKKJz/R.INSTALL2c881a462f6f/QDNAseq/man/estimateCorrection.Rd:43: file link 'madDiff' in package 'matrixStats' does not exist and so has been treated as a topic
    exportBins                              html  
    finding level-2 HTML links ... done
    frequencyPlot                           html  
    getBinAnnotations                       html  
Rd warning: C:/Users/biocbuild/bbs-3.11-bioc/tmpdir/RtmpwhKKJz/R.INSTALL2c881a462f6f/QDNAseq/man/getBinAnnotations.Rd:48: file link 'AnnotatedDataFrame' in package 'Biobase' does not exist and so has been treated as a topic
    highlightFilters                        html  
Rd warning: C:/Users/biocbuild/bbs-3.11-bioc/tmpdir/RtmpwhKKJz/R.INSTALL2c881a462f6f/QDNAseq/man/highlightFilters.Rd:32: file link 'madDiff' in package 'matrixStats' does not exist and so has been treated as a topic
    isobarPlot                              html  
    makeCgh                                 html  
Rd warning: C:/Users/biocbuild/bbs-3.11-bioc/tmpdir/RtmpwhKKJz/R.INSTALL2c881a462f6f/QDNAseq/man/makeCgh.Rd:37: file link 'cghRaw' in package 'CGHbase' does not exist and so has been treated as a topic
Rd warning: C:/Users/biocbuild/bbs-3.11-bioc/tmpdir/RtmpwhKKJz/R.INSTALL2c881a462f6f/QDNAseq/man/makeCgh.Rd:38: file link 'cghSeg' in package 'CGHbase' does not exist and so has been treated as a topic
Rd warning: C:/Users/biocbuild/bbs-3.11-bioc/tmpdir/RtmpwhKKJz/R.INSTALL2c881a462f6f/QDNAseq/man/makeCgh.Rd:39: file link 'cghCall' in package 'CGHbase' does not exist and so has been treated as a topic
    noisePlot                               html  
Rd warning: C:/Users/biocbuild/bbs-3.11-bioc/tmpdir/RtmpwhKKJz/R.INSTALL2c881a462f6f/QDNAseq/man/noisePlot.Rd:28: file link 'plot' in package 'graphics' does not exist and so has been treated as a topic
    normalizeBins                           html  
    normalizeSegmentedBins                  html  
    plot                                    html  
    poolRuns                                html  
    segmentBins                             html  
    smoothOutlierBins                       html  
** building package indices
** installing vignettes
** testing if installed package can be loaded from temporary location
** testing if installed package can be loaded from final location
** testing if installed package keeps a record of temporary installation path
install for x64
* installing *source* package 'QDNAseq' ...
** testing if installed package can be loaded
* MD5 sums
packaged installation of 'QDNAseq' as QDNAseq_1.24.0.zip
* DONE (QDNAseq)