| Back to Multiple platform build/check report for BioC 3.11 |
|
This page was generated on 2020-10-17 11:57:26 -0400 (Sat, 17 Oct 2020).
| TO THE DEVELOPERS/MAINTAINERS OF THE PowerExplorer PACKAGE: Please make sure to use the following settings in order to reproduce any error or warning you see on this page. |
| Package 1336/1905 | Hostname | OS / Arch | INSTALL | BUILD | CHECK | BUILD BIN | ||||||
Xu Qiao
| malbec2 | Linux (Ubuntu 18.04.4 LTS) / x86_64 | OK | ERROR | skipped | |||||||
| tokay2 | Windows Server 2012 R2 Standard / x64 | [ OK ] | ERROR | skipped | skipped | |||||||
| machv2 | macOS 10.14.6 Mojave / x86_64 | OK | ERROR | skipped | skipped |
| Package: PowerExplorer |
| Version: 1.8.0 |
| Command: C:\cygwin\bin\curl.exe -O https://malbec2.bioconductor.org/BBS/3.11/bioc/src/contrib/PowerExplorer_1.8.0.tar.gz && rm -rf PowerExplorer.buildbin-libdir && mkdir PowerExplorer.buildbin-libdir && C:\Users\biocbuild\bbs-3.11-bioc\R\bin\R.exe CMD INSTALL --merge-multiarch --build --library=PowerExplorer.buildbin-libdir PowerExplorer_1.8.0.tar.gz && C:\Users\biocbuild\bbs-3.11-bioc\R\bin\R.exe CMD INSTALL PowerExplorer_1.8.0.zip && rm PowerExplorer_1.8.0.tar.gz PowerExplorer_1.8.0.zip |
| StartedAt: 2020-10-16 18:28:07 -0400 (Fri, 16 Oct 2020) |
| EndedAt: 2020-10-16 18:29:01 -0400 (Fri, 16 Oct 2020) |
| EllapsedTime: 53.7 seconds |
| RetCode: 0 |
| Status: OK |
##############################################################################
##############################################################################
###
### Running command:
###
### C:\cygwin\bin\curl.exe -O https://malbec2.bioconductor.org/BBS/3.11/bioc/src/contrib/PowerExplorer_1.8.0.tar.gz && rm -rf PowerExplorer.buildbin-libdir && mkdir PowerExplorer.buildbin-libdir && C:\Users\biocbuild\bbs-3.11-bioc\R\bin\R.exe CMD INSTALL --merge-multiarch --build --library=PowerExplorer.buildbin-libdir PowerExplorer_1.8.0.tar.gz && C:\Users\biocbuild\bbs-3.11-bioc\R\bin\R.exe CMD INSTALL PowerExplorer_1.8.0.zip && rm PowerExplorer_1.8.0.tar.gz PowerExplorer_1.8.0.zip
###
##############################################################################
##############################################################################
% Total % Received % Xferd Average Speed Time Time Time Current
Dload Upload Total Spent Left Speed
0 0 0 0 0 0 0 0 --:--:-- --:--:-- --:--:-- 0
100 691k 100 691k 0 0 9956k 0 --:--:-- --:--:-- --:--:-- 10.8M
install for i386
* installing *source* package 'PowerExplorer' ...
** using staged installation
** R
** data
*** moving datasets to lazyload DB
** inst
** byte-compile and prepare package for lazy loading
** help
*** installing help indices
converting help for package 'PowerExplorer'
finding HTML links ... done
PowerExplorerStorage-class html
estimatePower html
finding level-2 HTML links ... done
exampleObject html
exampleProteomicsData html
exampleRNASeqData html
listEstPwr html
listPredPwr html
plotEstPwr html
plotPredPwr html
predictPower html
show html
** building package indices
** installing vignettes
** testing if installed package can be loaded from temporary location
Warning: Package 'PowerExplorer' is deprecated and will be removed from
Bioconductor version 3.12
** testing if installed package can be loaded from final location
Warning: Package 'PowerExplorer' is deprecated and will be removed from
Bioconductor version 3.12
** testing if installed package keeps a record of temporary installation path
install for x64
* installing *source* package 'PowerExplorer' ...
** testing if installed package can be loaded
Warning: Package 'PowerExplorer' is deprecated and will be removed from
Bioconductor version 3.12
* MD5 sums
packaged installation of 'PowerExplorer' as PowerExplorer_1.8.0.zip
* DONE (PowerExplorer)
* installing to library 'C:/Users/biocbuild/bbs-3.11-bioc/R/library'
package 'PowerExplorer' successfully unpacked and MD5 sums checked