| Back to Multiple platform build/check report for BioC 3.11 |
|
This page was generated on 2020-10-17 11:55:23 -0400 (Sat, 17 Oct 2020).
| TO THE DEVELOPERS/MAINTAINERS OF THE PhenStat PACKAGE: Please make sure to use the following settings in order to reproduce any error or warning you see on this page. |
| Package 1305/1905 | Hostname | OS / Arch | INSTALL | BUILD | CHECK | BUILD BIN | ||||||
| PhenStat 2.24.0 Hamed Haselimashhadi
| malbec2 | Linux (Ubuntu 18.04.4 LTS) / x86_64 | OK | OK | [ OK ] | |||||||
| tokay2 | Windows Server 2012 R2 Standard / x64 | OK | OK | OK | OK | |||||||
| machv2 | macOS 10.14.6 Mojave / x86_64 | OK | OK | OK | OK |
| Package: PhenStat |
| Version: 2.24.0 |
| Command: /home/biocbuild/bbs-3.11-bioc/R/bin/R CMD check --install=check:PhenStat.install-out.txt --library=/home/biocbuild/bbs-3.11-bioc/R/library --no-vignettes --timings PhenStat_2.24.0.tar.gz |
| StartedAt: 2020-10-17 04:04:14 -0400 (Sat, 17 Oct 2020) |
| EndedAt: 2020-10-17 04:07:00 -0400 (Sat, 17 Oct 2020) |
| EllapsedTime: 166.1 seconds |
| RetCode: 0 |
| Status: OK |
| CheckDir: PhenStat.Rcheck |
| Warnings: 0 |
##############################################################################
##############################################################################
###
### Running command:
###
### /home/biocbuild/bbs-3.11-bioc/R/bin/R CMD check --install=check:PhenStat.install-out.txt --library=/home/biocbuild/bbs-3.11-bioc/R/library --no-vignettes --timings PhenStat_2.24.0.tar.gz
###
##############################################################################
##############################################################################
* using log directory ‘/home/biocbuild/bbs-3.11-bioc/meat/PhenStat.Rcheck’
* using R version 4.0.3 (2020-10-10)
* using platform: x86_64-pc-linux-gnu (64-bit)
* using session charset: UTF-8
* using option ‘--no-vignettes’
* checking for file ‘PhenStat/DESCRIPTION’ ... OK
* checking extension type ... Package
* this is package ‘PhenStat’ version ‘2.24.0’
* checking package namespace information ... OK
* checking package dependencies ... OK
* checking if this is a source package ... OK
* checking if there is a namespace ... OK
* checking for hidden files and directories ... OK
* checking for portable file names ... OK
* checking for sufficient/correct file permissions ... OK
* checking whether package ‘PhenStat’ can be installed ... OK
* checking installed package size ... OK
* checking package directory ... OK
* checking ‘build’ directory ... OK
* checking DESCRIPTION meta-information ... OK
* checking top-level files ... OK
* checking for left-over files ... OK
* checking index information ... OK
* checking package subdirectories ... OK
* checking R files for non-ASCII characters ... OK
* checking R files for syntax errors ... OK
* checking whether the package can be loaded ... OK
* checking whether the package can be loaded with stated dependencies ... OK
* checking whether the package can be unloaded cleanly ... OK
* checking whether the namespace can be loaded with stated dependencies ... OK
* checking whether the namespace can be unloaded cleanly ... OK
* checking dependencies in R code ... NOTE
Namespace in Imports field not imported from: ‘SmoothWin’
All declared Imports should be used.
* checking S3 generic/method consistency ... OK
* checking replacement functions ... OK
* checking foreign function calls ... OK
* checking R code for possible problems ... OK
* checking Rd files ... OK
* checking Rd metadata ... OK
* checking Rd cross-references ... OK
* checking for missing documentation entries ... OK
* checking for code/documentation mismatches ... OK
* checking Rd \usage sections ... OK
* checking Rd contents ... OK
* checking for unstated dependencies in examples ... OK
* checking installed files from ‘inst/doc’ ... OK
* checking files in ‘vignettes’ ... OK
* checking examples ... OK
Examples with CPU (user + system) or elapsed time > 5s
user system elapsed
qqplotRotatedResiduals 5.577 0.024 5.602
* checking for unstated dependencies in ‘tests’ ... OK
* checking tests ...
Running ‘runTests.R’
OK
* checking for unstated dependencies in vignettes ... OK
* checking package vignettes in ‘inst/doc’ ... OK
* checking running R code from vignettes ... SKIPPED
* checking re-building of vignette outputs ... SKIPPED
* checking PDF version of manual ... OK
* DONE
Status: 1 NOTE
See
‘/home/biocbuild/bbs-3.11-bioc/meat/PhenStat.Rcheck/00check.log’
for details.
PhenStat.Rcheck/00install.out
############################################################################## ############################################################################## ### ### Running command: ### ### /home/biocbuild/bbs-3.11-bioc/R/bin/R CMD INSTALL PhenStat ### ############################################################################## ############################################################################## * installing to library ‘/home/biocbuild/bbs-3.11-bioc/R/library’ * installing *source* package ‘PhenStat’ ... ** using staged installation ** R ** inst ** byte-compile and prepare package for lazy loading ** help *** installing help indices ** building package indices ** installing vignettes ** testing if installed package can be loaded from temporary location ** testing if installed package can be loaded from final location ** testing if installed package keeps a record of temporary installation path * DONE (PhenStat)
PhenStat.Rcheck/tests/runTests.Rout
R version 4.0.3 (2020-10-10) -- "Bunny-Wunnies Freak Out"
Copyright (C) 2020 The R Foundation for Statistical Computing
Platform: x86_64-pc-linux-gnu (64-bit)
R is free software and comes with ABSOLUTELY NO WARRANTY.
You are welcome to redistribute it under certain conditions.
Type 'license()' or 'licence()' for distribution details.
R is a collaborative project with many contributors.
Type 'contributors()' for more information and
'citation()' on how to cite R or R packages in publications.
Type 'demo()' for some demos, 'help()' for on-line help, or
'help.start()' for an HTML browser interface to help.
Type 'q()' to quit R.
> BiocGenerics:::testPackage("PhenStat")
>=========================================================================<
This version of PhenStat includes *FEWER* functions than the previous ones
You *still* can use the previous functions by using `:::`. For example :
PhenStat:::boxplotSexGenotype or PhenStat:::FisherExactTest
*** Want to know what is new in this version? run PhenStat:::WhatIsNew()
>=========================================================================<
RUNIT TEST PROTOCOL -- Sat Oct 17 04:06:53 2020
***********************************************
Number of test functions: 0
Number of errors: 0
Number of failures: 0
1 Test Suite :
PhenStat RUnit Tests - 0 test functions, 0 errors, 0 failures
Number of test functions: 0
Number of errors: 0
Number of failures: 0
>
> proc.time()
user system elapsed
5.010 0.180 5.176
PhenStat.Rcheck/PhenStat-Ex.timings
| name | user | system | elapsed | |
| FisherExactTest | 0.229 | 0.016 | 0.250 | |
| JSONOutput | 1.588 | 0.003 | 1.594 | |
| LRDataset | 0.081 | 0.000 | 0.092 | |
| PhenList-class | 0.302 | 0.000 | 0.306 | |
| PhenList | 0.303 | 0.008 | 0.310 | |
| PhenStatReport | 0.062 | 0.000 | 0.063 | |
| PhenTestResult-class | 1.339 | 0.000 | 1.338 | |
| PhenTestResult | 1.110 | 0.004 | 1.115 | |
| RRTest | 0.158 | 0.000 | 0.158 | |
| TFDataset | 0.471 | 0.000 | 0.470 | |
| analysedDataset | 1.180 | 0.000 | 1.231 | |
| analysisResults | 0.855 | 0.004 | 0.934 | |
| boxplotResidualBatch | 0.852 | 0.004 | 0.856 | |
| boxplotSexGenotype | 0.099 | 0.000 | 0.182 | |
| boxplotSexGenotypeBatch | 0.243 | 0.000 | 0.242 | |
| boxplotSexGenotypeBatchAdjusted | 0.108 | 0.004 | 0.112 | |
| boxplotSexGenotypeResult | 1.682 | 0.004 | 1.687 | |
| boxplotSexGenotypeWeightBatchAdjusted | 0.108 | 0.000 | 0.108 | |
| categoricalBarplot | 0.482 | 0.000 | 0.482 | |
| checkDataset | 0.072 | 0.000 | 0.072 | |
| classificationTag | 1.107 | 0.008 | 1.114 | |
| determiningLambda | 0.916 | 0.020 | 0.937 | |
| dim | 0.061 | 0.000 | 0.061 | |
| finalLRModel | 0.777 | 0.008 | 0.796 | |
| finalModel | 1.133 | 0.000 | 1.135 | |
| finalTFModel | 0.821 | 0.004 | 0.838 | |
| htestPhenStat-class | 0.196 | 0.000 | 0.195 | |
| modelFormula | 0.001 | 0.000 | 0.001 | |
| modelFormulaLR | 0.000 | 0.000 | 0.001 | |
| parserOutputSummary | 1.291 | 0.000 | 1.291 | |
| parserOutputSummaryLR | 0.585 | 0.000 | 0.586 | |
| parserOutputTFSummary | 0.104 | 0.000 | 0.104 | |
| performReverseTransformation | 0.000 | 0.000 | 0.001 | |
| performTransformation | 0.000 | 0.000 | 0.001 | |
| plot.PhenList | 2.418 | 0.020 | 2.442 | |
| plot.PhenTestResult | 3.398 | 0.012 | 3.541 | |
| plotResidualPredicted | 1.370 | 0.000 | 1.373 | |
| printLROutput | 0.584 | 0.000 | 0.584 | |
| printTabStyle | 0.001 | 0.000 | 0.001 | |
| qqplotGenotype | 0.972 | 0.000 | 0.971 | |
| qqplotRandomEffects | 0.819 | 0.008 | 0.826 | |
| qqplotRotatedResiduals | 5.577 | 0.024 | 5.602 | |
| recommendMethod | 0.359 | 0.000 | 0.359 | |
| scatterplotGenotypeWeight | 0.144 | 0.000 | 0.144 | |
| scatterplotGenotypeWeightResult | 1.040 | 0.004 | 1.044 | |
| scatterplotSexGenotypeBatch | 0.115 | 0.000 | 0.115 | |
| scatterplotSexGenotypeBatchResult | 1.681 | 0.000 | 1.681 | |
| startLRModel | 0.665 | 0.004 | 0.670 | |
| startModel | 1.211 | 0.000 | 1.210 | |
| startTFModel | 0.672 | 0.000 | 0.672 | |
| summaryOutput | 0.913 | 0.000 | 0.913 | |
| summaryPhenListResult | 1.297 | 0.004 | 1.301 | |
| testDataset | 3.370 | 0.016 | 3.501 | |
| testFinalLRModel | 0.414 | 0.000 | 0.414 | |
| testFinalModel | 0.903 | 0.004 | 0.907 | |
| vectorOutput | 0.915 | 0.000 | 0.914 | |
| vectorOutputMatrices | 0.123 | 0.000 | 0.123 | |