| Back to Multiple platform build/check report for BioC 3.11 |
|
This page was generated on 2020-10-17 11:55:19 -0400 (Sat, 17 Oct 2020).
| TO THE DEVELOPERS/MAINTAINERS OF THE ORFik PACKAGE: Please make sure to use the following settings in order to reproduce any error or warning you see on this page. |
| Package 1246/1905 | Hostname | OS / Arch | INSTALL | BUILD | CHECK | BUILD BIN | ||||||
| ORFik 1.8.6 Haakon Tjeldnes
| malbec2 | Linux (Ubuntu 18.04.4 LTS) / x86_64 | OK | OK | [ OK ] | |||||||
| tokay2 | Windows Server 2012 R2 Standard / x64 | OK | OK | OK | OK | |||||||
| machv2 | macOS 10.14.6 Mojave / x86_64 | OK | OK | OK | OK |
| Package: ORFik |
| Version: 1.8.6 |
| Command: /home/biocbuild/bbs-3.11-bioc/R/bin/R CMD check --install=check:ORFik.install-out.txt --library=/home/biocbuild/bbs-3.11-bioc/R/library --no-vignettes --timings ORFik_1.8.6.tar.gz |
| StartedAt: 2020-10-17 03:52:06 -0400 (Sat, 17 Oct 2020) |
| EndedAt: 2020-10-17 04:00:58 -0400 (Sat, 17 Oct 2020) |
| EllapsedTime: 532.6 seconds |
| RetCode: 0 |
| Status: OK |
| CheckDir: ORFik.Rcheck |
| Warnings: 0 |
##############################################################################
##############################################################################
###
### Running command:
###
### /home/biocbuild/bbs-3.11-bioc/R/bin/R CMD check --install=check:ORFik.install-out.txt --library=/home/biocbuild/bbs-3.11-bioc/R/library --no-vignettes --timings ORFik_1.8.6.tar.gz
###
##############################################################################
##############################################################################
* using log directory ‘/home/biocbuild/bbs-3.11-bioc/meat/ORFik.Rcheck’
* using R version 4.0.3 (2020-10-10)
* using platform: x86_64-pc-linux-gnu (64-bit)
* using session charset: UTF-8
* using option ‘--no-vignettes’
* checking for file ‘ORFik/DESCRIPTION’ ... OK
* checking extension type ... Package
* this is package ‘ORFik’ version ‘1.8.6’
* package encoding: UTF-8
* checking package namespace information ... OK
* checking package dependencies ... OK
* checking if this is a source package ... OK
* checking if there is a namespace ... OK
* checking for hidden files and directories ... OK
* checking for portable file names ... OK
* checking for sufficient/correct file permissions ... OK
* checking whether package ‘ORFik’ can be installed ... OK
* checking installed package size ... OK
* checking package directory ... OK
* checking ‘build’ directory ... OK
* checking DESCRIPTION meta-information ... OK
* checking top-level files ... OK
* checking for left-over files ... OK
* checking index information ... OK
* checking package subdirectories ... OK
* checking R files for non-ASCII characters ... OK
* checking R files for syntax errors ... OK
* checking whether the package can be loaded ... OK
* checking whether the package can be loaded with stated dependencies ... OK
* checking whether the package can be unloaded cleanly ... OK
* checking whether the namespace can be loaded with stated dependencies ... OK
* checking whether the namespace can be unloaded cleanly ... OK
* checking dependencies in R code ... NOTE
Unexported objects imported by ':::' calls:
‘GenomicFeatures:::.merge_seqinfo_and_infer_missing_seqlengths’
‘IRanges:::regroupBySupergroup’ ‘S4Vectors:::normarg_mcols’
‘biomartr:::getENSEMBL.Seq’ ‘biomartr:::getENSEMBL.gtf’
See the note in ?`:::` about the use of this operator.
* checking S3 generic/method consistency ... OK
* checking replacement functions ... OK
* checking foreign function calls ... OK
* checking R code for possible problems ... NOTE
QC_count_tables: no visible binding for global variable ‘leaders’
QC_count_tables : <anonymous>: no visible binding for global variable
‘ratio_mrna_aligned’
QC_count_tables : <anonymous>: no visible binding for global variable
‘mRNA’
QC_count_tables : <anonymous>: no visible binding for global variable
‘ratio_cds_mrna’
QC_count_tables : <anonymous>: no visible binding for global variable
‘CDS’
QC_count_tables : <anonymous>: no visible binding for global variable
‘ratio_cds_leader’
QC_count_tables : <anonymous>: no visible binding for global variable
‘LEADERS’
QC_count_tables: no visible binding for global variable ‘tx’
QCplots: no visible binding for global variable ‘leaders’
QCplots: no visible binding for global variable ‘trailers’
QCstats.plot: no visible binding for global variable ‘sample_id’
QCstats.plot: no visible binding for global variable ‘value’
QCstats.plot: no visible binding for global variable ‘Sample’
STAR.align.folder: no visible global function definition for
‘detectCores’
STAR.align.single: no visible global function definition for
‘detectCores’
STAR.index: no visible global function definition for ‘detectCores’
STAR.multiQC: no visible binding for global variable ‘sample_id’
STAR.multiQC: no visible binding for global variable ‘value’
TOP.Motif.ecdf: no visible binding for global variable ‘seq1’
TOP.Motif.ecdf: no visible binding for global variable ‘TOP’
allFeaturesHelper: no visible binding for global variable ‘te’
allFeaturesHelper: no visible binding for global variable ‘fpkmRFP’
allFeaturesHelper: no visible binding for global variable ‘fpkmRNA’
allFeaturesHelper: no visible binding for global variable ‘countRFP’
allFeaturesHelper: no visible binding for global variable ‘entropyRFP’
allFeaturesHelper: no visible binding for global variable
‘disengagementScores’
allFeaturesHelper: no visible binding for global variable ‘RRS’
allFeaturesHelper: no visible binding for global variable ‘RSS’
allFeaturesHelper: no visible binding for global variable ‘ORFScores’
allFeaturesHelper: no visible binding for global variable ‘ioScore’
allFeaturesHelper: no visible binding for global variable
‘startCodonCoverage’
allFeaturesHelper: no visible binding for global variable
‘startRegionRelative’
allFeaturesHelper: no visible binding for global variable ‘kozak’
allFeaturesHelper: no visible binding for global variable ‘StartCodons’
allFeaturesHelper: no visible binding for global variable ‘StopCodons’
allFeaturesHelper: no visible binding for global variable
‘fractionLengths’
allFeaturesHelper: no visible binding for global variable ‘distORFCDS’
allFeaturesHelper: no visible binding for global variable ‘inFrameCDS’
allFeaturesHelper: no visible binding for global variable
‘isOverlappingCds’
allFeaturesHelper: no visible binding for global variable ‘rankInTx’
artificial.orfs: no visible binding for global variable ‘random’
artificial.orfs: no visible binding for global variable ‘pick’
artificial.orfs: no visible global function definition for ‘.’
collapse.by.scores: no visible global function definition for ‘.’
coverageHeatMap: no visible binding for global variable ‘position’
coverageHeatMap: no visible binding for global variable ‘fraction’
coveragePerTiling: no visible binding for global variable ‘ones’
coveragePerTiling: no visible binding for global variable ‘position’
coveragePerTiling: no visible binding for global variable ‘frame’
coverageScorings: no visible binding for global variable ‘count’
coverageScorings: no visible binding for global variable ‘zscore’
coverageScorings: no visible binding for global variable ‘windowMean’
coverageScorings: no visible binding for global variable ‘windowSD’
coverageScorings: no visible global function definition for ‘.’
coverageScorings: no visible binding for global variable ‘gene_sum’
detectRibosomeShifts: no visible global function definition for ‘.’
detectRibosomeShifts: no visible binding for global variable ‘size’
detectRibosomeShifts: no visible binding for global variable ‘pShifted’
detectRibosomeShifts: no visible binding for global variable
‘sum.count’
detectRibosomeShifts: no visible binding for global variable ‘count’
detectRibosomeShifts: no visible binding for global variable ‘fraction’
entropy: no visible binding for global variable ‘Hx’
entropy: no visible binding for global variable ‘codonSums’
entropy: no visible global function definition for ‘.’
filterExtremePeakGenes: no visible binding for global variable ‘count’
filterExtremePeakGenes: no visible binding for global variable
‘median_per_gene’
filterExtremePeakGenes: no visible global function definition for ‘.’
filterTranscripts: no visible binding for global variable ‘utr5_len’
filterTranscripts: no visible binding for global variable ‘utr3_len’
findNGSPairs: no visible global function definition for ‘.’
findNGSPairs: no visible binding for global variable ‘forward’
findPeaksPerGene: no visible binding for global variable ‘sum_per_gene’
findPeaksPerGene: no visible binding for global variable ‘count’
findPeaksPerGene: no visible binding for global variable
‘mean_per_gene’
findPeaksPerGene: no visible binding for global variable ‘sd_per_gene’
findPeaksPerGene: no visible binding for global variable ‘zscore’
findPeaksPerGene: no visible binding for global variable ‘gene_id’
floss: no visible binding for global variable ‘ORFGrouping’
floss: no visible binding for global variable ‘widths’
floss: no visible global function definition for ‘.’
floss: no visible binding for global variable ‘CDSGrouping’
floss: no visible binding for global variable ‘fraction.x’
floss: no visible binding for global variable ‘fraction.y’
gSort: no visible binding for global variable ‘grnames’
getNGenesCoverage: no visible global function definition for ‘.’
getNGenesCoverage: no visible binding for global variable ‘fraction’
heatMapL: no visible global function definition for ‘p’
initiationScore: no visible global function definition for ‘.’
initiationScore: no visible binding for global variable ‘dif’
initiationScore: no visible binding for global variable ‘fraction’
initiationScore: no visible binding for global variable ‘difPer’
kozakHeatmap: no visible global function definition for ‘.’
kozakHeatmap: no visible binding for global variable ‘variable’
kozakHeatmap: no visible binding for global variable ‘value’
kozakHeatmap: no visible binding for global variable
‘count_seq_pos_with_count’
kozakHeatmap: no visible binding for global variable ‘median_score’
list.experiments: no visible binding for global variable ‘name’
longestORFs: no visible global function definition for ‘.’
metaWindow: no visible binding for global variable ‘position’
metaWindow: no visible binding for global variable ‘frame’
orfScore: no visible binding for global variable ‘frame’
orfScore: no visible binding for global variable ‘frame_one_RP’
orfScore: no visible binding for global variable ‘frame_two_RP’
pSitePlot: no visible binding for global variable ‘count’
pSitePlot: no visible binding for global variable ‘frame’
pSitePlot: no visible binding for global variable ‘position’
remakeTxdbExonIds: no visible global function definition for ‘.’
remakeTxdbExonIds: no visible binding for global variable ‘chr’
removeTxdbExons: no visible binding for global variable ‘exon_rank’
removeTxdbExons: no visible binding for global variable ‘ranks’
rnaNormalize: no visible binding for global variable ‘feature’
scaledWindowPositions: no visible binding for global variable
‘scalingFactor’
scaledWindowPositions: no visible binding for global variable
‘position’
scaledWindowPositions: no visible global function definition for ‘.’
scoreSummarizedExperiment: no visible global function definition for
‘rowSums2’
topMotif: no visible binding for global variable ‘seq1’
topMotif: no visible binding for global variable ‘seq2’
topMotif: no visible binding for global variable ‘seq3’
topMotif: no visible binding for global variable ‘seq4’
topMotif: no visible binding for global variable ‘seq5’
transcriptWindow: no visible binding for global variable ‘fractions’
transcriptWindow1: no visible binding for global variable ‘leaders’
windowCoveragePlot: no visible binding for global variable ‘feature’
windowCoveragePlot: no visible binding for global variable ‘fraction’
windowCoveragePlot: no visible binding for global variable
‘fraction_min’
windowCoveragePlot: no visible binding for global variable ‘position’
collapseDuplicatedReads,GAlignmentPairs: no visible global function
definition for ‘.’
collapseDuplicatedReads,GAlignmentPairs: no visible binding for global
variable ‘start1’
collapseDuplicatedReads,GAlignmentPairs: no visible binding for global
variable ‘start2’
collapseDuplicatedReads,GAlignmentPairs: no visible binding for global
variable ‘cigar1’
collapseDuplicatedReads,GAlignmentPairs: no visible binding for global
variable ‘cigar2’
collapseDuplicatedReads,GAlignments: no visible global function
definition for ‘.’
collapseDuplicatedReads,GRanges: no visible binding for global variable
‘size’
collapseDuplicatedReads,GRanges: no visible global function definition
for ‘.’
Undefined global functions or variables:
. CDS CDSGrouping Hx LEADERS ORFGrouping ORFScores RRS RSS Sample
StartCodons StopCodons TOP chr cigar1 cigar2 codonSums count countRFP
count_seq_pos_with_count detectCores dif difPer disengagementScores
distORFCDS entropyRFP exon_rank feature forward fpkmRFP fpkmRNA
fraction fraction.x fraction.y fractionLengths fraction_min fractions
frame frame_one_RP frame_two_RP gene_id gene_sum grnames inFrameCDS
ioScore isOverlappingCds kozak leaders mRNA mean_per_gene
median_per_gene median_score name ones p pShifted pick position
random rankInTx ranks ratio_cds_leader ratio_cds_mrna
ratio_mrna_aligned rowSums2 sample_id scalingFactor sd_per_gene seq1
seq2 seq3 seq4 seq5 size start1 start2 startCodonCoverage
startRegionRelative sum.count sum_per_gene te trailers tx utr3_len
utr5_len value variable widths windowMean windowSD zscore
Consider adding
importFrom("graphics", "frame")
to your NAMESPACE file.
* checking Rd files ... OK
* checking Rd metadata ... OK
* checking Rd cross-references ... OK
* checking for missing documentation entries ... OK
* checking for code/documentation mismatches ... OK
* checking Rd \usage sections ... OK
* checking Rd contents ... OK
* checking for unstated dependencies in examples ... OK
* checking line endings in C/C++/Fortran sources/headers ... OK
* checking line endings in Makefiles ... OK
* checking compilation flags in Makevars ... OK
* checking for GNU extensions in Makefiles ... OK
* checking for portable use of $(BLAS_LIBS) and $(LAPACK_LIBS) ... OK
* checking use of PKG_*FLAGS in Makefiles ... OK
* checking compiled code ... NOTE
Note: information on .o files is not available
* checking files in ‘vignettes’ ... OK
* checking examples ... OK
Examples with CPU (user + system) or elapsed time > 5s
user system elapsed
shiftFootprintsByExperiment 9.344 0.650 9.018
computeFeatures 9.320 0.104 9.428
* checking for unstated dependencies in ‘tests’ ... OK
* checking tests ...
Running ‘testthat.R’
OK
* checking for unstated dependencies in vignettes ... OK
* checking package vignettes in ‘inst/doc’ ... OK
* checking running R code from vignettes ... SKIPPED
* checking re-building of vignette outputs ... SKIPPED
* checking PDF version of manual ... OK
* DONE
Status: 3 NOTEs
See
‘/home/biocbuild/bbs-3.11-bioc/meat/ORFik.Rcheck/00check.log’
for details.
ORFik.Rcheck/00install.out
##############################################################################
##############################################################################
###
### Running command:
###
### /home/biocbuild/bbs-3.11-bioc/R/bin/R CMD INSTALL ORFik
###
##############################################################################
##############################################################################
* installing to library ‘/home/biocbuild/bbs-3.11-bioc/R/library’
* installing *source* package ‘ORFik’ ...
** using staged installation
** libs
g++ -std=gnu++11 -I"/home/biocbuild/bbs-3.11-bioc/R/include" -DNDEBUG -I'/home/biocbuild/bbs-3.11-bioc/R/library/Rcpp/include' -I/usr/local/include -fpic -g -O2 -Wall -c RcppExports.cpp -o RcppExports.o
g++ -std=gnu++11 -I"/home/biocbuild/bbs-3.11-bioc/R/include" -DNDEBUG -I'/home/biocbuild/bbs-3.11-bioc/R/library/Rcpp/include' -I/usr/local/include -fpic -g -O2 -Wall -c findORFsHelpers.cpp -o findORFsHelpers.o
findORFsHelpers.cpp: In function ‘void calc_z(const string&, vi&)’:
findORFsHelpers.cpp:57:7: warning: this ‘for’ clause does not guard... [-Wmisleading-indentation]
for (z[i] = r - i; r < len; ++r, ++z[i])
^~~
findORFsHelpers.cpp:60:9: note: ...this statement, but the latter is misleadingly indented as if it were guarded by the ‘for’
--r;
^~
findORFsHelpers.cpp: In function ‘Rcpp::IntegerMatrix orfs_as_matrix(std::__cxx11::string&, std::__cxx11::string, std::__cxx11::string, int)’:
findORFsHelpers.cpp:212:21: warning: comparison between signed and unsigned integer expressions [-Wsign-compare]
for (int i = 0; i < uorfSize/2; i++) {
~~^~~~~~~~~~~~
g++ -std=gnu++11 -I"/home/biocbuild/bbs-3.11-bioc/R/include" -DNDEBUG -I'/home/biocbuild/bbs-3.11-bioc/R/library/Rcpp/include' -I/usr/local/include -fpic -g -O2 -Wall -c findOrfs.cpp -o findOrfs.o
g++ -std=gnu++11 -I"/home/biocbuild/bbs-3.11-bioc/R/include" -DNDEBUG -I'/home/biocbuild/bbs-3.11-bioc/R/library/Rcpp/include' -I/usr/local/include -fpic -g -O2 -Wall -c findOrfsFasta.cpp -o findOrfsFasta.o
g++ -std=gnu++11 -I"/home/biocbuild/bbs-3.11-bioc/R/include" -DNDEBUG -I'/home/biocbuild/bbs-3.11-bioc/R/library/Rcpp/include' -I/usr/local/include -fpic -g -O2 -Wall -c pmapFromTranscripts.cpp -o pmapFromTranscripts.o
pmapFromTranscripts.cpp: In function ‘Rcpp::List pmapFromTranscriptsCPP(const std::vector<int>&, const std::vector<int>&, const std::vector<int>&, const std::vector<int>&, const std::vector<int>&, const char&, bool)’:
pmapFromTranscripts.cpp:151:20: warning: comparison between signed and unsigned integer expressions [-Wsign-compare]
for(auto i = 0;i < xSize; i++){
~~^~~~~~~
pmapFromTranscripts.cpp:155:21: warning: comparison between signed and unsigned integer expressions [-Wsign-compare]
for(auto i = 0; i < indexSize; i++){
~~^~~~~~~~~~~
pmapFromTranscripts.cpp:161:21: warning: comparison between signed and unsigned integer expressions [-Wsign-compare]
for(auto i = 1; i < indexSize; i++){
~~^~~~~~~~~~~
g++ -std=gnu++11 -I"/home/biocbuild/bbs-3.11-bioc/R/include" -DNDEBUG -I'/home/biocbuild/bbs-3.11-bioc/R/library/Rcpp/include' -I/usr/local/include -fpic -g -O2 -Wall -c pmapToTranscripts.cpp -o pmapToTranscripts.o
pmapToTranscripts.cpp: In function ‘void pmapToPositive(vi&, const int&, int&, const vi&, const vi&, const vi&, const vi&, const vi&, const vi&, const vi&, const vi&)’:
pmapToTranscripts.cpp:22:7: warning: variable ‘currentWidth’ set but not used [-Wunused-but-set-variable]
int currentWidth = 0;
^~~~~~~~~~~~
pmapToTranscripts.cpp: In function ‘void pmapToNegative(vi&, const int&, int&, const vi&, const vi&, const vi&, const vi&, const vi&, const vi&, const vi&, const vi&)’:
pmapToTranscripts.cpp:68:7: warning: variable ‘currentWidth’ set but not used [-Wunused-but-set-variable]
int currentWidth = 0;
^~~~~~~~~~~~
pmapToTranscripts.cpp: In function ‘Rcpp::List pmapToTranscriptsCPP(const std::vector<int>&, const std::vector<int>&, const std::vector<int>&, const std::vector<int>&, const std::vector<int>&, const char&, const std::vector<int>&)’:
pmapToTranscripts.cpp:126:20: warning: comparison between signed and unsigned integer expressions [-Wsign-compare]
for(auto i = 0;i < xSize; i++){ // Width per exon in x
~~^~~~~~~
pmapToTranscripts.cpp:130:21: warning: comparison between signed and unsigned integer expressions [-Wsign-compare]
for(auto i = 0; i < indexSize; i++){ // Width per exon in tx
~~^~~~~~~~~~~
pmapToTranscripts.cpp:136:21: warning: comparison between signed and unsigned integer expressions [-Wsign-compare]
for(auto i = 1; i < indexSize; i++){
~~^~~~~~~~~~~
pmapToTranscripts.cpp:147:22: warning: comparison between signed and unsigned integer expressions [-Wsign-compare]
for (auto i = 1; i < 2 * xSize; i = i + 2) {
~~^~~~~~~~~~~
g++ -std=gnu++11 -shared -L/home/biocbuild/bbs-3.11-bioc/R/lib -L/usr/local/lib -o ORFik.so RcppExports.o findORFsHelpers.o findOrfs.o findOrfsFasta.o pmapFromTranscripts.o pmapToTranscripts.o -L/home/biocbuild/bbs-3.11-bioc/R/lib -lR
installing to /home/biocbuild/bbs-3.11-bioc/R/library/00LOCK-ORFik/00new/ORFik/libs
** R
** inst
** byte-compile and prepare package for lazy loading
** help
*** installing help indices
** building package indices
** installing vignettes
** testing if installed package can be loaded from temporary location
** checking absolute paths in shared objects and dynamic libraries
** testing if installed package can be loaded from final location
** testing if installed package keeps a record of temporary installation path
* DONE (ORFik)
ORFik.Rcheck/tests/testthat.Rout
R version 4.0.3 (2020-10-10) -- "Bunny-Wunnies Freak Out"
Copyright (C) 2020 The R Foundation for Statistical Computing
Platform: x86_64-pc-linux-gnu (64-bit)
R is free software and comes with ABSOLUTELY NO WARRANTY.
You are welcome to redistribute it under certain conditions.
Type 'license()' or 'licence()' for distribution details.
R is a collaborative project with many contributors.
Type 'contributors()' for more information and
'citation()' on how to cite R or R packages in publications.
Type 'demo()' for some demos, 'help()' for on-line help, or
'help.start()' for an HTML browser interface to help.
Type 'q()' to quit R.
> library(testthat)
> library(ORFik)
Loading required package: IRanges
Loading required package: BiocGenerics
Loading required package: parallel
Attaching package: 'BiocGenerics'
The following objects are masked from 'package:parallel':
clusterApply, clusterApplyLB, clusterCall, clusterEvalQ,
clusterExport, clusterMap, parApply, parCapply, parLapply,
parLapplyLB, parRapply, parSapply, parSapplyLB
The following objects are masked from 'package:stats':
IQR, mad, sd, var, xtabs
The following objects are masked from 'package:base':
Filter, Find, Map, Position, Reduce, anyDuplicated, append,
as.data.frame, basename, cbind, colnames, dirname, do.call,
duplicated, eval, evalq, get, grep, grepl, intersect, is.unsorted,
lapply, mapply, match, mget, order, paste, pmax, pmax.int, pmin,
pmin.int, rank, rbind, rownames, sapply, setdiff, sort, table,
tapply, union, unique, unsplit, which, which.max, which.min
Loading required package: S4Vectors
Loading required package: stats4
Attaching package: 'S4Vectors'
The following object is masked from 'package:base':
expand.grid
Loading required package: GenomicRanges
Loading required package: GenomeInfoDb
Loading required package: GenomicAlignments
Loading required package: SummarizedExperiment
Loading required package: Biobase
Welcome to Bioconductor
Vignettes contain introductory material; view with
'browseVignettes()'. To cite Bioconductor, see
'citation("Biobase")', and for packages 'citation("pkgname")'.
Loading required package: DelayedArray
Loading required package: matrixStats
Attaching package: 'matrixStats'
The following objects are masked from 'package:Biobase':
anyMissing, rowMedians
Attaching package: 'DelayedArray'
The following objects are masked from 'package:matrixStats':
colMaxs, colMins, colRanges, rowMaxs, rowMins, rowRanges
The following objects are masked from 'package:base':
aperm, apply, rowsum
Loading required package: Biostrings
Loading required package: XVector
Attaching package: 'Biostrings'
The following object is masked from 'package:base':
strsplit
Loading required package: Rsamtools
>
> test_check("ORFik")
widths group.size
Min. : 6 Min. :1.000
1st Qu.: 9 1st Qu.:1.000
Median :12 Median :1.000
Mean :12 Mean :1.667
3rd Qu.:15 3rd Qu.:2.000
Max. :18 Max. :3.000
[1] "ORFik_CAGE_heart"
[1] "ORFik_RFP_heart"
[1] "ORFik_RFP"
[1] "ORFik_RNA_heart"
══ testthat results ═══════════════════════════════════════════════════════════
[ OK: 323 | SKIPPED: 0 | WARNINGS: 0 | FAILED: 0 ]
>
> proc.time()
user system elapsed
87.346 1.882 89.609
ORFik.Rcheck/ORFik-Ex.timings
| name | user | system | elapsed | |
| ORFik.template.experiment | 0.558 | 0.044 | 0.601 | |
| ORFikQC | 0.400 | 0.056 | 0.456 | |
| QCreport | 0.399 | 0.000 | 0.399 | |
| QCstats | 0.424 | 0.000 | 0.423 | |
| QCstats.plot | 0.404 | 0.000 | 0.404 | |
| STAR.align.folder | 0 | 0 | 0 | |
| STAR.align.single | 0.001 | 0.000 | 0.001 | |
| STAR.index | 0 | 0 | 0 | |
| STAR.install | 0 | 0 | 0 | |
| STAR.remove.crashed.genome | 0 | 0 | 0 | |
| TOP.Motif.ecdf | 0.000 | 0.000 | 0.001 | |
| assignTSSByCage | 0.003 | 0.000 | 0.003 | |
| bamVarName | 0.593 | 0.072 | 0.665 | |
| collapse.by.scores | 0.232 | 0.008 | 0.236 | |
| collapseDuplicatedReads-GAlignmentPairs-method | 0.068 | 0.000 | 0.068 | |
| collapseDuplicatedReads-GAlignments-method | 0.03 | 0.00 | 0.03 | |
| collapseDuplicatedReads-GRanges-method | 0.052 | 0.000 | 0.052 | |
| collapseDuplicatedReads | 0.034 | 0.000 | 0.034 | |
| computeFeatures | 9.320 | 0.104 | 9.428 | |
| computeFeaturesCage | 0.000 | 0.000 | 0.001 | |
| convertLibs | 0.373 | 0.000 | 0.373 | |
| convertToOneBasedRanges | 0.193 | 0.000 | 0.194 | |
| countOverlapsW | 0.12 | 0.00 | 0.12 | |
| countTable | 0.412 | 0.000 | 0.411 | |
| coverageHeatMap | 1.871 | 0.000 | 1.872 | |
| coveragePerTiling | 0.556 | 0.000 | 0.556 | |
| coverageScorings | 0.014 | 0.000 | 0.011 | |
| create.experiment | 0.361 | 0.000 | 0.361 | |
| defineTrailer | 0.149 | 0.000 | 0.148 | |
| detectRibosomeShifts | 0.000 | 0.001 | 0.000 | |
| disengagementScore | 0.512 | 0.003 | 0.515 | |
| distToCds | 0.227 | 0.000 | 0.228 | |
| distToTSS | 0.198 | 0.000 | 0.199 | |
| entropy | 1.029 | 0.000 | 0.989 | |
| experiment-class | 0.239 | 0.004 | 0.243 | |
| export.bed12 | 0.023 | 0.000 | 0.022 | |
| export.ofst-GAlignmentPairs-method | 0.069 | 0.000 | 0.068 | |
| export.ofst-GAlignments-method | 0.064 | 0.000 | 0.063 | |
| export.ofst-GRanges-method | 0.064 | 0.000 | 0.063 | |
| export.ofst | 0.064 | 0.000 | 0.064 | |
| export.wiggle | 0.045 | 0.000 | 0.044 | |
| extendLeaders | 0.646 | 0.000 | 0.646 | |
| extendTrailers | 0.483 | 0.000 | 0.481 | |
| filepath | 0.369 | 0.000 | 0.369 | |
| filterTranscripts | 2 | 0 | 2 | |
| fimport | 0.259 | 0.012 | 0.287 | |
| findFa | 0.009 | 0.000 | 0.009 | |
| findMapORFs | 0.798 | 0.000 | 0.798 | |
| findORFs | 0.081 | 0.004 | 0.085 | |
| findORFsFasta | 0.051 | 0.000 | 0.048 | |
| findPeaksPerGene | 1.407 | 0.004 | 1.411 | |
| findUORFs | 0.001 | 0.000 | 0.001 | |
| firstEndPerGroup | 0.077 | 0.000 | 0.077 | |
| firstExonPerGroup | 0.085 | 0.000 | 0.085 | |
| firstStartPerGroup | 0.072 | 0.000 | 0.072 | |
| floss | 0.454 | 0.000 | 0.447 | |
| fpkm | 0.195 | 0.004 | 0.199 | |
| fractionLength | 0.092 | 0.000 | 0.092 | |
| fread.bed | 0.061 | 0.061 | 0.150 | |
| gcContent | 0.928 | 0.060 | 0.988 | |
| getGenomeAndAnnotation | 0 | 0 | 0 | |
| groupGRangesBy | 0.110 | 0.012 | 0.122 | |
| groupings | 0.094 | 0.004 | 0.098 | |
| heatMapRegion | 0.311 | 0.004 | 0.315 | |
| import.ofst | 0.068 | 0.004 | 0.072 | |
| initiationScore | 0.997 | 0.008 | 1.004 | |
| insideOutsideORF | 1.018 | 0.000 | 1.016 | |
| install.fastp | 0.000 | 0.000 | 0.001 | |
| isInFrame | 0.347 | 0.000 | 0.348 | |
| isOverlapping | 0.327 | 0.000 | 0.327 | |
| kozakHeatmap | 0 | 0 | 0 | |
| kozakSequenceScore | 0.835 | 0.000 | 0.835 | |
| lastExonEndPerGroup | 0.123 | 0.000 | 0.123 | |
| lastExonPerGroup | 0.124 | 0.000 | 0.124 | |
| lastExonStartPerGroup | 0.114 | 0.000 | 0.114 | |
| list.experiments | 0.038 | 0.000 | 0.037 | |
| loadRegion | 1.870 | 0.004 | 1.875 | |
| loadRegions | 1.289 | 0.000 | 1.288 | |
| loadTxdb | 0.161 | 0.000 | 0.162 | |
| longestORFs | 0.272 | 0.000 | 0.276 | |
| makeORFNames | 0.162 | 0.004 | 0.171 | |
| makeSummarizedExperimentFromBam | 0.369 | 0.000 | 0.370 | |
| metaWindow | 0.282 | 0.001 | 0.212 | |
| numExonsPerGroup | 0.078 | 0.000 | 0.078 | |
| orfScore | 1.322 | 0.007 | 1.249 | |
| organism.df | 0.358 | 0.004 | 0.362 | |
| outputLibs | 0.336 | 0.000 | 0.337 | |
| pSitePlot | 0.454 | 0.000 | 0.454 | |
| pmapFromTranscriptF | 0.138 | 0.000 | 0.138 | |
| pmapToTranscriptF | 0.140 | 0.000 | 0.139 | |
| rankOrder | 0.154 | 0.000 | 0.155 | |
| read.experiment | 0.373 | 0.000 | 0.373 | |
| readBam | 0.144 | 0.004 | 0.148 | |
| readWidths | 0.020 | 0.000 | 0.019 | |
| reassignTSSbyCage | 0.876 | 0.008 | 0.884 | |
| reassignTxDbByCage | 0.000 | 0.000 | 0.001 | |
| reduceKeepAttr | 0.194 | 0.000 | 0.195 | |
| remove.experiments | 0.305 | 0.000 | 0.305 | |
| ribosomeReleaseScore | 0.252 | 0.000 | 0.251 | |
| ribosomeStallingScore | 0.55 | 0.00 | 0.55 | |
| save.experiment | 0.369 | 0.000 | 0.369 | |
| scaledWindowPositions | 0.647 | 0.001 | 0.606 | |
| seqnamesPerGroup | 0.117 | 0.004 | 0.121 | |
| shiftFootprints | 0.000 | 0.000 | 0.001 | |
| shiftFootprintsByExperiment | 9.344 | 0.650 | 9.018 | |
| shiftPlots | 0.414 | 0.000 | 0.414 | |
| shifts.load | 0.429 | 0.000 | 0.429 | |
| simpleLibs | 0.395 | 0.000 | 0.395 | |
| sortPerGroup | 0.542 | 0.000 | 0.542 | |
| startCodons | 1.081 | 0.000 | 1.082 | |
| startDefinition | 0.001 | 0.000 | 0.000 | |
| startSites | 0.593 | 0.000 | 0.593 | |
| stopCodons | 1.052 | 0.000 | 1.052 | |
| stopDefinition | 0.001 | 0.000 | 0.001 | |
| stopSites | 0.607 | 0.000 | 0.608 | |
| strandBool | 0.015 | 0.000 | 0.015 | |
| strandPerGroup | 0.130 | 0.000 | 0.129 | |
| tile1 | 0.399 | 0.000 | 0.399 | |
| topMotif | 0.000 | 0.000 | 0.001 | |
| transcriptWindow | 1.762 | 0.000 | 1.761 | |
| translationalEff | 0.247 | 0.000 | 0.247 | |
| txNames | 0.049 | 0.001 | 0.049 | |
| txNamesToGeneNames | 0.868 | 0.002 | 0.870 | |
| uORFSearchSpace | 0.799 | 0.000 | 0.798 | |
| uniqueGroups | 0.260 | 0.000 | 0.261 | |
| uniqueOrder | 0.305 | 0.000 | 0.304 | |
| unlistGrl | 0.038 | 0.000 | 0.038 | |
| widthPerGroup | 0.053 | 0.000 | 0.053 | |
| windowCoveragePlot | 0.561 | 0.000 | 0.559 | |
| windowPerGroup | 0.361 | 0.000 | 0.362 | |