| Back to Multiple platform build/check report for BioC 3.11 | 
 | 
This page was generated on 2020-10-17 11:57:18 -0400 (Sat, 17 Oct 2020).
| TO THE DEVELOPERS/MAINTAINERS OF THE OGSA PACKAGE: Please make sure to use the following settings in order to reproduce any error or warning you see on this page. | 
| Package 1214/1905 | Hostname | OS / Arch | INSTALL | BUILD | CHECK | BUILD BIN | ||||||
| OGSA 1.18.0 Michael F. Ochs 
 | malbec2 | Linux (Ubuntu 18.04.4 LTS) / x86_64 | OK | OK | ERROR | |||||||
| tokay2 | Windows Server 2012 R2 Standard / x64 | OK | OK | ERROR | [ OK ] | |||||||
| machv2 | macOS 10.14.6 Mojave / x86_64 | OK | OK | ERROR | OK | 
| Package: OGSA | 
| Version: 1.18.0 | 
| Command: rm -rf OGSA.buildbin-libdir && mkdir OGSA.buildbin-libdir && C:\Users\biocbuild\bbs-3.11-bioc\R\bin\R.exe CMD INSTALL --merge-multiarch --build --library=OGSA.buildbin-libdir OGSA_1.18.0.tar.gz | 
| StartedAt: 2020-10-17 11:10:04 -0400 (Sat, 17 Oct 2020) | 
| EndedAt: 2020-10-17 11:10:51 -0400 (Sat, 17 Oct 2020) | 
| EllapsedTime: 47.4 seconds | 
| RetCode: 0 | 
| Status: OK | 
| PackageFile: OGSA_1.18.0.zip | 
| PackageFileSize: 3.331 MiB | 
##############################################################################
##############################################################################
###
### Running command:
###
###   rm -rf OGSA.buildbin-libdir && mkdir OGSA.buildbin-libdir && C:\Users\biocbuild\bbs-3.11-bioc\R\bin\R.exe CMD INSTALL --merge-multiarch --build --library=OGSA.buildbin-libdir OGSA_1.18.0.tar.gz
###
##############################################################################
##############################################################################
install for i386
* installing *source* package 'OGSA' ...
** using staged installation
** R
** data
*** moving datasets to lazyload DB
** inst
** byte-compile and prepare package for lazy loading
** help
*** installing help indices
  converting help for package 'OGSA'
    finding HTML links ... done
    OGSA-package                            html  
    cnv                                     html  
    copaInt                                 html  
    copaIntE                                html  
    copaStat                                html  
    expr                                    html  
    expressionSetDataSet                    html  
    expressionSetPheno                      html  
    meth                                    html  
    outCallRank                             html  
    outCallRankE                            html  
    outCallTib                              html  
    outCallTibE                             html  
    outCount                                html  
    outMap                                  html  
    outRank                                 html  
    pathGS                                  html  
    pheno                                   html  
    testGScogps                             html  
** building package indices
** installing vignettes
** testing if installed package can be loaded from temporary location
** testing if installed package can be loaded from final location
** testing if installed package keeps a record of temporary installation path
install for x64
* installing *source* package 'OGSA' ...
** testing if installed package can be loaded
* MD5 sums
packaged installation of 'OGSA' as OGSA_1.18.0.zip
* DONE (OGSA)