| Back to Multiple platform build/check report for BioC 3.11 | 
 | 
This page was generated on 2020-10-17 11:57:15 -0400 (Sat, 17 Oct 2020).
| TO THE DEVELOPERS/MAINTAINERS OF THE NBAMSeq PACKAGE: Please make sure to use the following settings in order to reproduce any error or warning you see on this page. | 
| Package 1174/1905 | Hostname | OS / Arch | INSTALL | BUILD | CHECK | BUILD BIN | ||||||
| NBAMSeq 1.4.1 Xu Ren 
 | malbec2 | Linux (Ubuntu 18.04.4 LTS) / x86_64 | OK | OK | OK |  | ||||||
| tokay2 | Windows Server 2012 R2 Standard / x64 | OK | OK | OK | [ OK ] |  | ||||||
| machv2 | macOS 10.14.6 Mojave / x86_64 | OK | OK | OK | OK |  | 
| Package: NBAMSeq | 
| Version: 1.4.1 | 
| Command: rm -rf NBAMSeq.buildbin-libdir && mkdir NBAMSeq.buildbin-libdir && C:\Users\biocbuild\bbs-3.11-bioc\R\bin\R.exe CMD INSTALL --merge-multiarch --build --library=NBAMSeq.buildbin-libdir NBAMSeq_1.4.1.tar.gz | 
| StartedAt: 2020-10-17 11:07:47 -0400 (Sat, 17 Oct 2020) | 
| EndedAt: 2020-10-17 11:08:32 -0400 (Sat, 17 Oct 2020) | 
| EllapsedTime: 45.1 seconds | 
| RetCode: 0 | 
| Status: OK | 
| PackageFile: NBAMSeq_1.4.1.zip | 
| PackageFileSize: 306.2 KiB | 
##############################################################################
##############################################################################
###
### Running command:
###
###   rm -rf NBAMSeq.buildbin-libdir && mkdir NBAMSeq.buildbin-libdir && C:\Users\biocbuild\bbs-3.11-bioc\R\bin\R.exe CMD INSTALL --merge-multiarch --build --library=NBAMSeq.buildbin-libdir NBAMSeq_1.4.1.tar.gz
###
##############################################################################
##############################################################################
install for i386
* installing *source* package 'NBAMSeq' ...
** using staged installation
** R
** inst
** byte-compile and prepare package for lazy loading
** help
*** installing help indices
  converting help for package 'NBAMSeq'
    finding HTML links ... done
    NBAMSeq-methods                         html  
    NBAMSeq                                 html  
    finding level-2 HTML links ... done
    NBAMSeqDataSet-class                    html  
    NBAMSeqDataSet                          html  
    makeExample                             html  
    makeplot                                html  
    results                                 html  
** building package indices
** installing vignettes
** testing if installed package can be loaded from temporary location
** testing if installed package can be loaded from final location
** testing if installed package keeps a record of temporary installation path
install for x64
* installing *source* package 'NBAMSeq' ...
** testing if installed package can be loaded
* MD5 sums
packaged installation of 'NBAMSeq' as NBAMSeq_1.4.1.zip
* DONE (NBAMSeq)