| Back to Multiple platform build/check report for BioC 3.11 |
|
This page was generated on 2020-10-17 11:57:11 -0400 (Sat, 17 Oct 2020).
| TO THE DEVELOPERS/MAINTAINERS OF THE MoonlightR PACKAGE: Please make sure to use the following settings in order to reproduce any error or warning you see on this page. |
| Package 1120/1905 | Hostname | OS / Arch | INSTALL | BUILD | CHECK | BUILD BIN | ||||||
| MoonlightR 1.14.1 Antonio Colaprico
| malbec2 | Linux (Ubuntu 18.04.4 LTS) / x86_64 | OK | OK | OK | |||||||
| tokay2 | Windows Server 2012 R2 Standard / x64 | OK | OK | OK | [ OK ] | |||||||
| machv2 | macOS 10.14.6 Mojave / x86_64 | OK | OK | WARNINGS | OK |
| Package: MoonlightR |
| Version: 1.14.1 |
| Command: rm -rf MoonlightR.buildbin-libdir && mkdir MoonlightR.buildbin-libdir && C:\Users\biocbuild\bbs-3.11-bioc\R\bin\R.exe CMD INSTALL --merge-multiarch --build --library=MoonlightR.buildbin-libdir MoonlightR_1.14.1.tar.gz |
| StartedAt: 2020-10-17 11:04:24 -0400 (Sat, 17 Oct 2020) |
| EndedAt: 2020-10-17 11:05:35 -0400 (Sat, 17 Oct 2020) |
| EllapsedTime: 71.7 seconds |
| RetCode: 0 |
| Status: OK |
| PackageFile: MoonlightR_1.14.1.zip |
| PackageFileSize: 8.525 MiB |
##############################################################################
##############################################################################
###
### Running command:
###
### rm -rf MoonlightR.buildbin-libdir && mkdir MoonlightR.buildbin-libdir && C:\Users\biocbuild\bbs-3.11-bioc\R\bin\R.exe CMD INSTALL --merge-multiarch --build --library=MoonlightR.buildbin-libdir MoonlightR_1.14.1.tar.gz
###
##############################################################################
##############################################################################
install for i386
* installing *source* package 'MoonlightR' ...
** using staged installation
** R
** data
*** moving datasets to lazyload DB
** inst
** byte-compile and prepare package for lazy loading
** help
*** installing help indices
converting help for package 'MoonlightR'
finding HTML links ... done
DEGsmatrix html
DPA html
DiseaseList html
EAGenes html
FEA html
GDCprojects html
GEO_TCGAtab html
GRN html
GSEA html
LPA html
MoonlightR html
PRA html
URA html
dataFilt html
dataGRN html
dataURA html
geneInfo html
getDataGEO html
getDataTCGA html
knownDriverGenes html
listMoonlight html
moonlight html
plotCircos html
plotFEA html
plotNetworkHive html
plotURA html
tabGrowBlock html
** building package indices
** installing vignettes
** testing if installed package can be loaded from temporary location
** testing if installed package can be loaded from final location
** testing if installed package keeps a record of temporary installation path
install for x64
* installing *source* package 'MoonlightR' ...
** testing if installed package can be loaded
* MD5 sums
packaged installation of 'MoonlightR' as MoonlightR_1.14.1.zip
* DONE (MoonlightR)