| Back to Multiple platform build/check report for BioC 3.11 | 
  | 
This page was generated on 2020-10-17 11:57:10 -0400 (Sat, 17 Oct 2020).
| TO THE DEVELOPERS/MAINTAINERS OF THE Modstrings PACKAGE: Please make sure to use the following settings in order to reproduce any error or warning you see on this page. | 
| Package 1115/1905 | Hostname | OS / Arch | INSTALL | BUILD | CHECK | BUILD BIN | ||||||
| Modstrings 1.4.1 Felix G.M. Ernst 
  | malbec2 | Linux (Ubuntu 18.04.4 LTS) / x86_64 | OK | OK | OK | |||||||
| tokay2 | Windows Server 2012 R2 Standard / x64 | [ OK ] | OK | OK | OK | |||||||
| machv2 | macOS 10.14.6 Mojave / x86_64 | OK | OK | OK | OK | 
| Package: Modstrings | 
| Version: 1.4.1 | 
| Command: C:\cygwin\bin\curl.exe -O https://malbec2.bioconductor.org/BBS/3.11/bioc/src/contrib/Modstrings_1.4.1.tar.gz && rm -rf Modstrings.buildbin-libdir && mkdir Modstrings.buildbin-libdir && C:\Users\biocbuild\bbs-3.11-bioc\R\bin\R.exe CMD INSTALL --merge-multiarch --build --library=Modstrings.buildbin-libdir Modstrings_1.4.1.tar.gz && C:\Users\biocbuild\bbs-3.11-bioc\R\bin\R.exe CMD INSTALL Modstrings_1.4.1.zip && rm Modstrings_1.4.1.tar.gz Modstrings_1.4.1.zip | 
| StartedAt: 2020-10-16 17:51:58 -0400 (Fri, 16 Oct 2020) | 
| EndedAt: 2020-10-16 17:53:44 -0400 (Fri, 16 Oct 2020) | 
| EllapsedTime: 105.6 seconds | 
| RetCode: 0 | 
| Status: OK | 
##############################################################################
##############################################################################
###
### Running command:
###
###   C:\cygwin\bin\curl.exe -O https://malbec2.bioconductor.org/BBS/3.11/bioc/src/contrib/Modstrings_1.4.1.tar.gz && rm -rf Modstrings.buildbin-libdir && mkdir Modstrings.buildbin-libdir && C:\Users\biocbuild\bbs-3.11-bioc\R\bin\R.exe CMD INSTALL --merge-multiarch --build --library=Modstrings.buildbin-libdir Modstrings_1.4.1.tar.gz && C:\Users\biocbuild\bbs-3.11-bioc\R\bin\R.exe CMD INSTALL Modstrings_1.4.1.zip && rm Modstrings_1.4.1.tar.gz Modstrings_1.4.1.zip
###
##############################################################################
##############################################################################
  % Total    % Received % Xferd  Average Speed   Time    Time     Time  Current
                                 Dload  Upload   Total   Spent    Left  Speed
  0     0    0     0    0     0      0      0 --:--:-- --:--:-- --:--:--     0
100 78945  100 78945    0     0   324k      0 --:--:-- --:--:-- --:--:--  335k
install for i386
* installing *source* package 'Modstrings' ...
** using staged installation
** R
** data
** inst
** byte-compile and prepare package for lazy loading
** help
*** installing help indices
  converting help for package 'Modstrings'
    finding HTML links ... done
    MaskedModString                         html  
    ModDNAString                            html  
    ModRNAString                            html  
    ModString                               html  
    ModStringSet-io                         html  
    ModStringSet                            html  
    ModStringSetList                        html  
    ModStringViews                          html  
    Modstrings-internals                    html  
    Modstrings                              html  
    QualityScaledModStringSet               html  
    alphabet                                html  
    letterFrequency                         html  
    modifyNucleotides                       html  
    replaceLetterAt                         html  
    sanitizeInput                           html  
    separate                                html  
** building package indices
** installing vignettes
** testing if installed package can be loaded from temporary location
** testing if installed package can be loaded from final location
** testing if installed package keeps a record of temporary installation path
install for x64
* installing *source* package 'Modstrings' ...
** testing if installed package can be loaded
* MD5 sums
packaged installation of 'Modstrings' as Modstrings_1.4.1.zip
* DONE (Modstrings)
* installing to library 'C:/Users/biocbuild/bbs-3.11-bioc/R/library'
package 'Modstrings' successfully unpacked and MD5 sums checked