| Back to Multiple platform build/check report for BioC 3.11 | 
 | 
This page was generated on 2020-10-17 11:57:05 -0400 (Sat, 17 Oct 2020).
| TO THE DEVELOPERS/MAINTAINERS OF THE MicrobiotaProcess PACKAGE: Please make sure to use the following settings in order to reproduce any error or warning you see on this page. | 
| Package 1078/1905 | Hostname | OS / Arch | INSTALL | BUILD | CHECK | BUILD BIN | ||||||
| MicrobiotaProcess 1.0.5 Shuangbin Xu 
 | malbec2 | Linux (Ubuntu 18.04.4 LTS) / x86_64 | OK | OK | OK |  | ||||||
| tokay2 | Windows Server 2012 R2 Standard / x64 | OK | OK | OK | [ OK ] |  | ||||||
| machv2 | macOS 10.14.6 Mojave / x86_64 | OK | OK | OK | OK |  | 
| Package: MicrobiotaProcess | 
| Version: 1.0.5 | 
| Command: rm -rf MicrobiotaProcess.buildbin-libdir && mkdir MicrobiotaProcess.buildbin-libdir && C:\Users\biocbuild\bbs-3.11-bioc\R\bin\R.exe CMD INSTALL --merge-multiarch --build --library=MicrobiotaProcess.buildbin-libdir MicrobiotaProcess_1.0.5.tar.gz | 
| StartedAt: 2020-10-17 11:01:42 -0400 (Sat, 17 Oct 2020) | 
| EndedAt: 2020-10-17 11:03:02 -0400 (Sat, 17 Oct 2020) | 
| EllapsedTime: 79.6 seconds | 
| RetCode: 0 | 
| Status: OK | 
| PackageFile: MicrobiotaProcess_1.0.5.zip | 
| PackageFileSize: 1.246 MiB | 
##############################################################################
##############################################################################
###
### Running command:
###
###   rm -rf MicrobiotaProcess.buildbin-libdir && mkdir MicrobiotaProcess.buildbin-libdir && C:\Users\biocbuild\bbs-3.11-bioc\R\bin\R.exe CMD INSTALL --merge-multiarch --build --library=MicrobiotaProcess.buildbin-libdir MicrobiotaProcess_1.0.5.tar.gz
###
##############################################################################
##############################################################################
install for i386
* installing *source* package 'MicrobiotaProcess' ...
** using staged installation
** R
** data
** inst
** byte-compile and prepare package for lazy loading
** help
*** installing help indices
  converting help for package 'MicrobiotaProcess'
    finding HTML links ... done
    alphasample-class                       html  
    as.data.frame                           html  
    build_tree                              html  
    clustplotClass-class                    html  
    convert_to_treedata                     html  
    data-hmp_aerobiosis_small               html  
    data-kostic2012crc                      html  
    data-test_otu_data                      html  
    diffAnalysisClass-class                 html  
    diff_analysis                           html  
    drop_taxa                               html  
    generalizedFC                           html  
    geom_ord_ellipse                        html  
    get_alltaxadf                           html  
    get_alphaindex                          html  
    get_clust                               html  
    get_coord                               html  
    get_count                               html  
    get_dist                                html  
    get_mean_median                         html  
    get_pca                                 html  
    get_pcoa                                html  
    get_pvalue                              html  
    get_sampledflist                        html  
    get_taxadf                              html  
    get_upset                               html  
    get_varct                               html  
    get_vennlist                            html  
    ggbartax                                html  
    ggbox                                   html  
    ggclust                                 html  
    ggdiffbox                               html  
    ggdiffclade                             html  
    ggdifftaxbar                            html  
    ggeffectsize                            html  
    ggordpoint                              html  
    ggrarecurve                             html  
    finding level-2 HTML links ... done
    import_dada2                            html  
    import_qiime2                           html  
    mappingtaxda                            html  
    mapply_retrieve_seq                     html  
    multi_compare                           html  
    ordplotClass-class                      html  
    pcasample-class                         html  
    pcoa-class                              html  
    prcomp-class                            html  
    read_qza                                html  
    retrieve_seq                            html  
    show-methods                            html  
    split_data                              html  
    split_str_to_list                       html  
    stat_rare                               html  
    theme_taxbar                            html  
** building package indices
** installing vignettes
** testing if installed package can be loaded from temporary location
** testing if installed package can be loaded from final location
** testing if installed package keeps a record of temporary installation path
install for x64
* installing *source* package 'MicrobiotaProcess' ...
** testing if installed package can be loaded
* MD5 sums
packaged installation of 'MicrobiotaProcess' as MicrobiotaProcess_1.0.5.zip
* DONE (MicrobiotaProcess)