Back to Multiple platform build/check report for BioC 3.11 |
|
This page was generated on 2020-01-16 13:39:47 -0500 (Thu, 16 Jan 2020).
Package 1022/1818 | Hostname | OS / Arch | INSTALL | BUILD | CHECK | BUILD BIN | ||||||
MethylMix 2.17.0 Olivier Gevaert
| malbec2 | Linux (Ubuntu 18.04.3 LTS) / x86_64 | OK | OK | OK | |||||||
tokay2 | Windows Server 2012 R2 Standard / x64 | OK | OK | OK | OK | |||||||
celaya2 | OS X 10.11.6 El Capitan / x86_64 | OK | OK | OK | [ OK ] |
Package: MethylMix |
Version: 2.17.0 |
Command: rm -rf MethylMix.buildbin-libdir && mkdir MethylMix.buildbin-libdir && /Users/biocbuild/BBS/utils/build-universal.sh MethylMix_2.17.0.tar.gz /Library/Frameworks/R.framework/Versions/Current/Resources/bin/R MethylMix.buildbin-libdir |
StartedAt: 2020-01-16 11:17:32 -0500 (Thu, 16 Jan 2020) |
EndedAt: 2020-01-16 11:17:47 -0500 (Thu, 16 Jan 2020) |
EllapsedTime: 15.6 seconds |
RetCode: 0 |
Status: OK |
PackageFile: MethylMix_2.17.0.tgz |
PackageFileSize: 3.026 MiB |
############################################################################## ############################################################################## ### ### Running command: ### ### rm -rf MethylMix.buildbin-libdir && mkdir MethylMix.buildbin-libdir && /Users/biocbuild/BBS/utils/build-universal.sh MethylMix_2.17.0.tar.gz /Library/Frameworks/R.framework/Versions/Current/Resources/bin/R MethylMix.buildbin-libdir ### ############################################################################## ############################################################################## >>>>>>> >>>>>>> INSTALLATION WITH 'R CMD INSTALL --preclean --no-multiarch --library=MethylMix.buildbin-libdir MethylMix_2.17.0.tar.gz' >>>>>>> * installing *source* package ‘MethylMix’ ... ** using staged installation ** R ** data *** moving datasets to lazyload DB ** inst ** byte-compile and prepare package for lazy loading ** help *** installing help indices ** building package indices ** installing vignettes ** testing if installed package can be loaded from temporary location ** testing if installed package can be loaded from final location ** testing if installed package keeps a record of temporary installation path * DONE (MethylMix)