| Back to Multiple platform build/check report for BioC 3.11 | 
 | 
This page was generated on 2020-10-17 11:57:04 -0400 (Sat, 17 Oct 2020).
| TO THE DEVELOPERS/MAINTAINERS OF THE MethTargetedNGS PACKAGE: Please make sure to use the following settings in order to reproduce any error or warning you see on this page. | 
| Package 1053/1905 | Hostname | OS / Arch | INSTALL | BUILD | CHECK | BUILD BIN | ||||||
| MethTargetedNGS 1.20.0 Muhammad Ahmer Jamil 
 | malbec2 | Linux (Ubuntu 18.04.4 LTS) / x86_64 | OK | OK | OK |  | ||||||
| tokay2 | Windows Server 2012 R2 Standard / x64 | [ OK ] | OK | OK | OK |  | ||||||
| machv2 | macOS 10.14.6 Mojave / x86_64 | OK | OK | OK | OK |  | 
| Package: MethTargetedNGS | 
| Version: 1.20.0 | 
| Command: C:\cygwin\bin\curl.exe -O https://malbec2.bioconductor.org/BBS/3.11/bioc/src/contrib/MethTargetedNGS_1.20.0.tar.gz && rm -rf MethTargetedNGS.buildbin-libdir && mkdir MethTargetedNGS.buildbin-libdir && C:\Users\biocbuild\bbs-3.11-bioc\R\bin\R.exe CMD INSTALL --merge-multiarch --build --library=MethTargetedNGS.buildbin-libdir MethTargetedNGS_1.20.0.tar.gz && C:\Users\biocbuild\bbs-3.11-bioc\R\bin\R.exe CMD INSTALL MethTargetedNGS_1.20.0.zip && rm MethTargetedNGS_1.20.0.tar.gz MethTargetedNGS_1.20.0.zip | 
| StartedAt: 2020-10-16 17:25:58 -0400 (Fri, 16 Oct 2020) | 
| EndedAt: 2020-10-16 17:26:31 -0400 (Fri, 16 Oct 2020) | 
| EllapsedTime: 32.8 seconds | 
| RetCode: 0 | 
| Status: OK | 
##############################################################################
##############################################################################
###
### Running command:
###
###   C:\cygwin\bin\curl.exe -O https://malbec2.bioconductor.org/BBS/3.11/bioc/src/contrib/MethTargetedNGS_1.20.0.tar.gz && rm -rf MethTargetedNGS.buildbin-libdir && mkdir MethTargetedNGS.buildbin-libdir && C:\Users\biocbuild\bbs-3.11-bioc\R\bin\R.exe CMD INSTALL --merge-multiarch --build --library=MethTargetedNGS.buildbin-libdir MethTargetedNGS_1.20.0.tar.gz && C:\Users\biocbuild\bbs-3.11-bioc\R\bin\R.exe CMD INSTALL MethTargetedNGS_1.20.0.zip && rm MethTargetedNGS_1.20.0.tar.gz MethTargetedNGS_1.20.0.zip
###
##############################################################################
##############################################################################
  % Total    % Received % Xferd  Average Speed   Time    Time     Time  Current
                                 Dload  Upload   Total   Spent    Left  Speed
  0     0    0     0    0     0      0      0 --:--:-- --:--:-- --:--:--     0
100 14231  100 14231    0     0   212k      0 --:--:-- --:--:-- --:--:--  239k
install for i386
* installing *source* package 'MethTargetedNGS' ...
** using staged installation
** R
** inst
** byte-compile and prepare package for lazy loading
** help
*** installing help indices
  converting help for package 'MethTargetedNGS'
    finding HTML links ... done
    MethTargetedNGS-package                 html  
    bconv                                   html  
    compare_samples                         html  
    fishertest_cpg                          html  
    hmmbuild                                html  
    methAlign                               html  
    methAvg                                 html  
    methEntropy                             html  
    methHeatmap                             html  
    nhmmer                                  html  
    odd_ratio                               html  
** building package indices
** installing vignettes
** testing if installed package can be loaded from temporary location
** testing if installed package can be loaded from final location
** testing if installed package keeps a record of temporary installation path
install for x64
* installing *source* package 'MethTargetedNGS' ...
** testing if installed package can be loaded
* MD5 sums
packaged installation of 'MethTargetedNGS' as MethTargetedNGS_1.20.0.zip
* DONE (MethTargetedNGS)
* installing to library 'C:/Users/biocbuild/bbs-3.11-bioc/R/library'
package 'MethTargetedNGS' successfully unpacked and MD5 sums checked