| Back to Multiple platform build/check report for BioC 3.11 | 
 | 
This page was generated on 2020-10-17 11:55:06 -0400 (Sat, 17 Oct 2020).
| TO THE DEVELOPERS/MAINTAINERS OF THE MetaCyto PACKAGE: Please make sure to use the following settings in order to reproduce any error or warning you see on this page. | 
| Package 1034/1905 | Hostname | OS / Arch | INSTALL | BUILD | CHECK | BUILD BIN | ||||||
| MetaCyto 1.10.0 Zicheng Hu 
 | malbec2 | Linux (Ubuntu 18.04.4 LTS) / x86_64 | OK | [ OK ] | OK |  | ||||||
| tokay2 | Windows Server 2012 R2 Standard / x64 | OK | OK | OK | OK |  | ||||||
| machv2 | macOS 10.14.6 Mojave / x86_64 | OK | OK | OK | OK |  | 
| Package: MetaCyto | 
| Version: 1.10.0 | 
| Command: /home/biocbuild/bbs-3.11-bioc/R/bin/R CMD build --keep-empty-dirs --no-resave-data MetaCyto | 
| StartedAt: 2020-10-16 20:15:22 -0400 (Fri, 16 Oct 2020) | 
| EndedAt: 2020-10-16 20:18:39 -0400 (Fri, 16 Oct 2020) | 
| EllapsedTime: 196.4 seconds | 
| RetCode: 0 | 
| Status: OK | 
| PackageFile: MetaCyto_1.10.0.tar.gz | 
| PackageFileSize: 971.8 KiB | 
############################################################################## ############################################################################## ### ### Running command: ### ### /home/biocbuild/bbs-3.11-bioc/R/bin/R CMD build --keep-empty-dirs --no-resave-data MetaCyto ### ############################################################################## ############################################################################## * checking for file ‘MetaCyto/DESCRIPTION’ ... OK * preparing ‘MetaCyto’: * checking DESCRIPTION meta-information ... OK * installing the package to build vignettes * creating vignettes ... OK * checking for LF line-endings in source and make files and shell scripts * checking for empty or unneeded directories * building ‘MetaCyto_1.10.0.tar.gz’