| Back to Multiple platform build/check report for BioC 3.11 |
|
This page was generated on 2020-01-16 13:44:20 -0500 (Thu, 16 Jan 2020).
| Package 986/1818 | Hostname | OS / Arch | INSTALL | BUILD | CHECK | BUILD BIN | ||||||
| Mergeomics 1.15.0 Zeyneb Kurt
| malbec2 | Linux (Ubuntu 18.04.3 LTS) / x86_64 | OK | OK | OK | |||||||
| tokay2 | Windows Server 2012 R2 Standard / x64 | OK | OK | OK | OK | |||||||
| celaya2 | OS X 10.11.6 El Capitan / x86_64 | OK | OK | [ OK ] | OK |
| Package: Mergeomics |
| Version: 1.15.0 |
| Command: /Library/Frameworks/R.framework/Versions/Current/Resources/bin/R CMD check --install=check:Mergeomics.install-out.txt --library=/Library/Frameworks/R.framework/Versions/Current/Resources/library --no-vignettes --timings Mergeomics_1.15.0.tar.gz |
| StartedAt: 2020-01-16 06:12:21 -0500 (Thu, 16 Jan 2020) |
| EndedAt: 2020-01-16 06:27:54 -0500 (Thu, 16 Jan 2020) |
| EllapsedTime: 933.6 seconds |
| RetCode: 0 |
| Status: OK |
| CheckDir: Mergeomics.Rcheck |
| Warnings: 0 |
##############################################################################
##############################################################################
###
### Running command:
###
### /Library/Frameworks/R.framework/Versions/Current/Resources/bin/R CMD check --install=check:Mergeomics.install-out.txt --library=/Library/Frameworks/R.framework/Versions/Current/Resources/library --no-vignettes --timings Mergeomics_1.15.0.tar.gz
###
##############################################################################
##############################################################################
* using log directory ‘/Users/biocbuild/bbs-3.11-bioc/meat/Mergeomics.Rcheck’
* using R Under development (unstable) (2019-12-14 r77572)
* using platform: x86_64-apple-darwin15.6.0 (64-bit)
* using session charset: UTF-8
* using option ‘--no-vignettes’
* checking for file ‘Mergeomics/DESCRIPTION’ ... OK
* checking extension type ... Package
* this is package ‘Mergeomics’ version ‘1.15.0’
* checking package namespace information ... OK
* checking package dependencies ... OK
* checking if this is a source package ... OK
* checking if there is a namespace ... OK
* checking for hidden files and directories ... OK
* checking for portable file names ... OK
* checking for sufficient/correct file permissions ... OK
* checking whether package ‘Mergeomics’ can be installed ... OK
* checking installed package size ... NOTE
installed size is 8.3Mb
sub-directories of 1Mb or more:
extdata 7.5Mb
* checking package directory ... OK
* checking ‘build’ directory ... OK
* checking DESCRIPTION meta-information ... OK
* checking top-level files ... OK
* checking for left-over files ... OK
* checking index information ... OK
* checking package subdirectories ... OK
* checking R files for non-ASCII characters ... OK
* checking R files for syntax errors ... OK
* checking whether the package can be loaded ... OK
* checking whether the package can be loaded with stated dependencies ... OK
* checking whether the package can be unloaded cleanly ... OK
* checking whether the namespace can be loaded with stated dependencies ... OK
* checking whether the namespace can be unloaded cleanly ... OK
* checking dependencies in R code ... OK
* checking S3 generic/method consistency ... OK
* checking replacement functions ... OK
* checking foreign function calls ... OK
* checking R code for possible problems ... NOTE
kda.analyze: no visible global function definition for ‘p.adjust’
kda.analyze.exec: no visible global function definition for ‘pnorm’
kda.analyze.simulate: no visible global function definition for ‘rnorm’
kda.prepare: no visible global function definition for ‘quantile’
kda.prepare: no visible global function definition for ‘object.size’
kda.prepare.screen: no visible global function definition for
‘quantile’
kda.prepare.screen: no visible global function definition for ‘median’
kda.start: no visible global function definition for ‘object.size’
kda2cytoscape: no visible global function definition for ‘write.table’
kda2cytoscape.colormap: no visible global function definition for
‘rainbow’
kda2cytoscape.colormap: no visible global function definition for
‘col2rgb’
kda2himmeli: no visible global function definition for ‘quantile’
kda2himmeli: no visible global function definition for ‘write.table’
kda2himmeli.colormap: no visible global function definition for
‘rainbow’
kda2himmeli.colormap: no visible global function definition for
‘col2rgb’
ssea.analyze: no visible global function definition for ‘qnorm’
ssea.analyze: no visible global function definition for ‘approx’
ssea.analyze: no visible global function definition for ‘pnorm’
ssea.analyze.simulate: no visible global function definition for
‘quantile’
ssea.control: no visible global function definition for ‘median’
ssea.control: no visible global function definition for ‘object.size’
ssea.meta: no visible global function definition for ‘qnorm’
ssea.meta: no visible global function definition for ‘quantile’
ssea.meta: no visible global function definition for ‘pnorm’
ssea.meta: no visible global function definition for ‘median’
ssea.meta: no visible global function definition for ‘na.omit’
ssea.prepare: no visible global function definition for ‘median’
ssea.prepare: no visible global function definition for ‘object.size’
ssea.start: no visible global function definition for ‘na.omit’
ssea.start: no visible global function definition for ‘object.size’
ssea.start.configure: no visible global function definition for
‘write.table’
ssea2kda: no visible global function definition for ‘na.omit’
ssea2kda.import: no visible global function definition for ‘na.omit’
tool.aggregate: no visible global function definition for ‘na.omit’
tool.cluster: no visible global function definition for ‘as.dist’
tool.cluster: no visible global function definition for ‘hclust’
tool.fdr.bh: no visible global function definition for ‘qnorm’
tool.fdr.bh: no visible global function definition for ‘p.adjust’
tool.fdr.bh: no visible global function definition for ‘approx’
tool.fdr.empirical: no visible global function definition for ‘qnorm’
tool.fdr.empirical: no visible global function definition for ‘approx’
tool.metap: no visible global function definition for ‘qnorm’
tool.metap: no visible global function definition for ‘pnorm’
tool.normalize: no visible global function definition for ‘sd’
tool.normalize: no visible global function definition for ‘median’
tool.normalize: no visible global function definition for ‘optim’
tool.normalize: no visible global function definition for ‘ks.test’
tool.normalize.quality: no visible global function definition for ‘sd’
tool.normalize.quality: no visible global function definition for
‘ks.test’
tool.overlap: no visible global function definition for ‘phyper’
tool.read: no visible global function definition for ‘read.delim’
tool.read: no visible global function definition for ‘na.omit’
tool.save: no visible global function definition for ‘write.table’
tool.unify: no visible global function definition for ‘sd’
tool.unify: no visible global function definition for ‘quantile’
tool.unify: no visible global function definition for ‘approx’
Undefined global functions or variables:
approx as.dist col2rgb hclust ks.test median na.omit object.size
optim p.adjust phyper pnorm qnorm quantile rainbow read.delim rnorm
sd write.table
Consider adding
importFrom("grDevices", "col2rgb", "rainbow")
importFrom("stats", "approx", "as.dist", "hclust", "ks.test", "median",
"na.omit", "optim", "p.adjust", "phyper", "pnorm", "qnorm",
"quantile", "rnorm", "sd")
importFrom("utils", "object.size", "read.delim", "write.table")
to your NAMESPACE file.
* checking Rd files ... OK
* checking Rd metadata ... OK
* checking Rd cross-references ... OK
* checking for missing documentation entries ... OK
* checking for code/documentation mismatches ... OK
* checking Rd \usage sections ... OK
* checking Rd contents ... OK
* checking for unstated dependencies in examples ... OK
* checking contents of ‘data’ directory ... OK
* checking data for non-ASCII characters ... OK
* checking data for ASCII and uncompressed saves ... OK
* checking sizes of PDF files under ‘inst/doc’ ... OK
* checking files in ‘vignettes’ ... OK
* checking examples ... OK
Examples with CPU (user + system) or elapsed time > 5s
user system elapsed
kda.analyze.exec 14.522 0.714 15.249
kda.analyze.simulate 13.829 0.515 14.345
kda.analyze.test 13.707 0.481 14.188
kda.prepare 13.324 0.489 13.814
ssea2kda 9.997 1.220 11.218
ssea2kda.analyze 9.730 1.147 10.878
ssea.meta 8.570 0.416 8.986
ssea2kda.import 8.126 0.723 8.848
ssea.finish.fdr 7.896 0.731 8.627
ssea.finish.genes 7.865 0.742 8.609
ssea.analyze 7.890 0.606 8.502
ssea.finish 7.412 0.580 8.001
ssea.finish.details 7.193 0.603 7.798
ssea.analyze.simulate 6.861 0.657 7.519
ssea.analyze.observe 6.066 0.098 6.165
ssea.prepare.structure 5.961 0.095 6.055
ssea.start 5.776 0.093 5.870
ssea.analyze.randgenes 5.665 0.089 5.753
ssea.prepare 5.609 0.113 5.722
ssea.control 5.474 0.097 5.572
ssea.analyze.randloci 5.143 0.093 5.235
ssea.start.relabel 5.124 0.083 5.207
ssea.prepare.counts 5.111 0.079 5.190
* checking for unstated dependencies in ‘tests’ ... OK
* checking tests ...
Running ‘runTests.R’
OK
* checking for unstated dependencies in vignettes ... OK
* checking package vignettes in ‘inst/doc’ ... OK
* checking running R code from vignettes ... SKIPPED
* checking re-building of vignette outputs ... SKIPPED
* checking PDF version of manual ... OK
* DONE
Status: 2 NOTEs
See
‘/Users/biocbuild/bbs-3.11-bioc/meat/Mergeomics.Rcheck/00check.log’
for details.
Mergeomics.Rcheck/00install.out
############################################################################## ############################################################################## ### ### Running command: ### ### /Library/Frameworks/R.framework/Versions/Current/Resources/bin/R CMD INSTALL Mergeomics ### ############################################################################## ############################################################################## * installing to library ‘/Library/Frameworks/R.framework/Versions/4.0/Resources/library’ * installing *source* package ‘Mergeomics’ ... ** using staged installation ** R ** data ** inst ** byte-compile and prepare package for lazy loading ** help *** installing help indices ** building package indices ** installing vignettes ** testing if installed package can be loaded from temporary location ** testing if installed package can be loaded from final location ** testing if installed package keeps a record of temporary installation path * DONE (Mergeomics)
Mergeomics.Rcheck/tests/runTests.Rout
R Under development (unstable) (2019-12-14 r77572) -- "Unsuffered Consequences"
Copyright (C) 2019 The R Foundation for Statistical Computing
Platform: x86_64-apple-darwin15.6.0 (64-bit)
R is free software and comes with ABSOLUTELY NO WARRANTY.
You are welcome to redistribute it under certain conditions.
Type 'license()' or 'licence()' for distribution details.
R is a collaborative project with many contributors.
Type 'contributors()' for more information and
'citation()' on how to cite R or R packages in publications.
Type 'demo()' for some demos, 'help()' for on-line help, or
'help.start()' for an HTML browser interface to help.
Type 'q()' to quit R.
> BiocGenerics:::testPackage("Mergeomics")
KDA Version:12.7.2015
Parameters:
Search depth: 1
Search direction: 1
Maximum overlap: 0.33
Minimum module size: 20
Minimum degree: automatic
Maximum degree: automatic
Edge factor: 0
Random seed: 1
Importing edges...
TAIL HEAD WEIGHT
Length:140663 Length:140663 Min. :1
Class :character Class :character 1st Qu.:1
Mode :character Mode :character Median :1
Mean :1
3rd Qu.:1
Max. :1
Importing modules...
MODULE NODE
Length:1643 Length:1643
Class :character Class :character
Mode :character Mode :character
Graph: 7.694687 Mb
Minimum degree set to 20
Maximum degree set to 278
Collecting hubs...
4876 hubs (25.21%)
Graph: 13.28496 Mb
Analyzing network...
6675: Dhcr7, n=114, p=2.24e-17
6648: Cit, n=20, p=7.89e-01
6643: Pbx4, n=23, p=2.32e-05
5582: Sypl, n=319, p=2.02e-02
4746: Tcf7l2, n=73, p=2.63e-02
4708: Tpte, n=86, p=5.05e-02
4511: Pzp, n=160, p=8.85e-03
4464: Tsc22d3, n=487, p=4.28e-13
4407: Dntt, n=93, p=2.40e-20
4360: Amica1, n=132, p=1.06e-06
4588,..: Lrg1, n=86, p=5.76e-12
MSEA Version:01.04.2016
Parameters:
Permutation type: gene
Permutations: 100
Random seed: 1
Minimum gene count: 10
Maximum gene count: 500
Maximum overlap between genes: 0.33
Importing modules...
MODULE DESCR
Length:20 Length:20
Class :character Class :character
Mode :character Mode :character
MODULE GENE
Length:2906 Length:2906
Class :character Class :character
Mode :character Mode :character
Importing marker values...
MARKER VALUE
Length:76866 Min. : 0.8094
Class :character 1st Qu.: 0.9450
Mode :character Median : 1.1374
Mean : 1.3944
3rd Qu.: 1.4688
Max. :323.0100
Importing mapping data...
GENE MARKER
Length:132705 Length:132705
Class :character Class :character
Mode :character Mode :character
Merging genes containing shared markers...
WARNING! Limited overlap analysis due to large number of groups.
75042/1673535
154923/1673535
229142/1673535
305083/1673535
385872/1673535
464161/1673535
550131/1673535
622454/1673535
711025/1673535
789325/1673535
876761/1673535
955522/1673535
1033503/1673535
1105405/1673535
1176066/1673535
1239531/1673535
1303209/1673535
1369070/1673535
1431817/1673535
1510845/1673535
1582703/1673535
1659290/1673535
1673535 comparisons
21115 comparisons
13861 comparisons
12880 comparisons
Job: 11.66891 Mb
Preparing data structures...
Job: 17.11776 Mb
Adding positive controls...
Job: 17.42039 Mb
Estimating enrichment...
100/100 cycles
Normalizing scores...
RUNIT TEST PROTOCOL -- Thu Jan 16 06:27:43 2020
***********************************************
Number of test functions: 2
Number of errors: 0
Number of failures: 0
1 Test Suite :
Mergeomics RUnit Tests - 2 test functions, 0 errors, 0 failures
Number of test functions: 2
Number of errors: 0
Number of failures: 0
>
> proc.time()
user system elapsed
640.260 22.991 666.303
Mergeomics.Rcheck/Mergeomics-Ex.timings
| name | user | system | elapsed | |
| MSEA.KDA.onestep | 0.002 | 0.001 | 0.003 | |
| job.kda | 0.019 | 0.005 | 0.024 | |
| kda.analyze | 0.021 | 0.006 | 0.027 | |
| kda.analyze.exec | 14.522 | 0.714 | 15.249 | |
| kda.analyze.simulate | 13.829 | 0.515 | 14.345 | |
| kda.analyze.test | 13.707 | 0.481 | 14.188 | |
| kda.configure | 0.002 | 0.001 | 0.003 | |
| kda.finish | 0.188 | 0.016 | 0.205 | |
| kda.finish.estimate | 0.131 | 0.010 | 0.141 | |
| kda.finish.save | 0.086 | 0.012 | 0.098 | |
| kda.finish.summarize | 0.078 | 0.005 | 0.084 | |
| kda.finish.trim | 0.078 | 0.005 | 0.084 | |
| kda.prepare | 13.324 | 0.489 | 13.814 | |
| kda.prepare.overlap | 0.001 | 0.000 | 0.001 | |
| kda.prepare.screen | 0.001 | 0.000 | 0.001 | |
| kda.start | 1.991 | 0.191 | 2.182 | |
| kda.start.edges | 0.002 | 0.001 | 0.003 | |
| kda.start.identify | 0.006 | 0.001 | 0.007 | |
| kda.start.modules | 0.002 | 0.001 | 0.003 | |
| kda2cytoscape | 0.514 | 0.016 | 0.530 | |
| kda2cytoscape.colorize | 0 | 0 | 0 | |
| kda2cytoscape.colormap | 0.001 | 0.000 | 0.001 | |
| kda2cytoscape.drivers | 0.153 | 0.010 | 0.164 | |
| kda2cytoscape.edges | 0.158 | 0.010 | 0.168 | |
| kda2cytoscape.exec | 0.157 | 0.015 | 0.173 | |
| kda2cytoscape.identify | 0.005 | 0.000 | 0.006 | |
| kda2himmeli | 0.656 | 0.025 | 0.682 | |
| kda2himmeli.colorize | 0.000 | 0.000 | 0.001 | |
| kda2himmeli.colormap | 0.001 | 0.000 | 0.001 | |
| kda2himmeli.drivers | 0.230 | 0.016 | 0.246 | |
| kda2himmeli.edges | 0.239 | 0.022 | 0.261 | |
| kda2himmeli.exec | 0.339 | 0.017 | 0.357 | |
| kda2himmeli.identify | 0.008 | 0.001 | 0.008 | |
| ssea.analyze | 7.890 | 0.606 | 8.502 | |
| ssea.analyze.observe | 6.066 | 0.098 | 6.165 | |
| ssea.analyze.randgenes | 5.665 | 0.089 | 5.753 | |
| ssea.analyze.randloci | 5.143 | 0.093 | 5.235 | |
| ssea.analyze.simulate | 6.861 | 0.657 | 7.519 | |
| ssea.analyze.statistic | 0.000 | 0.000 | 0.001 | |
| ssea.control | 5.474 | 0.097 | 5.572 | |
| ssea.finish | 7.412 | 0.580 | 8.001 | |
| ssea.finish.details | 7.193 | 0.603 | 7.798 | |
| ssea.finish.fdr | 7.896 | 0.731 | 8.627 | |
| ssea.finish.genes | 7.865 | 0.742 | 8.609 | |
| ssea.meta | 8.570 | 0.416 | 8.986 | |
| ssea.prepare | 5.609 | 0.113 | 5.722 | |
| ssea.prepare.counts | 5.111 | 0.079 | 5.190 | |
| ssea.prepare.structure | 5.961 | 0.095 | 6.055 | |
| ssea.start | 5.776 | 0.093 | 5.870 | |
| ssea.start.configure | 0.530 | 0.050 | 0.578 | |
| ssea.start.identify | 0.008 | 0.001 | 0.009 | |
| ssea.start.relabel | 5.124 | 0.083 | 5.207 | |
| ssea2kda | 9.997 | 1.220 | 11.218 | |
| ssea2kda.analyze | 9.730 | 1.147 | 10.878 | |
| ssea2kda.import | 8.126 | 0.723 | 8.848 | |
| tool.aggregate | 0.003 | 0.001 | 0.004 | |
| tool.cluster | 0.030 | 0.002 | 0.032 | |
| tool.cluster.static | 0.001 | 0.000 | 0.002 | |
| tool.coalesce | 0.085 | 0.001 | 0.087 | |
| tool.coalesce.exec | 0.213 | 0.002 | 0.215 | |
| tool.coalesce.find | 0.233 | 0.002 | 0.234 | |
| tool.coalesce.merge | 0.274 | 0.019 | 0.292 | |
| tool.fdr | 0.001 | 0.001 | 0.001 | |
| tool.fdr.bh | 0.001 | 0.000 | 0.002 | |
| tool.fdr.empirical | 0.001 | 0.000 | 0.002 | |
| tool.graph | 1.666 | 0.170 | 1.836 | |
| tool.graph.degree | 2.231 | 0.170 | 2.402 | |
| tool.graph.list | 1.733 | 0.161 | 1.893 | |
| tool.metap | 0.006 | 0.001 | 0.007 | |
| tool.normalize | 0.024 | 0.000 | 0.025 | |
| tool.normalize.quality | 0.022 | 0.001 | 0.022 | |
| tool.overlap | 0.014 | 0.001 | 0.014 | |
| tool.read | 0.391 | 0.040 | 0.431 | |
| tool.save | 0.003 | 0.001 | 0.004 | |
| tool.subgraph | 0.138 | 0.010 | 0.148 | |
| tool.subgraph.find | 0.126 | 0.008 | 0.133 | |
| tool.subgraph.search | 0.124 | 0.007 | 0.132 | |
| tool.subgraph.stats | 0.189 | 0.013 | 0.202 | |
| tool.translate | 0.075 | 0.004 | 0.079 | |
| tool.unify | 0.001 | 0.000 | 0.001 | |