| Back to Multiple platform build/check report for BioC 3.11 |
|
This page was generated on 2020-10-17 11:57:02 -0400 (Sat, 17 Oct 2020).
| TO THE DEVELOPERS/MAINTAINERS OF THE MergeMaid PACKAGE: Please make sure to use the following settings in order to reproduce any error or warning you see on this page. |
| Package 1023/1905 | Hostname | OS / Arch | INSTALL | BUILD | CHECK | BUILD BIN | ||||||
Xiaogang Zhong
| malbec2 | Linux (Ubuntu 18.04.4 LTS) / x86_64 | OK | OK | ERROR | |||||||
| tokay2 | Windows Server 2012 R2 Standard / x64 | [ OK ] | OK | ERROR | OK | |||||||
| machv2 | macOS 10.14.6 Mojave / x86_64 | OK | OK | ERROR | OK |
| Package: MergeMaid |
| Version: 2.60.0 |
| Command: C:\cygwin\bin\curl.exe -O https://malbec2.bioconductor.org/BBS/3.11/bioc/src/contrib/MergeMaid_2.60.0.tar.gz && rm -rf MergeMaid.buildbin-libdir && mkdir MergeMaid.buildbin-libdir && C:\Users\biocbuild\bbs-3.11-bioc\R\bin\R.exe CMD INSTALL --merge-multiarch --build --library=MergeMaid.buildbin-libdir MergeMaid_2.60.0.tar.gz && C:\Users\biocbuild\bbs-3.11-bioc\R\bin\R.exe CMD INSTALL MergeMaid_2.60.0.zip && rm MergeMaid_2.60.0.tar.gz MergeMaid_2.60.0.zip |
| StartedAt: 2020-10-16 17:03:17 -0400 (Fri, 16 Oct 2020) |
| EndedAt: 2020-10-16 17:04:01 -0400 (Fri, 16 Oct 2020) |
| EllapsedTime: 44.6 seconds |
| RetCode: 0 |
| Status: OK |
##############################################################################
##############################################################################
###
### Running command:
###
### C:\cygwin\bin\curl.exe -O https://malbec2.bioconductor.org/BBS/3.11/bioc/src/contrib/MergeMaid_2.60.0.tar.gz && rm -rf MergeMaid.buildbin-libdir && mkdir MergeMaid.buildbin-libdir && C:\Users\biocbuild\bbs-3.11-bioc\R\bin\R.exe CMD INSTALL --merge-multiarch --build --library=MergeMaid.buildbin-libdir MergeMaid_2.60.0.tar.gz && C:\Users\biocbuild\bbs-3.11-bioc\R\bin\R.exe CMD INSTALL MergeMaid_2.60.0.zip && rm MergeMaid_2.60.0.tar.gz MergeMaid_2.60.0.zip
###
##############################################################################
##############################################################################
% Total % Received % Xferd Average Speed Time Time Time Current
Dload Upload Total Spent Left Speed
0 0 0 0 0 0 0 0 --:--:-- --:--:-- --:--:-- 0
0 0 0 0 0 0 0 0 --:--:-- --:--:-- --:--:-- 0
100 339k 100 339k 0 0 5214k 0 --:--:-- --:--:-- --:--:-- 5663k
install for i386
* installing *source* package 'MergeMaid' ...
** using staged installation
** R
** data
** byte-compile and prepare package for lazy loading
** help
*** installing help indices
converting help for package 'MergeMaid'
finding HTML links ... done
class.mergeCoeff html
class.mergeCor html
class.mergeExpressionSet html
intCor html
intcorDens html
intersection html
mergeData html
mergeExprs html
modelOutcome html
** building package indices
** installing vignettes
** testing if installed package can be loaded from temporary location
Warning: Package 'MergeMaid' is deprecated and will be removed from Bioconductor
version 3.12
** testing if installed package can be loaded from final location
Warning: Package 'MergeMaid' is deprecated and will be removed from Bioconductor
version 3.12
** testing if installed package keeps a record of temporary installation path
install for x64
* installing *source* package 'MergeMaid' ...
** testing if installed package can be loaded
Warning: Package 'MergeMaid' is deprecated and will be removed from Bioconductor
version 3.12
* MD5 sums
packaged installation of 'MergeMaid' as MergeMaid_2.60.0.zip
* DONE (MergeMaid)
* installing to library 'C:/Users/biocbuild/bbs-3.11-bioc/R/library'
package 'MergeMaid' successfully unpacked and MD5 sums checked