| Back to Multiple platform build/check report for BioC 3.11 |
|
This page was generated on 2020-10-17 11:58:51 -0400 (Sat, 17 Oct 2020).
| TO THE DEVELOPERS/MAINTAINERS OF THE MatrixGenerics PACKAGE: Please make sure to use the following settings in order to reproduce any error or warning you see on this page. |
| Package 996/1905 | Hostname | OS / Arch | INSTALL | BUILD | CHECK | BUILD BIN | ||||||
| MatrixGenerics 1.0.2 Peter Hickey
| malbec2 | Linux (Ubuntu 18.04.4 LTS) / x86_64 | OK | OK | OK | |||||||
| tokay2 | Windows Server 2012 R2 Standard / x64 | OK | OK | OK | OK | |||||||
| machv2 | macOS 10.14.6 Mojave / x86_64 | OK | OK | [ OK ] | OK |
| Package: MatrixGenerics |
| Version: 1.0.2 |
| Command: /Library/Frameworks/R.framework/Versions/Current/Resources/bin/R CMD check --install=check:MatrixGenerics.install-out.txt --library=/Library/Frameworks/R.framework/Versions/Current/Resources/library --no-vignettes --timings MatrixGenerics_1.0.2.tar.gz |
| StartedAt: 2020-10-17 02:39:24 -0400 (Sat, 17 Oct 2020) |
| EndedAt: 2020-10-17 02:40:07 -0400 (Sat, 17 Oct 2020) |
| EllapsedTime: 42.8 seconds |
| RetCode: 0 |
| Status: OK |
| CheckDir: MatrixGenerics.Rcheck |
| Warnings: 0 |
############################################################################## ############################################################################## ### ### Running command: ### ### /Library/Frameworks/R.framework/Versions/Current/Resources/bin/R CMD check --install=check:MatrixGenerics.install-out.txt --library=/Library/Frameworks/R.framework/Versions/Current/Resources/library --no-vignettes --timings MatrixGenerics_1.0.2.tar.gz ### ############################################################################## ############################################################################## * using log directory ‘/Users/biocbuild/bbs-3.11-bioc/meat/MatrixGenerics.Rcheck’ * using R version 4.0.3 (2020-10-10) * using platform: x86_64-apple-darwin17.0 (64-bit) * using session charset: UTF-8 * using option ‘--no-vignettes’ * checking for file ‘MatrixGenerics/DESCRIPTION’ ... OK * this is package ‘MatrixGenerics’ version ‘1.0.2’ * package encoding: UTF-8 * checking package namespace information ... OK * checking package dependencies ... OK * checking if this is a source package ... OK * checking if there is a namespace ... OK * checking for hidden files and directories ... OK * checking for portable file names ... OK * checking for sufficient/correct file permissions ... OK * checking whether package ‘MatrixGenerics’ can be installed ... OK * checking installed package size ... OK * checking package directory ... OK * checking DESCRIPTION meta-information ... OK * checking top-level files ... OK * checking for left-over files ... OK * checking index information ... OK * checking package subdirectories ... OK * checking R files for non-ASCII characters ... OK * checking R files for syntax errors ... OK * checking whether the package can be loaded ... OK * checking whether the package can be loaded with stated dependencies ... OK * checking whether the package can be unloaded cleanly ... OK * checking whether the namespace can be loaded with stated dependencies ... OK * checking whether the namespace can be unloaded cleanly ... OK * checking dependencies in R code ... OK * checking S3 generic/method consistency ... OK * checking replacement functions ... OK * checking foreign function calls ... OK * checking R code for possible problems ... OK * checking Rd files ... OK * checking Rd metadata ... OK * checking Rd cross-references ... OK * checking for missing documentation entries ... OK * checking for code/documentation mismatches ... OK * checking Rd \usage sections ... OK * checking Rd contents ... OK * checking for unstated dependencies in examples ... OK * checking examples ... OK * checking for unstated dependencies in ‘tests’ ... OK * checking tests ... Running ‘testthat.R’ OK * checking PDF version of manual ... OK * DONE Status: OK
MatrixGenerics.Rcheck/00install.out
############################################################################## ############################################################################## ### ### Running command: ### ### /Library/Frameworks/R.framework/Versions/Current/Resources/bin/R CMD INSTALL MatrixGenerics ### ############################################################################## ############################################################################## * installing to library ‘/Library/Frameworks/R.framework/Versions/4.0/Resources/library’ * installing *source* package ‘MatrixGenerics’ ... ** using staged installation ** R ** byte-compile and prepare package for lazy loading ** help *** installing help indices ** building package indices ** testing if installed package can be loaded from temporary location ** testing if installed package can be loaded from final location ** testing if installed package keeps a record of temporary installation path * DONE (MatrixGenerics)
MatrixGenerics.Rcheck/tests/testthat.Rout
R version 4.0.3 (2020-10-10) -- "Bunny-Wunnies Freak Out"
Copyright (C) 2020 The R Foundation for Statistical Computing
Platform: x86_64-apple-darwin17.0 (64-bit)
R is free software and comes with ABSOLUTELY NO WARRANTY.
You are welcome to redistribute it under certain conditions.
Type 'license()' or 'licence()' for distribution details.
R is a collaborative project with many contributors.
Type 'contributors()' for more information and
'citation()' on how to cite R or R packages in publications.
Type 'demo()' for some demos, 'help()' for on-line help, or
'help.start()' for an HTML browser interface to help.
Type 'q()' to quit R.
> library(testthat)
> library(MatrixGenerics)
Loading required package: matrixStats
Attaching package: 'MatrixGenerics'
The following objects are masked from 'package:matrixStats':
colAlls, colAnyNAs, colAnys, colAvgsPerRowSet, colCollapse,
colCounts, colCummaxs, colCummins, colCumprods, colCumsums,
colDiffs, colIQRDiffs, colIQRs, colLogSumExps, colMadDiffs,
colMads, colMaxs, colMeans2, colMedians, colMins, colOrderStats,
colProds, colQuantiles, colRanges, colRanks, colSdDiffs, colSds,
colSums2, colTabulates, colVarDiffs, colVars, colWeightedMads,
colWeightedMeans, colWeightedMedians, colWeightedSds,
colWeightedVars, rowAlls, rowAnyNAs, rowAnys, rowAvgsPerColSet,
rowCollapse, rowCounts, rowCummaxs, rowCummins, rowCumprods,
rowCumsums, rowDiffs, rowIQRDiffs, rowIQRs, rowLogSumExps,
rowMadDiffs, rowMads, rowMaxs, rowMeans2, rowMedians, rowMins,
rowOrderStats, rowProds, rowQuantiles, rowRanges, rowRanks,
rowSdDiffs, rowSds, rowSums2, rowTabulates, rowVarDiffs, rowVars,
rowWeightedMads, rowWeightedMeans, rowWeightedMedians,
rowWeightedSds, rowWeightedVars
>
> test_check("MatrixGenerics")
══ testthat results ═══════════════════════════════════════════════════════════
[ OK: 310 | SKIPPED: 0 | WARNINGS: 0 | FAILED: 0 ]
>
> proc.time()
user system elapsed
2.787 0.150 2.923
MatrixGenerics.Rcheck/MatrixGenerics-Ex.timings
| name | user | system | elapsed | |
| rowAlls | 0.001 | 0.001 | 0.002 | |
| rowAnyNAs | 0.000 | 0.001 | 0.001 | |
| rowAnys | 0.001 | 0.001 | 0.001 | |
| rowAvgsPerColSet | 0.001 | 0.001 | 0.002 | |
| rowCollapse | 0.001 | 0.001 | 0.002 | |
| rowCounts | 0.001 | 0.001 | 0.002 | |
| rowCummaxs | 0.001 | 0.002 | 0.002 | |
| rowCummins | 0.001 | 0.001 | 0.002 | |
| rowCumprods | 0.001 | 0.001 | 0.002 | |
| rowCumsums | 0.001 | 0.001 | 0.002 | |
| rowDiffs | 0.001 | 0.001 | 0.002 | |
| rowIQRDiffs | 0.005 | 0.001 | 0.005 | |
| rowIQRs | 0.004 | 0.001 | 0.005 | |
| rowLogSumExps | 0.001 | 0.001 | 0.001 | |
| rowMadDiffs | 0.003 | 0.001 | 0.004 | |
| rowMads | 0.001 | 0.000 | 0.001 | |
| rowMaxs | 0.000 | 0.000 | 0.001 | |
| rowMeans2 | 0.001 | 0.000 | 0.001 | |
| rowMedians | 0.001 | 0.001 | 0.001 | |
| rowMins | 0.001 | 0.001 | 0.001 | |
| rowOrderStats | 0.001 | 0.000 | 0.001 | |
| rowProds | 0.000 | 0.000 | 0.001 | |
| rowQuantiles | 0.005 | 0.001 | 0.007 | |
| rowRanges | 0.001 | 0.001 | 0.003 | |
| rowRanks | 0.001 | 0.000 | 0.002 | |
| rowSdDiffs | 0.003 | 0.001 | 0.003 | |
| rowSds | 0.000 | 0.001 | 0.002 | |
| rowSums2 | 0.001 | 0.001 | 0.001 | |
| rowTabulates | 0.002 | 0.001 | 0.003 | |
| rowVarDiffs | 0.001 | 0.000 | 0.001 | |
| rowVars | 0.001 | 0.000 | 0.001 | |
| rowWeightedMads | 0.001 | 0.000 | 0.002 | |
| rowWeightedMeans | 0.001 | 0.000 | 0.002 | |
| rowWeightedMedians | 0.001 | 0.000 | 0.001 | |
| rowWeightedSds | 0.001 | 0.000 | 0.002 | |
| rowWeightedVars | 0.001 | 0.000 | 0.001 | |