| Back to Multiple platform build/check report for BioC 3.11 | 
  | 
This page was generated on 2020-10-17 11:59:01 -0400 (Sat, 17 Oct 2020).
| TO THE DEVELOPERS/MAINTAINERS OF THE MSstatsQC PACKAGE: Please make sure to use the following settings in order to reproduce any error or warning you see on this page. | 
| Package 1145/1905 | Hostname | OS / Arch | INSTALL | BUILD | CHECK | BUILD BIN | ||||||
| MSstatsQC 2.6.0 Eralp Dogu 
  | malbec2 | Linux (Ubuntu 18.04.4 LTS) / x86_64 | OK | OK | OK | |||||||
| tokay2 | Windows Server 2012 R2 Standard / x64 | OK | OK | OK | OK | |||||||
| machv2 | macOS 10.14.6 Mojave / x86_64 | OK | OK | [ OK ] | OK | 
| Package: MSstatsQC | 
| Version: 2.6.0 | 
| Command: /Library/Frameworks/R.framework/Versions/Current/Resources/bin/R CMD check --install=check:MSstatsQC.install-out.txt --library=/Library/Frameworks/R.framework/Versions/Current/Resources/library --no-vignettes --timings MSstatsQC_2.6.0.tar.gz | 
| StartedAt: 2020-10-17 03:20:04 -0400 (Sat, 17 Oct 2020) | 
| EndedAt: 2020-10-17 03:23:31 -0400 (Sat, 17 Oct 2020) | 
| EllapsedTime: 207.3 seconds | 
| RetCode: 0 | 
| Status: OK | 
| CheckDir: MSstatsQC.Rcheck | 
| Warnings: 0 | 
##############################################################################
##############################################################################
###
### Running command:
###
###   /Library/Frameworks/R.framework/Versions/Current/Resources/bin/R CMD check --install=check:MSstatsQC.install-out.txt --library=/Library/Frameworks/R.framework/Versions/Current/Resources/library --no-vignettes --timings MSstatsQC_2.6.0.tar.gz
###
##############################################################################
##############################################################################
* using log directory ‘/Users/biocbuild/bbs-3.11-bioc/meat/MSstatsQC.Rcheck’
* using R version 4.0.3 (2020-10-10)
* using platform: x86_64-apple-darwin17.0 (64-bit)
* using session charset: UTF-8
* using option ‘--no-vignettes’
* checking for file ‘MSstatsQC/DESCRIPTION’ ... OK
* checking extension type ... Package
* this is package ‘MSstatsQC’ version ‘2.6.0’
* checking package namespace information ... OK
* checking package dependencies ... OK
* checking if this is a source package ... OK
* checking if there is a namespace ... OK
* checking for hidden files and directories ... OK
* checking for portable file names ... OK
* checking for sufficient/correct file permissions ... OK
* checking whether package ‘MSstatsQC’ can be installed ... OK
* checking installed package size ... OK
* checking package directory ... OK
* checking ‘build’ directory ... OK
* checking DESCRIPTION meta-information ... OK
* checking top-level files ... OK
* checking for left-over files ... OK
* checking index information ... OK
* checking package subdirectories ... OK
* checking R files for non-ASCII characters ... OK
* checking R files for syntax errors ... OK
* checking whether the package can be loaded ... OK
* checking whether the package can be loaded with stated dependencies ... OK
* checking whether the package can be unloaded cleanly ... OK
* checking whether the namespace can be loaded with stated dependencies ... OK
* checking whether the namespace can be unloaded cleanly ... OK
* checking dependencies in R code ... OK
* checking S3 generic/method consistency ... OK
* checking replacement functions ... OK
* checking foreign function calls ... OK
* checking R code for possible problems ... NOTE
MissingDataMap: no visible binding for global variable ‘AcquiredTime’
MissingDataMap: no visible binding for global variable ‘Precursor’
Undefined global functions or variables:
  AcquiredTime Precursor
* checking Rd files ... OK
* checking Rd metadata ... OK
* checking Rd cross-references ... OK
* checking for missing documentation entries ... OK
* checking for code/documentation mismatches ... OK
* checking Rd \usage sections ... OK
* checking Rd contents ... OK
* checking for unstated dependencies in examples ... OK
* checking contents of ‘data’ directory ... OK
* checking data for non-ASCII characters ... OK
* checking data for ASCII and uncompressed saves ... OK
* checking files in ‘vignettes’ ... OK
* checking examples ... OK
Examples with CPU (user + system) or elapsed time > 5s
           user system elapsed
RiverPlot 5.175  0.067   5.249
* checking for unstated dependencies in ‘tests’ ... OK
* checking tests ...
  Running ‘testthat.R’
 OK
* checking for unstated dependencies in vignettes ... OK
* checking package vignettes in ‘inst/doc’ ... OK
* checking running R code from vignettes ... SKIPPED
* checking re-building of vignette outputs ... SKIPPED
* checking PDF version of manual ... OK
* DONE
Status: 1 NOTE
See
  ‘/Users/biocbuild/bbs-3.11-bioc/meat/MSstatsQC.Rcheck/00check.log’
for details.
MSstatsQC.Rcheck/00install.out
############################################################################## ############################################################################## ### ### Running command: ### ### /Library/Frameworks/R.framework/Versions/Current/Resources/bin/R CMD INSTALL MSstatsQC ### ############################################################################## ############################################################################## * installing to library ‘/Library/Frameworks/R.framework/Versions/4.0/Resources/library’ * installing *source* package ‘MSstatsQC’ ... ** using staged installation ** R ** data *** moving datasets to lazyload DB ** byte-compile and prepare package for lazy loading ** help *** installing help indices ** building package indices ** installing vignettes ** testing if installed package can be loaded from temporary location ** testing if installed package can be loaded from final location ** testing if installed package keeps a record of temporary installation path * DONE (MSstatsQC)
MSstatsQC.Rcheck/tests/testthat.Rout
R version 4.0.3 (2020-10-10) -- "Bunny-Wunnies Freak Out"
Copyright (C) 2020 The R Foundation for Statistical Computing
Platform: x86_64-apple-darwin17.0 (64-bit)
R is free software and comes with ABSOLUTELY NO WARRANTY.
You are welcome to redistribute it under certain conditions.
Type 'license()' or 'licence()' for distribution details.
R is a collaborative project with many contributors.
Type 'contributors()' for more information and
'citation()' on how to cite R or R packages in publications.
Type 'demo()' for some demos, 'help()' for on-line help, or
'help.start()' for an HTML browser interface to help.
Type 'q()' to quit R.
> library(testthat)
> library(MSstatsQC)
> 
> test_check("MSstatsQC")
══ testthat results  ═══════════════════════════════════════════════════════════
[ OK: 9 | SKIPPED: 0 | WARNINGS: 0 | FAILED: 0 ]
> 
> proc.time()
   user  system elapsed 
  9.718   0.501  10.221 
MSstatsQC.Rcheck/MSstatsQC-Ex.timings
| name | user | system | elapsed | |
| CUSUMChart | 2.525 | 0.385 | 2.925 | |
| ChangePointEstimator | 0.892 | 0.258 | 1.207 | |
| DataProcess | 0.006 | 0.001 | 0.007 | |
| DecisionMap | 2.308 | 0.040 | 2.352 | |
| MSnbaseToMSstatsQC | 0 | 0 | 0 | |
| MissingDataMap | 0.007 | 0.001 | 0.007 | |
| QCloudDDA | 0.004 | 0.001 | 0.005 | |
| QCloudSRM | 0.004 | 0.001 | 0.006 | |
| QuiCDIA | 0.015 | 0.003 | 0.018 | |
| RadarPlot | 3.776 | 0.029 | 3.810 | |
| RemoveMissing | 0.001 | 0.000 | 0.001 | |
| RiverPlot | 5.175 | 0.067 | 5.249 | |
| S9Site54 | 0.004 | 0.001 | 0.005 | |
| XmRChart | 1.602 | 0.296 | 1.980 | |