| Back to Multiple platform build/check report for BioC 3.11 |
|
This page was generated on 2020-10-17 11:55:12 -0400 (Sat, 17 Oct 2020).
| TO THE DEVELOPERS/MAINTAINERS OF THE MOSim PACKAGE: Please make sure to use the following settings in order to reproduce any error or warning you see on this page. |
| Package 1123/1905 | Hostname | OS / Arch | INSTALL | BUILD | CHECK | BUILD BIN | ||||||
| MOSim 1.2.0 Carlos Martínez
| malbec2 | Linux (Ubuntu 18.04.4 LTS) / x86_64 | OK | OK | [ OK ] | |||||||
| tokay2 | Windows Server 2012 R2 Standard / x64 | OK | OK | OK | OK | |||||||
| machv2 | macOS 10.14.6 Mojave / x86_64 | OK | OK | OK | OK |
| Package: MOSim |
| Version: 1.2.0 |
| Command: /home/biocbuild/bbs-3.11-bioc/R/bin/R CMD check --install=check:MOSim.install-out.txt --library=/home/biocbuild/bbs-3.11-bioc/R/library --no-vignettes --timings MOSim_1.2.0.tar.gz |
| StartedAt: 2020-10-17 03:23:10 -0400 (Sat, 17 Oct 2020) |
| EndedAt: 2020-10-17 03:31:06 -0400 (Sat, 17 Oct 2020) |
| EllapsedTime: 475.5 seconds |
| RetCode: 0 |
| Status: OK |
| CheckDir: MOSim.Rcheck |
| Warnings: 0 |
##############################################################################
##############################################################################
###
### Running command:
###
### /home/biocbuild/bbs-3.11-bioc/R/bin/R CMD check --install=check:MOSim.install-out.txt --library=/home/biocbuild/bbs-3.11-bioc/R/library --no-vignettes --timings MOSim_1.2.0.tar.gz
###
##############################################################################
##############################################################################
* using log directory ‘/home/biocbuild/bbs-3.11-bioc/meat/MOSim.Rcheck’
* using R version 4.0.3 (2020-10-10)
* using platform: x86_64-pc-linux-gnu (64-bit)
* using session charset: UTF-8
* using option ‘--no-vignettes’
* checking for file ‘MOSim/DESCRIPTION’ ... OK
* this is package ‘MOSim’ version ‘1.2.0’
* package encoding: UTF-8
* checking package namespace information ... OK
* checking package dependencies ... OK
* checking if this is a source package ... OK
* checking if there is a namespace ... OK
* checking for hidden files and directories ... OK
* checking for portable file names ... OK
* checking for sufficient/correct file permissions ... OK
* checking whether package ‘MOSim’ can be installed ... OK
* checking installed package size ... OK
* checking package directory ... OK
* checking ‘build’ directory ... OK
* checking DESCRIPTION meta-information ... OK
* checking top-level files ... OK
* checking for left-over files ... OK
* checking index information ... OK
* checking package subdirectories ... OK
* checking R files for non-ASCII characters ... OK
* checking R files for syntax errors ... OK
* checking whether the package can be loaded ... OK
* checking whether the package can be loaded with stated dependencies ... OK
* checking whether the package can be unloaded cleanly ... OK
* checking whether the namespace can be loaded with stated dependencies ... OK
* checking whether the namespace can be unloaded cleanly ... OK
* checking dependencies in R code ... OK
* checking S3 generic/method consistency ... OK
* checking replacement functions ... OK
* checking foreign function calls ... OK
* checking R code for possible problems ... OK
* checking Rd files ... OK
* checking Rd metadata ... OK
* checking Rd cross-references ... OK
* checking for missing documentation entries ... OK
* checking for code/documentation mismatches ... OK
* checking Rd \usage sections ... OK
* checking Rd contents ... OK
* checking for unstated dependencies in examples ... OK
* checking contents of ‘data’ directory ... OK
* checking data for non-ASCII characters ... OK
* checking data for ASCII and uncompressed saves ... OK
* checking files in ‘vignettes’ ... OK
* checking examples ... OK
Examples with CPU (user + system) or elapsed time > 5s
user system elapsed
omicSettings 73.886 0.152 74.088
plotProfile 73.651 0.100 73.752
mosim 63.972 0.060 64.050
experimentalDesign 62.878 0.199 63.155
omicResults 60.998 0.084 61.091
omicSim 6.048 0.012 6.060
* checking for unstated dependencies in ‘tests’ ... OK
* checking tests ...
Running ‘testthat.R’
OK
* checking for unstated dependencies in vignettes ... OK
* checking package vignettes in ‘inst/doc’ ... OK
* checking running R code from vignettes ... SKIPPED
* checking re-building of vignette outputs ... SKIPPED
* checking PDF version of manual ... OK
* DONE
Status: OK
MOSim.Rcheck/00install.out
############################################################################## ############################################################################## ### ### Running command: ### ### /home/biocbuild/bbs-3.11-bioc/R/bin/R CMD INSTALL MOSim ### ############################################################################## ############################################################################## * installing to library ‘/home/biocbuild/bbs-3.11-bioc/R/library’ * installing *source* package ‘MOSim’ ... ** using staged installation ** R ** data ** byte-compile and prepare package for lazy loading Creating a new generic function for ‘simulate’ in package ‘MOSim’ ** help *** installing help indices ** building package indices ** installing vignettes ** testing if installed package can be loaded from temporary location ** testing if installed package can be loaded from final location ** testing if installed package keeps a record of temporary installation path * DONE (MOSim)
MOSim.Rcheck/tests/testthat.Rout
R version 4.0.3 (2020-10-10) -- "Bunny-Wunnies Freak Out"
Copyright (C) 2020 The R Foundation for Statistical Computing
Platform: x86_64-pc-linux-gnu (64-bit)
R is free software and comes with ABSOLUTELY NO WARRANTY.
You are welcome to redistribute it under certain conditions.
Type 'license()' or 'licence()' for distribution details.
R is a collaborative project with many contributors.
Type 'contributors()' for more information and
'citation()' on how to cite R or R packages in publications.
Type 'demo()' for some demos, 'help()' for on-line help, or
'help.start()' for an HTML browser interface to help.
Type 'q()' to quit R.
> library(testthat)
> library(MOSim)
>
> test_check("MOSim")
Simulation settings of class MOSimulation:
- Default depth: 74
- Total genes: 200
- Dif. expressed genes: 30
- Replicates: 3
- Factor levels (groups): 2
- Time vector length: 5
Simulation settings of class MOSimulation:
- Default depth: 74
- Total genes: 200
- Dif. expressed genes: 30
- Replicates: 3
- Factor levels (groups): 2
- Time vector length: 5
Simulation settings of class MOSimulation:
- Default depth: 74
- Total genes: 20
- Dif. expressed genes: 3
- Replicates: 3
- Factor levels (groups): 2
- Time vector length: 3
Simulation settings of class MOSimulation:
- Default depth: 74
- Total genes: 300
- Dif. expressed genes: 45
- Replicates: 3
- Factor levels (groups): 2
- Time vector length: 5
══ testthat results ═══════════════════════════════════════════════════════════
[ OK: 7 | SKIPPED: 0 | WARNINGS: 1 | FAILED: 0 ]
>
> proc.time()
user system elapsed
31.460 0.463 31.914
MOSim.Rcheck/MOSim-Ex.timings
| name | user | system | elapsed | |
| experimentalDesign | 62.878 | 0.199 | 63.155 | |
| mosim | 63.972 | 0.060 | 64.050 | |
| omicData | 4.115 | 0.044 | 4.160 | |
| omicResults | 60.998 | 0.084 | 61.091 | |
| omicSettings | 73.886 | 0.152 | 74.088 | |
| omicSim | 6.048 | 0.012 | 6.060 | |
| plotProfile | 73.651 | 0.100 | 73.752 | |