| Back to Multiple platform build/check report for BioC 3.11 |
|
This page was generated on 2020-10-17 11:57:10 -0400 (Sat, 17 Oct 2020).
| TO THE DEVELOPERS/MAINTAINERS OF THE MODA PACKAGE: Please make sure to use the following settings in order to reproduce any error or warning you see on this page. |
| Package 1114/1905 | Hostname | OS / Arch | INSTALL | BUILD | CHECK | BUILD BIN | ||||||
| MODA 1.14.0 Dong Li
| malbec2 | Linux (Ubuntu 18.04.4 LTS) / x86_64 | OK | OK | OK | |||||||
| tokay2 | Windows Server 2012 R2 Standard / x64 | OK | OK | OK | [ OK ] | |||||||
| machv2 | macOS 10.14.6 Mojave / x86_64 | OK | OK | OK | OK |
| Package: MODA |
| Version: 1.14.0 |
| Command: rm -rf MODA.buildbin-libdir && mkdir MODA.buildbin-libdir && C:\Users\biocbuild\bbs-3.11-bioc\R\bin\R.exe CMD INSTALL --merge-multiarch --build --library=MODA.buildbin-libdir MODA_1.14.0.tar.gz |
| StartedAt: 2020-10-17 11:04:01 -0400 (Sat, 17 Oct 2020) |
| EndedAt: 2020-10-17 11:04:52 -0400 (Sat, 17 Oct 2020) |
| EllapsedTime: 51.3 seconds |
| RetCode: 0 |
| Status: OK |
| PackageFile: MODA_1.14.0.zip |
| PackageFileSize: 377.7 KiB |
##############################################################################
##############################################################################
###
### Running command:
###
### rm -rf MODA.buildbin-libdir && mkdir MODA.buildbin-libdir && C:\Users\biocbuild\bbs-3.11-bioc\R\bin\R.exe CMD INSTALL --merge-multiarch --build --library=MODA.buildbin-libdir MODA_1.14.0.tar.gz
###
##############################################################################
##############################################################################
install for i386
* installing *source* package 'MODA' ...
** using staged installation
** R
** data
** inst
** byte-compile and prepare package for lazy loading
** help
*** installing help indices
converting help for package 'MODA'
finding HTML links ... done
CompareAllNets html
MIcondition html
ModuleFrequency html
NMImatrix html
PartitionDensity html
PartitionModularity html
WeightedModulePartitionAmoutain html
WeightedModulePartitionHierarchical html
WeightedModulePartitionLouvain html
WeightedModulePartitionSpectral html
comparemodulestwonets html
datExpr1 html
datExpr2 html
getPartition html
modulesRank html
recursiveigraph html
** building package indices
** installing vignettes
** testing if installed package can be loaded from temporary location
** testing if installed package can be loaded from final location
** testing if installed package keeps a record of temporary installation path
install for x64
* installing *source* package 'MODA' ...
** testing if installed package can be loaded
* MD5 sums
packaged installation of 'MODA' as MODA_1.14.0.zip
* DONE (MODA)