| Back to Multiple platform build/check report for BioC 3.11 | 
  | 
This page was generated on 2020-10-17 11:58:52 -0400 (Sat, 17 Oct 2020).
| TO THE DEVELOPERS/MAINTAINERS OF THE MBttest PACKAGE: Please make sure to use the following settings in order to reproduce any error or warning you see on this page. | 
| Package 1006/1905 | Hostname | OS / Arch | INSTALL | BUILD | CHECK | BUILD BIN | ||||||
| MBttest 1.16.0 Yuan-De Tan 
  | malbec2 | Linux (Ubuntu 18.04.4 LTS) / x86_64 | OK | OK | OK | |||||||
| tokay2 | Windows Server 2012 R2 Standard / x64 | OK | OK | OK | OK | |||||||
| machv2 | macOS 10.14.6 Mojave / x86_64 | OK | [ OK ] | OK | OK | 
| Package: MBttest | 
| Version: 1.16.0 | 
| Command: /Library/Frameworks/R.framework/Versions/Current/Resources/bin/R CMD build --keep-empty-dirs --no-resave-data MBttest | 
| StartedAt: 2020-10-16 19:50:29 -0400 (Fri, 16 Oct 2020) | 
| EndedAt: 2020-10-16 19:50:57 -0400 (Fri, 16 Oct 2020) | 
| EllapsedTime: 28.1 seconds | 
| RetCode: 0 | 
| Status: OK | 
| PackageFile: MBttest_1.16.0.tar.gz | 
| PackageFileSize: 3.445 MiB | 
##############################################################################
##############################################################################
###
### Running command:
###
###   /Library/Frameworks/R.framework/Versions/Current/Resources/bin/R CMD build --keep-empty-dirs --no-resave-data MBttest
###
##############################################################################
##############################################################################
* checking for file ‘MBttest/DESCRIPTION’ ... OK
* preparing ‘MBttest’:
* checking DESCRIPTION meta-information ... OK
* installing the package to build vignettes
* creating vignettes ... OK
Warning: ‘inst/doc’ files
    ‘MBttest.pdf’, ‘MBttest.R’
  ignored as vignettes have been rebuilt.
  Run R CMD build with --no-build-vignettes to prevent rebuilding.
* checking for LF line-endings in source and make files and shell scripts
* checking for empty or unneeded directories
* looking to see if a ‘data/datalist’ file should be added
* building ‘MBttest_1.16.0.tar.gz’