| Back to Multiple platform build/check report for BioC 3.11 |
|
This page was generated on 2020-10-17 11:57:01 -0400 (Sat, 17 Oct 2020).
| TO THE DEVELOPERS/MAINTAINERS OF THE MBQN PACKAGE: Please make sure to use the following settings in order to reproduce any error or warning you see on this page. |
| Package 1005/1905 | Hostname | OS / Arch | INSTALL | BUILD | CHECK | BUILD BIN | ||||||
| MBQN 2.0.3 Ariane Schad
| malbec2 | Linux (Ubuntu 18.04.4 LTS) / x86_64 | OK | OK | OK | |||||||
| tokay2 | Windows Server 2012 R2 Standard / x64 | OK | OK | OK | [ OK ] | |||||||
| machv2 | macOS 10.14.6 Mojave / x86_64 | OK | OK | OK | OK |
| Package: MBQN |
| Version: 2.0.3 |
| Command: rm -rf MBQN.buildbin-libdir && mkdir MBQN.buildbin-libdir && C:\Users\biocbuild\bbs-3.11-bioc\R\bin\R.exe CMD INSTALL --merge-multiarch --build --library=MBQN.buildbin-libdir MBQN_2.0.3.tar.gz |
| StartedAt: 2020-10-17 10:56:56 -0400 (Sat, 17 Oct 2020) |
| EndedAt: 2020-10-17 10:57:39 -0400 (Sat, 17 Oct 2020) |
| EllapsedTime: 42.8 seconds |
| RetCode: 0 |
| Status: OK |
| PackageFile: MBQN_2.0.3.zip |
| PackageFileSize: 200.7 KiB |
##############################################################################
##############################################################################
###
### Running command:
###
### rm -rf MBQN.buildbin-libdir && mkdir MBQN.buildbin-libdir && C:\Users\biocbuild\bbs-3.11-bioc\R\bin\R.exe CMD INSTALL --merge-multiarch --build --library=MBQN.buildbin-libdir MBQN_2.0.3.tar.gz
###
##############################################################################
##############################################################################
install for i386
* installing *source* package 'MBQN' ...
** using staged installation
** R
** inst
** byte-compile and prepare package for lazy loading
** help
*** installing help indices
converting help for package 'MBQN'
finding HTML links ... done
example_NApattern html
getKminmax html
getPXDfile html
getPvalue html
mbqn html
mbqnBoxplot html
mbqnGetIntersect html
mbqnGetNRIfeatures html
mbqnGetThreshold html
mbqnLoadFile html
mbqnNRI html
mbqnPlotAll html
mbqnPlotRI html
mbqnSimuData html
mbqnSimuDistortion html
oneSidedTest html
truncateDecimals html
** building package indices
** installing vignettes
** testing if installed package can be loaded from temporary location
** testing if installed package can be loaded from final location
** testing if installed package keeps a record of temporary installation path
install for x64
* installing *source* package 'MBQN' ...
** testing if installed package can be loaded
* MD5 sums
packaged installation of 'MBQN' as MBQN_2.0.3.zip
* DONE (MBQN)