| Back to Multiple platform build/check report for BioC 3.11 | 
 | 
This page was generated on 2020-10-17 11:56:59 -0400 (Sat, 17 Oct 2020).
| TO THE DEVELOPERS/MAINTAINERS OF THE M3C PACKAGE: Please make sure to use the following settings in order to reproduce any error or warning you see on this page. | 
| Package 964/1905 | Hostname | OS / Arch | INSTALL | BUILD | CHECK | BUILD BIN | ||||||
| M3C 1.10.0 Christopher John 
 | malbec2 | Linux (Ubuntu 18.04.4 LTS) / x86_64 | OK | OK | OK |  | ||||||
| tokay2 | Windows Server 2012 R2 Standard / x64 | [ OK ] | OK | OK | OK |  | ||||||
| machv2 | macOS 10.14.6 Mojave / x86_64 | OK | OK | OK | OK |  | 
| Package: M3C | 
| Version: 1.10.0 | 
| Command: C:\cygwin\bin\curl.exe -O https://malbec2.bioconductor.org/BBS/3.11/bioc/src/contrib/M3C_1.10.0.tar.gz && rm -rf M3C.buildbin-libdir && mkdir M3C.buildbin-libdir && C:\Users\biocbuild\bbs-3.11-bioc\R\bin\R.exe CMD INSTALL --merge-multiarch --build --library=M3C.buildbin-libdir M3C_1.10.0.tar.gz && C:\Users\biocbuild\bbs-3.11-bioc\R\bin\R.exe CMD INSTALL M3C_1.10.0.zip && rm M3C_1.10.0.tar.gz M3C_1.10.0.zip | 
| StartedAt: 2020-10-16 17:51:02 -0400 (Fri, 16 Oct 2020) | 
| EndedAt: 2020-10-16 17:52:09 -0400 (Fri, 16 Oct 2020) | 
| EllapsedTime: 67.5 seconds | 
| RetCode: 0 | 
| Status: OK | 
##############################################################################
##############################################################################
###
### Running command:
###
###   C:\cygwin\bin\curl.exe -O https://malbec2.bioconductor.org/BBS/3.11/bioc/src/contrib/M3C_1.10.0.tar.gz && rm -rf M3C.buildbin-libdir && mkdir M3C.buildbin-libdir && C:\Users\biocbuild\bbs-3.11-bioc\R\bin\R.exe CMD INSTALL --merge-multiarch --build --library=M3C.buildbin-libdir M3C_1.10.0.tar.gz && C:\Users\biocbuild\bbs-3.11-bioc\R\bin\R.exe CMD INSTALL M3C_1.10.0.zip && rm M3C_1.10.0.tar.gz M3C_1.10.0.zip
###
##############################################################################
##############################################################################
  % Total    % Received % Xferd  Average Speed   Time    Time     Time  Current
                                 Dload  Upload   Total   Spent    Left  Speed
  0     0    0     0    0     0      0      0 --:--:-- --:--:-- --:--:--     0
100  316k  100  316k    0     0  4914k      0 --:--:-- --:--:-- --:--:-- 5449k
install for i386
* installing *source* package 'M3C' ...
** using staged installation
** R
** data
*** moving datasets to lazyload DB
** inst
** byte-compile and prepare package for lazy loading
** help
*** installing help indices
  converting help for package 'M3C'
    finding HTML links ... done
    M3C                                     html  
    clustersim                              html  
    desx                                    html  
    featurefilter                           html  
    mydata                                  html  
    pca                                     html  
    tsne                                    html  
    umap                                    html  
** building package indices
** installing vignettes
** testing if installed package can be loaded from temporary location
** testing if installed package can be loaded from final location
** testing if installed package keeps a record of temporary installation path
install for x64
* installing *source* package 'M3C' ...
** testing if installed package can be loaded
* MD5 sums
packaged installation of 'M3C' as M3C_1.10.0.zip
* DONE (M3C)
* installing to library 'C:/Users/biocbuild/bbs-3.11-bioc/R/library'
package 'M3C' successfully unpacked and MD5 sums checked