| Back to Multiple platform build/check report for BioC 3.11 |
|
This page was generated on 2020-10-17 11:58:49 -0400 (Sat, 17 Oct 2020).
| TO THE DEVELOPERS/MAINTAINERS OF THE LowMACA PACKAGE: Please make sure to use the following settings in order to reproduce any error or warning you see on this page. |
| Package 955/1905 | Hostname | OS / Arch | INSTALL | BUILD | CHECK | BUILD BIN | ||||||
| LowMACA 1.18.0 Stefano de Pretis
| malbec2 | Linux (Ubuntu 18.04.4 LTS) / x86_64 | OK | OK | OK | |||||||
| tokay2 | Windows Server 2012 R2 Standard / x64 | OK | OK | OK | OK | |||||||
| machv2 | macOS 10.14.6 Mojave / x86_64 | OK | OK | [ OK ] | OK |
| Package: LowMACA |
| Version: 1.18.0 |
| Command: /Library/Frameworks/R.framework/Versions/Current/Resources/bin/R CMD check --install=check:LowMACA.install-out.txt --library=/Library/Frameworks/R.framework/Versions/Current/Resources/library --no-vignettes --timings LowMACA_1.18.0.tar.gz |
| StartedAt: 2020-10-17 02:31:43 -0400 (Sat, 17 Oct 2020) |
| EndedAt: 2020-10-17 02:44:46 -0400 (Sat, 17 Oct 2020) |
| EllapsedTime: 783.1 seconds |
| RetCode: 0 |
| Status: OK |
| CheckDir: LowMACA.Rcheck |
| Warnings: 0 |
##############################################################################
##############################################################################
###
### Running command:
###
### /Library/Frameworks/R.framework/Versions/Current/Resources/bin/R CMD check --install=check:LowMACA.install-out.txt --library=/Library/Frameworks/R.framework/Versions/Current/Resources/library --no-vignettes --timings LowMACA_1.18.0.tar.gz
###
##############################################################################
##############################################################################
* using log directory ‘/Users/biocbuild/bbs-3.11-bioc/meat/LowMACA.Rcheck’
* using R version 4.0.3 (2020-10-10)
* using platform: x86_64-apple-darwin17.0 (64-bit)
* using session charset: UTF-8
* using option ‘--no-vignettes’
* checking for file ‘LowMACA/DESCRIPTION’ ... OK
* checking extension type ... Package
* this is package ‘LowMACA’ version ‘1.18.0’
* checking package namespace information ... OK
* checking package dependencies ... OK
* checking if this is a source package ... OK
* checking if there is a namespace ... OK
* checking for hidden files and directories ... OK
* checking for portable file names ... OK
* checking for sufficient/correct file permissions ... OK
* checking whether package ‘LowMACA’ can be installed ... OK
* checking installed package size ... OK
* checking package directory ... OK
* checking ‘build’ directory ... OK
* checking DESCRIPTION meta-information ... OK
* checking top-level files ... OK
* checking for left-over files ... OK
* checking index information ... OK
* checking package subdirectories ... OK
* checking R files for non-ASCII characters ... OK
* checking R files for syntax errors ... OK
* checking whether the package can be loaded ... OK
* checking whether the package can be loaded with stated dependencies ... OK
* checking whether the package can be unloaded cleanly ... OK
* checking whether the namespace can be loaded with stated dependencies ... OK
* checking whether the namespace can be unloaded cleanly ... OK
* checking dependencies in R code ... OK
* checking S3 generic/method consistency ... OK
* checking replacement functions ... OK
* checking foreign function calls ... OK
* checking R code for possible problems ... OK
* checking Rd files ... OK
* checking Rd metadata ... OK
* checking Rd cross-references ... OK
* checking for missing documentation entries ... OK
* checking for code/documentation mismatches ... OK
* checking Rd \usage sections ... OK
* checking Rd contents ... OK
* checking for unstated dependencies in examples ... OK
* checking contents of ‘data’ directory ... OK
* checking data for non-ASCII characters ... OK
* checking data for ASCII and uncompressed saves ... OK
* checking files in ‘vignettes’ ... OK
* checking examples ... OK
Examples with CPU (user + system) or elapsed time > 5s
user system elapsed
allPfamAnalysis 191.381 3.271 195.044
lfmSingleSequence 105.577 1.570 107.479
setup 19.224 20.498 40.201
alignSequences 12.757 23.978 29.787
LowMACA-class 12.752 0.646 20.347
LowMACA-package 10.129 0.266 14.635
* checking for unstated dependencies in vignettes ... OK
* checking package vignettes in ‘inst/doc’ ... OK
* checking running R code from vignettes ... SKIPPED
* checking re-building of vignette outputs ... SKIPPED
* checking PDF version of manual ... OK
* DONE
Status: OK
LowMACA.Rcheck/00install.out
############################################################################## ############################################################################## ### ### Running command: ### ### /Library/Frameworks/R.framework/Versions/Current/Resources/bin/R CMD INSTALL LowMACA ### ############################################################################## ############################################################################## * installing to library ‘/Library/Frameworks/R.framework/Versions/4.0/Resources/library’ * installing *source* package ‘LowMACA’ ... ** using staged installation ** R ** data ** inst ** byte-compile and prepare package for lazy loading ** help *** installing help indices ** building package indices ** installing vignettes ** testing if installed package can be loaded from temporary location Checking if clustalo is in the PATH... Checking clustalo Version... Checking perl installation... Checking perl modules XML::Simple and LWP... ** testing if installed package can be loaded from final location Checking if clustalo is in the PATH... Checking clustalo Version... Checking perl installation... Checking perl modules XML::Simple and LWP... ** testing if installed package keeps a record of temporary installation path * DONE (LowMACA)
LowMACA.Rcheck/LowMACA-Ex.timings
| name | user | system | elapsed | |
| BLOSUM62 | 0.014 | 0.003 | 0.017 | |
| LowMACA-class | 12.752 | 0.646 | 20.347 | |
| LowMACA-package | 10.129 | 0.266 | 14.635 | |
| LowMACA_AML | 0.025 | 0.003 | 0.027 | |
| alignSequences | 12.757 | 23.978 | 29.787 | |
| allPfamAnalysis | 191.381 | 3.271 | 195.044 | |
| bpAll | 1.513 | 0.051 | 1.565 | |
| entropy | 1.372 | 0.030 | 1.403 | |
| getMutations | 2.187 | 0.041 | 3.918 | |
| lfm | 2.378 | 0.046 | 2.426 | |
| lfmSingleSequence | 105.577 | 1.570 | 107.479 | |
| lmAlignment | 0.089 | 0.008 | 0.097 | |
| lmEntropy | 1.523 | 0.026 | 1.549 | |
| lmMutations | 0.076 | 0.007 | 0.083 | |
| lmObj | 0.190 | 0.012 | 0.203 | |
| lmParams | 0.836 | 0.034 | 0.883 | |
| lmPlot | 4.572 | 0.042 | 4.617 | |
| lmPlotSingleSequence | 4.842 | 0.061 | 4.957 | |
| mapMutations | 0.771 | 0.006 | 0.778 | |
| newLowMACA | 3.929 | 0.037 | 3.969 | |
| nullProfile | 1.474 | 0.033 | 1.509 | |
| parallelize | 0.674 | 0.006 | 0.680 | |
| protter | 1.351 | 0.018 | 3.721 | |
| setup | 19.224 | 20.498 | 40.201 | |
| showTumorType | 0.086 | 0.011 | 0.139 | |