| Back to Multiple platform build/check report for BioC 3.11 |
|
This page was generated on 2020-10-17 11:56:58 -0400 (Sat, 17 Oct 2020).
| TO THE DEVELOPERS/MAINTAINERS OF THE LRBaseDbi PACKAGE: Please make sure to use the following settings in order to reproduce any error or warning you see on this page. |
| Package 960/1905 | Hostname | OS / Arch | INSTALL | BUILD | CHECK | BUILD BIN | ||||||
| LRBaseDbi 1.6.0 Koki Tsuyuzaki
| malbec2 | Linux (Ubuntu 18.04.4 LTS) / x86_64 | OK | OK | OK | |||||||
| tokay2 | Windows Server 2012 R2 Standard / x64 | [ OK ] | OK | OK | OK | |||||||
| machv2 | macOS 10.14.6 Mojave / x86_64 | OK | OK | OK | OK |
| Package: LRBaseDbi |
| Version: 1.6.0 |
| Command: C:\cygwin\bin\curl.exe -O https://malbec2.bioconductor.org/BBS/3.11/bioc/src/contrib/LRBaseDbi_1.6.0.tar.gz && rm -rf LRBaseDbi.buildbin-libdir && mkdir LRBaseDbi.buildbin-libdir && C:\Users\biocbuild\bbs-3.11-bioc\R\bin\R.exe CMD INSTALL --merge-multiarch --build --library=LRBaseDbi.buildbin-libdir LRBaseDbi_1.6.0.tar.gz && C:\Users\biocbuild\bbs-3.11-bioc\R\bin\R.exe CMD INSTALL LRBaseDbi_1.6.0.zip && rm LRBaseDbi_1.6.0.tar.gz LRBaseDbi_1.6.0.zip |
| StartedAt: 2020-10-16 17:12:24 -0400 (Fri, 16 Oct 2020) |
| EndedAt: 2020-10-16 17:13:36 -0400 (Fri, 16 Oct 2020) |
| EllapsedTime: 72.1 seconds |
| RetCode: 0 |
| Status: OK |
##############################################################################
##############################################################################
###
### Running command:
###
### C:\cygwin\bin\curl.exe -O https://malbec2.bioconductor.org/BBS/3.11/bioc/src/contrib/LRBaseDbi_1.6.0.tar.gz && rm -rf LRBaseDbi.buildbin-libdir && mkdir LRBaseDbi.buildbin-libdir && C:\Users\biocbuild\bbs-3.11-bioc\R\bin\R.exe CMD INSTALL --merge-multiarch --build --library=LRBaseDbi.buildbin-libdir LRBaseDbi_1.6.0.tar.gz && C:\Users\biocbuild\bbs-3.11-bioc\R\bin\R.exe CMD INSTALL LRBaseDbi_1.6.0.zip && rm LRBaseDbi_1.6.0.tar.gz LRBaseDbi_1.6.0.zip
###
##############################################################################
##############################################################################
% Total % Received % Xferd Average Speed Time Time Time Current
Dload Upload Total Spent Left Speed
0 0 0 0 0 0 0 0 --:--:-- --:--:-- --:--:-- 0
100 22084 100 22084 0 0 337k 0 --:--:-- --:--:-- --:--:-- 385k
install for i386
* installing *source* package 'LRBaseDbi' ...
** using staged installation
** R
** data
** inst
** byte-compile and prepare package for lazy loading
** help
*** installing help indices
converting help for package 'LRBaseDbi'
finding HTML links ... done
FANTOM5 html
LRBaseDb html
columns html
dbInfo html
dbconn html
dbfile html
dbschema html
keys html
keytypes html
lrListDatabases html
lrNomenclature html
lrPackageName html
lrVersion html
makeLRBasePackage html
metaFANTOM5 html
select html
species html
** building package indices
** installing vignettes
** testing if installed package can be loaded from temporary location
** testing if installed package can be loaded from final location
** testing if installed package keeps a record of temporary installation path
install for x64
* installing *source* package 'LRBaseDbi' ...
** testing if installed package can be loaded
* MD5 sums
packaged installation of 'LRBaseDbi' as LRBaseDbi_1.6.0.zip
* DONE (LRBaseDbi)
* installing to library 'C:/Users/biocbuild/bbs-3.11-bioc/R/library'
package 'LRBaseDbi' successfully unpacked and MD5 sums checked