| Back to Multiple platform build/check report for BioC 3.11 | 
 | 
This page was generated on 2020-10-17 11:58:49 -0400 (Sat, 17 Oct 2020).
| TO THE DEVELOPERS/MAINTAINERS OF THE LPE PACKAGE: Please make sure to use the following settings in order to reproduce any error or warning you see on this page. | 
| Package 956/1905 | Hostname | OS / Arch | INSTALL | BUILD | CHECK | BUILD BIN | ||||||
| LPE 1.62.0 Nitin Jain 
 | malbec2 | Linux (Ubuntu 18.04.4 LTS) / x86_64 | OK | OK | OK |  | ||||||
| tokay2 | Windows Server 2012 R2 Standard / x64 | OK | OK | OK | OK |  | ||||||
| machv2 | macOS 10.14.6 Mojave / x86_64 | OK | [ OK ] | OK | OK |  | 
| Package: LPE | 
| Version: 1.62.0 | 
| Command: /Library/Frameworks/R.framework/Versions/Current/Resources/bin/R CMD build --keep-empty-dirs --no-resave-data LPE | 
| StartedAt: 2020-10-16 19:45:03 -0400 (Fri, 16 Oct 2020) | 
| EndedAt: 2020-10-16 19:45:16 -0400 (Fri, 16 Oct 2020) | 
| EllapsedTime: 12.9 seconds | 
| RetCode: 0 | 
| Status: OK | 
| PackageFile: LPE_1.62.0.tar.gz | 
| PackageFileSize: 301.7 KiB | 
############################################################################## ############################################################################## ### ### Running command: ### ### /Library/Frameworks/R.framework/Versions/Current/Resources/bin/R CMD build --keep-empty-dirs --no-resave-data LPE ### ############################################################################## ############################################################################## * checking for file ‘LPE/DESCRIPTION’ ... OK * preparing ‘LPE’: * checking DESCRIPTION meta-information ... OK * installing the package to build vignettes * creating vignettes ... OK * checking for LF line-endings in source and make files and shell scripts * checking for empty or unneeded directories * looking to see if a ‘data/datalist’ file should be added * building ‘LPE_1.62.0.tar.gz’