| Back to Multiple platform build/check report for BioC 3.11 | 
  | 
This page was generated on 2020-10-17 11:58:49 -0400 (Sat, 17 Oct 2020).
| TO THE DEVELOPERS/MAINTAINERS OF THE LOLA PACKAGE: Please make sure to use the following settings in order to reproduce any error or warning you see on this page. | 
| Package 953/1905 | Hostname | OS / Arch | INSTALL | BUILD | CHECK | BUILD BIN | ||||||
| LOLA 1.18.1 Nathan Sheffield 
  | malbec2 | Linux (Ubuntu 18.04.4 LTS) / x86_64 | OK | OK | OK | |||||||
| tokay2 | Windows Server 2012 R2 Standard / x64 | OK | OK | OK | OK | |||||||
| machv2 | macOS 10.14.6 Mojave / x86_64 | OK | OK | OK | [ OK ] | 
| Package: LOLA | 
| Version: 1.18.1 | 
| Command: rm -rf LOLA.buildbin-libdir && mkdir LOLA.buildbin-libdir && /Users/biocbuild/BBS/utils/build-universal.sh LOLA_1.18.1.tar.gz /Library/Frameworks/R.framework/Versions/Current/Resources/bin/R LOLA.buildbin-libdir | 
| StartedAt: 2020-10-17 07:22:37 -0400 (Sat, 17 Oct 2020) | 
| EndedAt: 2020-10-17 07:23:14 -0400 (Sat, 17 Oct 2020) | 
| EllapsedTime: 37.9 seconds | 
| RetCode: 0 | 
| Status: OK | 
| PackageFile: LOLA_1.18.1.tgz | 
| PackageFileSize: 1.237 MiB | 
############################################################################## ############################################################################## ### ### Running command: ### ### rm -rf LOLA.buildbin-libdir && mkdir LOLA.buildbin-libdir && /Users/biocbuild/BBS/utils/build-universal.sh LOLA_1.18.1.tar.gz /Library/Frameworks/R.framework/Versions/Current/Resources/bin/R LOLA.buildbin-libdir ### ############################################################################## ############################################################################## >>>>>>> >>>>>>> INSTALLATION WITH 'R CMD INSTALL --preclean --no-multiarch --library=LOLA.buildbin-libdir LOLA_1.18.1.tar.gz' >>>>>>> * installing *source* package ‘LOLA’ ... ** using staged installation ** R ** data ** inst ** byte-compile and prepare package for lazy loading ** help *** installing help indices *** copying figures ** building package indices ** installing vignettes ** testing if installed package can be loaded from temporary location ** testing if installed package can be loaded from final location ** testing if installed package keeps a record of temporary installation path * DONE (LOLA)