| Back to Multiple platform build/check report for BioC 3.11 | 
 | 
This page was generated on 2020-10-17 11:55:01 -0400 (Sat, 17 Oct 2020).
| TO THE DEVELOPERS/MAINTAINERS OF THE LEA PACKAGE: Please make sure to use the following settings in order to reproduce any error or warning you see on this page. | 
| Package 931/1905 | Hostname | OS / Arch | INSTALL | BUILD | CHECK | BUILD BIN | ||||||
| LEA 3.0.0 Olivier Francois 
 | malbec2 | Linux (Ubuntu 18.04.4 LTS) / x86_64 | OK | [ OK ] | OK |  | ||||||
| tokay2 | Windows Server 2012 R2 Standard / x64 | OK | OK | OK | OK |  | ||||||
| machv2 | macOS 10.14.6 Mojave / x86_64 | OK | OK | OK | OK |  | 
| Package: LEA | 
| Version: 3.0.0 | 
| Command: /home/biocbuild/bbs-3.11-bioc/R/bin/R CMD build --keep-empty-dirs --no-resave-data LEA | 
| StartedAt: 2020-10-16 20:01:41 -0400 (Fri, 16 Oct 2020) | 
| EndedAt: 2020-10-16 20:03:35 -0400 (Fri, 16 Oct 2020) | 
| EllapsedTime: 114.3 seconds | 
| RetCode: 0 | 
| Status: OK | 
| PackageFile: LEA_3.0.0.tar.gz | 
| PackageFileSize: 623.8 KiB | 
############################################################################## ############################################################################## ### ### Running command: ### ### /home/biocbuild/bbs-3.11-bioc/R/bin/R CMD build --keep-empty-dirs --no-resave-data LEA ### ############################################################################## ############################################################################## * checking for file ‘LEA/DESCRIPTION’ ... OK * preparing ‘LEA’: * checking DESCRIPTION meta-information ... OK * cleaning src * installing the package to build vignettes * creating vignettes ... OK * cleaning src * checking for LF line-endings in source and make files and shell scripts * checking for empty or unneeded directories * looking to see if a ‘data/datalist’ file should be added * building ‘LEA_3.0.0.tar.gz’