| Back to Multiple platform build/check report for BioC 3.11 | 
 | 
This page was generated on 2020-10-17 11:56:56 -0400 (Sat, 17 Oct 2020).
| TO THE DEVELOPERS/MAINTAINERS OF THE KEGGREST PACKAGE: Please make sure to use the following settings in order to reproduce any error or warning you see on this page. | 
| Package 922/1905 | Hostname | OS / Arch | INSTALL | BUILD | CHECK | BUILD BIN | ||||||
| KEGGREST 1.28.0 Bioconductor Package Maintainer 
 | malbec2 | Linux (Ubuntu 18.04.4 LTS) / x86_64 | OK | OK | OK |  | ||||||
| tokay2 | Windows Server 2012 R2 Standard / x64 | OK | OK | OK | [ OK ] |  | ||||||
| machv2 | macOS 10.14.6 Mojave / x86_64 | OK | OK | OK | OK |  | 
| Package: KEGGREST | 
| Version: 1.28.0 | 
| Command: rm -rf KEGGREST.buildbin-libdir && mkdir KEGGREST.buildbin-libdir && C:\Users\biocbuild\bbs-3.11-bioc\R\bin\R.exe CMD INSTALL --merge-multiarch --build --library=KEGGREST.buildbin-libdir KEGGREST_1.28.0.tar.gz | 
| StartedAt: 2020-10-17 10:51:41 -0400 (Sat, 17 Oct 2020) | 
| EndedAt: 2020-10-17 10:52:20 -0400 (Sat, 17 Oct 2020) | 
| EllapsedTime: 39.3 seconds | 
| RetCode: 0 | 
| Status: OK | 
| PackageFile: KEGGREST_1.28.0.zip | 
| PackageFileSize: 182.4 KiB | 
##############################################################################
##############################################################################
###
### Running command:
###
###   rm -rf KEGGREST.buildbin-libdir && mkdir KEGGREST.buildbin-libdir && C:\Users\biocbuild\bbs-3.11-bioc\R\bin\R.exe CMD INSTALL --merge-multiarch --build --library=KEGGREST.buildbin-libdir KEGGREST_1.28.0.tar.gz
###
##############################################################################
##############################################################################
install for i386
* installing *source* package 'KEGGREST' ...
** using staged installation
** R
** inst
** byte-compile and prepare package for lazy loading
** help
*** installing help indices
  converting help for package 'KEGGREST'
    finding HTML links ... done
    keggConv                                html  
    keggFind                                html  
    keggGet                                 html  
    keggInfo                                html  
    keggLink                                html  
    keggList                                html  
    listDatabases                           html  
    mark.pathway.by.objects                 html  
** building package indices
** installing vignettes
** testing if installed package can be loaded from temporary location
** testing if installed package can be loaded from final location
** testing if installed package keeps a record of temporary installation path
install for x64
* installing *source* package 'KEGGREST' ...
** testing if installed package can be loaded
* MD5 sums
packaged installation of 'KEGGREST' as KEGGREST_1.28.0.zip
* DONE (KEGGREST)