Back to Multiple platform build/check report for BioC 3.11 |
|
This page was generated on 2020-01-16 13:31:35 -0500 (Thu, 16 Jan 2020).
Package 881/1818 | Hostname | OS / Arch | INSTALL | BUILD | CHECK | BUILD BIN | ||||||
KCsmart 2.45.0 Jorma de Ronde
| malbec2 | Linux (Ubuntu 18.04.3 LTS) / x86_64 | OK | OK | WARNINGS | |||||||
tokay2 | Windows Server 2012 R2 Standard / x64 | OK | OK | WARNINGS | OK | |||||||
celaya2 | OS X 10.11.6 El Capitan / x86_64 | OK | OK | WARNINGS | [ OK ] |
Package: KCsmart |
Version: 2.45.0 |
Command: rm -rf KCsmart.buildbin-libdir && mkdir KCsmart.buildbin-libdir && /Users/biocbuild/BBS/utils/build-universal.sh KCsmart_2.45.0.tar.gz /Library/Frameworks/R.framework/Versions/Current/Resources/bin/R KCsmart.buildbin-libdir |
StartedAt: 2020-01-16 11:10:39 -0500 (Thu, 16 Jan 2020) |
EndedAt: 2020-01-16 11:11:20 -0500 (Thu, 16 Jan 2020) |
EllapsedTime: 41.6 seconds |
RetCode: 0 |
Status: OK |
PackageFile: KCsmart_2.45.0.tgz |
PackageFileSize: 2.146 MiB |
############################################################################## ############################################################################## ### ### Running command: ### ### rm -rf KCsmart.buildbin-libdir && mkdir KCsmart.buildbin-libdir && /Users/biocbuild/BBS/utils/build-universal.sh KCsmart_2.45.0.tar.gz /Library/Frameworks/R.framework/Versions/Current/Resources/bin/R KCsmart.buildbin-libdir ### ############################################################################## ############################################################################## >>>>>>> >>>>>>> INSTALLATION WITH 'R CMD INSTALL --preclean --no-multiarch --library=KCsmart.buildbin-libdir KCsmart_2.45.0.tar.gz' >>>>>>> * installing *source* package ‘KCsmart’ ... ** using staged installation ** R ** data ** inst ** byte-compile and prepare package for lazy loading Creating a generic function for ‘write.table’ from package ‘utils’ in package ‘KCsmart’ ** help *** installing help indices ** building package indices ** installing vignettes ** testing if installed package can be loaded from temporary location ** testing if installed package can be loaded from final location ** testing if installed package keeps a record of temporary installation path * DONE (KCsmart)