| Back to Multiple platform build/check report for BioC 3.11 | 
  | 
This page was generated on 2020-10-17 11:56:53 -0400 (Sat, 17 Oct 2020).
| TO THE DEVELOPERS/MAINTAINERS OF THE IntramiRExploreR PACKAGE: Please make sure to use the following settings in order to reproduce any error or warning you see on this page. | 
| Package 887/1905 | Hostname | OS / Arch | INSTALL | BUILD | CHECK | BUILD BIN | ||||||
| IntramiRExploreR 1.10.0 Surajit Bhattacharya 
  | malbec2 | Linux (Ubuntu 18.04.4 LTS) / x86_64 | OK | OK | OK | |||||||
| tokay2 | Windows Server 2012 R2 Standard / x64 | OK | OK | OK | [ OK ] | |||||||
| machv2 | macOS 10.14.6 Mojave / x86_64 | OK | OK | OK | OK | 
| Package: IntramiRExploreR | 
| Version: 1.10.0 | 
| Command: rm -rf IntramiRExploreR.buildbin-libdir && mkdir IntramiRExploreR.buildbin-libdir && C:\Users\biocbuild\bbs-3.11-bioc\R\bin\R.exe CMD INSTALL --merge-multiarch --build --library=IntramiRExploreR.buildbin-libdir IntramiRExploreR_1.10.0.tar.gz | 
| StartedAt: 2020-10-17 10:49:20 -0400 (Sat, 17 Oct 2020) | 
| EndedAt: 2020-10-17 10:49:52 -0400 (Sat, 17 Oct 2020) | 
| EllapsedTime: 32.0 seconds | 
| RetCode: 0 | 
| Status: OK | 
| PackageFile: IntramiRExploreR_1.10.0.zip | 
| PackageFileSize: 13 MiB | 
##############################################################################
##############################################################################
###
### Running command:
###
###   rm -rf IntramiRExploreR.buildbin-libdir && mkdir IntramiRExploreR.buildbin-libdir && C:\Users\biocbuild\bbs-3.11-bioc\R\bin\R.exe CMD INSTALL --merge-multiarch --build --library=IntramiRExploreR.buildbin-libdir IntramiRExploreR_1.10.0.tar.gz
###
##############################################################################
##############################################################################
install for i386
* installing *source* package 'IntramiRExploreR' ...
** using staged installation
** R
** data
*** moving datasets to lazyload DB
** inst
** byte-compile and prepare package for lazy loading
** help
*** installing help indices
  converting help for package 'IntramiRExploreR'
    finding HTML links ... done
    Affy1_Distance_Final                    html  
    Affy1_Pearson_Final                     html  
    Affy2_Distance_Final                    html  
    Affy2_Pearson_Final                     html  
    Gene_Visualisation                      html  
    GetGOS_ALL                              html  
    IntramiRExploreR                        html  
    Visualisation                           html  
    extract_HostGene                        html  
    extract_intragenic_miR                  html  
    genes_Stat                              html  
    miRNA_ID_to_Function                    html  
    miRNA_summary_DB                        html  
    miRTargets_Stat                         html  
** building package indices
** installing vignettes
** testing if installed package can be loaded from temporary location
** testing if installed package can be loaded from final location
** testing if installed package keeps a record of temporary installation path
install for x64
* installing *source* package 'IntramiRExploreR' ...
** testing if installed package can be loaded
* MD5 sums
packaged installation of 'IntramiRExploreR' as IntramiRExploreR_1.10.0.zip
* DONE (IntramiRExploreR)