| Back to Multiple platform build/check report for BioC 3.11 | 
 | 
This page was generated on 2020-10-17 11:56:53 -0400 (Sat, 17 Oct 2020).
| TO THE DEVELOPERS/MAINTAINERS OF THE InTAD PACKAGE: Please make sure to use the following settings in order to reproduce any error or warning you see on this page. | 
| Package 880/1905 | Hostname | OS / Arch | INSTALL | BUILD | CHECK | BUILD BIN | ||||||
| InTAD 1.8.0 Konstantin Okonechnikov 
 | malbec2 | Linux (Ubuntu 18.04.4 LTS) / x86_64 | OK | OK | OK |  | ||||||
| tokay2 | Windows Server 2012 R2 Standard / x64 | OK | OK | OK | [ OK ] |  | ||||||
| machv2 | macOS 10.14.6 Mojave / x86_64 | OK | OK | OK | OK |  | 
| Package: InTAD | 
| Version: 1.8.0 | 
| Command: rm -rf InTAD.buildbin-libdir && mkdir InTAD.buildbin-libdir && C:\Users\biocbuild\bbs-3.11-bioc\R\bin\R.exe CMD INSTALL --merge-multiarch --build --library=InTAD.buildbin-libdir InTAD_1.8.0.tar.gz | 
| StartedAt: 2020-10-17 10:48:53 -0400 (Sat, 17 Oct 2020) | 
| EndedAt: 2020-10-17 10:50:09 -0400 (Sat, 17 Oct 2020) | 
| EllapsedTime: 76.0 seconds | 
| RetCode: 0 | 
| Status: OK | 
| PackageFile: InTAD_1.8.0.zip | 
| PackageFileSize: 1.037 MiB | 
##############################################################################
##############################################################################
###
### Running command:
###
###   rm -rf InTAD.buildbin-libdir && mkdir InTAD.buildbin-libdir && C:\Users\biocbuild\bbs-3.11-bioc\R\bin\R.exe CMD INSTALL --merge-multiarch --build --library=InTAD.buildbin-libdir InTAD_1.8.0.tar.gz
###
##############################################################################
##############################################################################
install for i386
* installing *source* package 'InTAD' ...
** using staged installation
** R
** data
*** moving datasets to lazyload DB
** inst
** byte-compile and prepare package for lazy loading
** help
*** installing help indices
  converting help for package 'InTAD'
    finding HTML links ... done
    InTADSig                                html  
    combineInTAD                            html  
    enhSel                                  html  
    enhSelGR                                html  
    exprs                                   html  
    filterGeneExpr                          html  
    findCorrelation                         html  
    fnSE                                    html  
    geneCoords                              html  
    get.enr.bg.normfit                      html  
    loadSigInTAD                            html  
    mbAnnData                               html  
    newSigInTAD                             html  
    plotCorAcrossRef                        html  
    plotCorrelation                         html  
    rpkmCountsSel                           html  
    sigCoords                               html  
    signals                                 html  
    tadGR                                   html  
    txsSel                                  html  
** building package indices
** installing vignettes
** testing if installed package can be loaded from temporary location
** testing if installed package can be loaded from final location
** testing if installed package keeps a record of temporary installation path
install for x64
* installing *source* package 'InTAD' ...
** testing if installed package can be loaded
* MD5 sums
packaged installation of 'InTAD' as InTAD_1.8.0.zip
* DONE (InTAD)